| Back to Multiple platform build/check report for BioC 3.16: simplified long |
|
This page was generated on 2023-04-12 11:05:33 -0400 (Wed, 12 Apr 2023).
| Hostname | OS | Arch (*) | R version | Installed pkgs |
|---|---|---|---|---|
| nebbiolo2 | Linux (Ubuntu 20.04.5 LTS) | x86_64 | 4.2.3 (2023-03-15) -- "Shortstop Beagle" | 4502 |
| palomino4 | Windows Server 2022 Datacenter | x64 | 4.2.3 (2023-03-15 ucrt) -- "Shortstop Beagle" | 4282 |
| lconway | macOS 12.5.1 Monterey | x86_64 | 4.2.3 (2023-03-15) -- "Shortstop Beagle" | 4310 |
| Click on any hostname to see more info about the system (e.g. compilers) (*) as reported by 'uname -p', except on Windows and Mac OS X | ||||
|
To the developers/maintainers of the fmcsR package: - Please allow up to 24 hours (and sometimes 48 hours) for your latest push to git@git.bioconductor.org:packages/fmcsR.git to reflect on this report. See How and When does the builder pull? When will my changes propagate? for more information. - Make sure to use the following settings in order to reproduce any error or warning you see on this page. |
| Package 713/2183 | Hostname | OS / Arch | INSTALL | BUILD | CHECK | BUILD BIN | ||||||||
| fmcsR 1.40.0 (landing page) Thomas Girke
| nebbiolo2 | Linux (Ubuntu 20.04.5 LTS) / x86_64 | OK | OK | WARNINGS | |||||||||
| palomino4 | Windows Server 2022 Datacenter / x64 | OK | OK | WARNINGS | OK | |||||||||
| lconway | macOS 12.5.1 Monterey / x86_64 | OK | OK | OK | OK | |||||||||
| Package: fmcsR |
| Version: 1.40.0 |
| Command: rm -rf fmcsR.buildbin-libdir && mkdir fmcsR.buildbin-libdir && F:\biocbuild\bbs-3.16-bioc\R\bin\R.exe CMD INSTALL --build --library=fmcsR.buildbin-libdir fmcsR_1.40.0.tar.gz |
| StartedAt: 2023-04-11 08:00:56 -0400 (Tue, 11 Apr 2023) |
| EndedAt: 2023-04-11 08:01:28 -0400 (Tue, 11 Apr 2023) |
| EllapsedTime: 31.5 seconds |
| RetCode: 0 |
| Status: OK |
| PackageFile: fmcsR_1.40.0.zip |
| PackageFileSize: 928.1 KiB |
##############################################################################
##############################################################################
###
### Running command:
###
### rm -rf fmcsR.buildbin-libdir && mkdir fmcsR.buildbin-libdir && F:\biocbuild\bbs-3.16-bioc\R\bin\R.exe CMD INSTALL --build --library=fmcsR.buildbin-libdir fmcsR_1.40.0.tar.gz
###
##############################################################################
##############################################################################
* installing *source* package 'fmcsR' ...
** using staged installation
**********************************************
WARNING: this package has a configure script
It probably needs manual configuration
**********************************************
** libs
g++ -std=gnu++14 -I"F:/biocbuild/bbs-3.16-bioc/R/include" -DNDEBUG -I"C:/rtools42/x86_64-w64-mingw32.static.posix/include" -O2 -Wall -mfpmath=sse -msse2 -mstackrealign -c MCS.cpp -o MCS.o
MCS.cpp: In member function 'void FMCS::MCS::calculate()':
MCS.cpp:108:35: warning: comparison of integer expressions of different signedness: 'int' and 'size_t' {aka 'long long unsigned int'} [-Wsign-compare]
108 | for (int i = 0; i < atomCountOne; ++i) {
| ~~^~~~~~~~~~~~~~
MCS.cpp:116:35: warning: comparison of integer expressions of different signedness: 'int' and 'size_t' {aka 'long long unsigned int'} [-Wsign-compare]
116 | for (int i = 0; i < atomCountTwo; ++i) {
| ~~^~~~~~~~~~~~~~
In file included from MCSCompound.h:15,
from MCS.h:12,
from MCS.cpp:3:
MCSList.h: In instantiation of 'bool FMCS::MCSList<T>::contains(const T&) const [with T = long long unsigned int]':
MCS.cpp:381:69: required from here
MCSList.h:143:27: warning: comparison of integer expressions of different signedness: 'int' and 'const size_t' {aka 'const long long unsigned int'} [-Wsign-compare]
143 | for (int i = 0; i < length; ++i) {
| ~~^~~~~~~~
g++ -std=gnu++14 -I"F:/biocbuild/bbs-3.16-bioc/R/include" -DNDEBUG -I"C:/rtools42/x86_64-w64-mingw32.static.posix/include" -O2 -Wall -mfpmath=sse -msse2 -mstackrealign -c MCSCompound.cpp -o MCSCompound.o
In file included from MCSCompound.cpp:5:
MCSRingDetector.h: In constructor 'FMCS::MCSRingDetector::Ring::Ring(const FMCS::MCSRingDetector::Edge&, const FMCS::MCSCompound*)':
MCSRingDetector.h:86:35: warning: comparison of integer expressions of different signedness: 'int' and 'std::vector<int>::size_type' {aka 'long long unsigned int'} [-Wsign-compare]
86 | for (int i = 0; i < this->vertexPath.size(); ++i) {
| ~~^~~~~~~~~~~~~~~~~~~~~~~~~
MCSRingDetector.h: In member function 'int FMCS::MCSRingDetector::Ring::rightVertex(size_t) const':
MCSRingDetector.h:142:33: warning: comparison of integer expressions of different signedness: 'int' and 'std::vector<int>::size_type' {aka 'long long unsigned int'} [-Wsign-compare]
142 | if (vertexIndex < vertexPath.size()-1) {
| ~~~~~~~~~~~~^~~~~~~~~~~~~~~~~~~~~
MCSCompound.cpp: In copy constructor 'FMCS::MCSCompound::MCSCompound(const FMCS::MCSCompound&)':
MCSCompound.cpp:87:74: warning: 'void* memcpy(void*, const void*, size_t)' writing to an object of type 'struct FMCS::MCSCompound::Atom' with no trivial copy-assignment; use copy-assignment or copy-initialization instead [-Wclass-memaccess]
87 | memcpy(atoms, other.atoms, sizeof(Atom) * other.atomCount);
| ^
In file included from MCSCompound.cpp:4:
MCSCompound.h:26:16: note: 'struct FMCS::MCSCompound::Atom' declared here
26 | struct Atom {
| ^~~~
MCSCompound.cpp: In member function 'const FMCS::MCSCompound& FMCS::MCSCompound::operator=(const FMCS::MCSCompound&)':
MCSCompound.cpp:123:68: warning: 'void* memcpy(void*, const void*, size_t)' writing to an object of type 'struct FMCS::MCSCompound::Atom' with no trivial copy-assignment; use copy-assignment or copy-initialization instead [-Wclass-memaccess]
123 | memcpy(atoms, that.atoms, sizeof(Atom) * that.atomCount);
| ^
In file included from MCSCompound.cpp:4:
MCSCompound.h:26:16: note: 'struct FMCS::MCSCompound::Atom' declared here
26 | struct Atom {
| ^~~~
MCSCompound.cpp: In member function 'void FMCS::MCSCompound::read(const string&)':
MCSCompound.cpp:157:27: warning: comparison of integer expressions of different signedness: 'int' and 'size_t' {aka 'long long unsigned int'} [-Wsign-compare]
157 | for (int i = 0; i < bondCount; ++i) {
| ~~^~~~~~~~~~~
MCSCompound.cpp: In member function 'std::string FMCS::MCSCompound::subgraph(const size_t*, size_t, const string&) const':
MCSCompound.cpp:194:27: warning: comparison of integer expressions of different signedness: 'int' and 'size_t' {aka 'long long unsigned int'} [-Wsign-compare]
194 | for (int i = 0; i < indexLength; ++i) {
| ~~^~~~~~~~~~~~~
MCSCompound.cpp: In member function 'const FMCS::MCSCompound::Bond* FMCS::MCSCompound::getBond(size_t, size_t) const':
MCSCompound.cpp:467:26: warning: comparison of integer expressions of different signedness: 'int' and 'const size_t' {aka 'const long long unsigned int'} [-Wsign-compare]
467 | for(int i = 0; i < bondCount; ++i) {
| ~~^~~~~~~~~~~
g++ -std=gnu++14 -I"F:/biocbuild/bbs-3.16-bioc/R/include" -DNDEBUG -I"C:/rtools42/x86_64-w64-mingw32.static.posix/include" -O2 -Wall -mfpmath=sse -msse2 -mstackrealign -c MCSMap.cpp -o MCSMap.o
In file included from MCSMap.h:8,
from MCSMap.cpp:3:
MCSList.h: In instantiation of 'bool FMCS::MCSList<T>::contains(const T&) const [with T = long long unsigned int]':
MCSMap.cpp:28:36: required from here
MCSList.h:143:27: warning: comparison of integer expressions of different signedness: 'int' and 'const size_t' {aka 'const long long unsigned int'} [-Wsign-compare]
143 | for (int i = 0; i < length; ++i) {
| ~~^~~~~~~~
g++ -std=gnu++14 -I"F:/biocbuild/bbs-3.16-bioc/R/include" -DNDEBUG -I"C:/rtools42/x86_64-w64-mingw32.static.posix/include" -O2 -Wall -mfpmath=sse -msse2 -mstackrealign -c MCSRingDetector.cpp -o MCSRingDetector.o
In file included from MCSRingDetector.cpp:13:
MCSRingDetector.h: In constructor 'FMCS::MCSRingDetector::Ring::Ring(const FMCS::MCSRingDetector::Edge&, const FMCS::MCSCompound*)':
MCSRingDetector.h:86:35: warning: comparison of integer expressions of different signedness: 'int' and 'std::vector<int>::size_type' {aka 'long long unsigned int'} [-Wsign-compare]
86 | for (int i = 0; i < this->vertexPath.size(); ++i) {
| ~~^~~~~~~~~~~~~~~~~~~~~~~~~
MCSRingDetector.h: In member function 'int FMCS::MCSRingDetector::Ring::rightVertex(size_t) const':
MCSRingDetector.h:142:33: warning: comparison of integer expressions of different signedness: 'int' and 'std::vector<int>::size_type' {aka 'long long unsigned int'} [-Wsign-compare]
142 | if (vertexIndex < vertexPath.size()-1) {
| ~~~~~~~~~~~~^~~~~~~~~~~~~~~~~~~~~
MCSRingDetector.cpp: In member function 'void FMCS::MCSRingDetector::sortVertexQueue()':
MCSRingDetector.cpp:93:27: warning: comparison of integer expressions of different signedness: 'int' and 'std::vector<int>::size_type' {aka 'long long unsigned int'} [-Wsign-compare]
93 | for (int i = 0; i < vertexQueue.size(); ++i) {
| ~~^~~~~~~~~~~~~~~~~~~~
MCSRingDetector.cpp:94:31: warning: comparison of integer expressions of different signedness: 'int' and 'size_t' {aka 'long long unsigned int'} [-Wsign-compare]
94 | for (int j = 0; j < queueSize-1-i; ++j ) {
| ~~^~~~~~~~~~~~~~~
MCSRingDetector.cpp: In member function 'void FMCS::MCSRingDetector::convert()':
MCSRingDetector.cpp:149:31: warning: comparison of integer expressions of different signedness: 'int' and 'size_t' {aka 'long long unsigned int'} [-Wsign-compare]
149 | for (int j = 0; j < degree; ++j) {
| ~~^~~~~~~~
MCSRingDetector.cpp: In member function 'void FMCS::MCSRingDetector::detect()':
MCSRingDetector.cpp:175:13: warning: unused variable 'aromaticCount' [-Wunused-variable]
175 | int aromaticCount = 0;
| ^~~~~~~~~~~~~
MCSRingDetector.cpp: In member function 'bool FMCS::MCSRingDetector::Ring::isSp2Hybridized(size_t, int, bool&) const':
MCSRingDetector.cpp:194:19: warning: comparison of integer expressions of different signedness: 'int' and 'std::vector<int>::size_type' {aka 'long long unsigned int'} [-Wsign-compare]
194 | if (level > vertexPath.size()) {
| ~~~~~~^~~~~~~~~~~~~~~~~~~
g++ -std=gnu++14 -I"F:/biocbuild/bbs-3.16-bioc/R/include" -DNDEBUG -I"C:/rtools42/x86_64-w64-mingw32.static.posix/include" -O2 -Wall -mfpmath=sse -msse2 -mstackrealign -c fmcs_R_wrap.cpp -o fmcs_R_wrap.o
fmcs_R_wrap.cpp: In function 'void fmcs_R_wrap(const char**, const char**, int*, int*, int*, int*, int*, int*, int*, const char**, const char**, const char**, const char**, const char**)':
fmcs_R_wrap.cpp:74:45: warning: 'runningMode' may be used uninitialized in this function [-Wmaybe-uninitialized]
74 | matchType, runningMode, *timeout);
| ^
fmcs_R_wrap.cpp:74:45: warning: 'matchType' may be used uninitialized in this function [-Wmaybe-uninitialized]
g++ -std=gnu++14 -I"F:/biocbuild/bbs-3.16-bioc/R/include" -DNDEBUG -I"C:/rtools42/x86_64-w64-mingw32.static.posix/include" -O2 -Wall -mfpmath=sse -msse2 -mstackrealign -c util.cpp -o util.o
util.cpp: In function 'std::string getUpper(const string&)':
util.cpp:11:23: warning: comparison of integer expressions of different signedness: 'int' and 'std::__cxx11::basic_string<char>::size_type' {aka 'long long unsigned int'} [-Wsign-compare]
11 | for (int i = 0; i < upper.length(); ++i) {
| ~~^~~~~~~~~~~~~~~~
g++ -std=gnu++14 -shared -s -static-libgcc -o fmcsR.dll tmp.def MCS.o MCSCompound.o MCSMap.o MCSRingDetector.o fmcs_R_wrap.o util.o -LC:/rtools42/x86_64-w64-mingw32.static.posix/lib/x64 -LC:/rtools42/x86_64-w64-mingw32.static.posix/lib -LF:/biocbuild/bbs-3.16-bioc/R/bin/x64 -lR
installing to F:/biocbuild/bbs-3.16-bioc/meat/fmcsR.buildbin-libdir/00LOCK-fmcsR/00new/fmcsR/libs/x64
** R
** data
** inst
** byte-compile and prepare package for lazy loading
** help
*** installing help indices
** building package indices
** installing vignettes
** testing if installed package can be loaded from temporary location
** testing if installed package can be loaded from final location
** testing if installed package keeps a record of temporary installation path
* MD5 sums
packaged installation of 'fmcsR' as fmcsR_1.40.0.zip
* DONE (fmcsR)