| Back to Multiple platform build/check report for BioC 3.16: simplified long | 
 | 
This page was generated on 2023-04-12 11:06:07 -0400 (Wed, 12 Apr 2023).
| Hostname | OS | Arch (*) | R version | Installed pkgs | 
|---|---|---|---|---|
| nebbiolo2 | Linux (Ubuntu 20.04.5 LTS) | x86_64 | 4.2.3 (2023-03-15) -- "Shortstop Beagle" | 4502 | 
| palomino4 | Windows Server 2022 Datacenter | x64 | 4.2.3 (2023-03-15 ucrt) -- "Shortstop Beagle" | 4282 | 
| lconway | macOS 12.5.1 Monterey | x86_64 | 4.2.3 (2023-03-15) -- "Shortstop Beagle" | 4310 | 
| Click on any hostname to see more info about the system (e.g. compilers) (*) as reported by 'uname -p', except on Windows and Mac OS X | ||||
| To the developers/maintainers of the flowTime package: - Please allow up to 24 hours (and sometimes 48 hours) for your latest push to git@git.bioconductor.org:packages/flowTime.git to reflect on this report. See How and When does the builder pull? When will my changes propagate? for more information. - Make sure to use the following settings in order to reproduce any error or warning you see on this page. | 
| Package 707/2183 | Hostname | OS / Arch | INSTALL | BUILD | CHECK | BUILD BIN | ||||||||
| flowTime 1.22.2  (landing page) R. Clay Wright 
 | nebbiolo2 | Linux (Ubuntu 20.04.5 LTS) / x86_64 | OK | OK | OK |  | ||||||||
| palomino4 | Windows Server 2022 Datacenter / x64 | OK | OK | OK | OK |  | ||||||||
| lconway | macOS 12.5.1 Monterey / x86_64 | OK | OK | OK | OK |  | ||||||||
| Package: flowTime | 
| Version: 1.22.2 | 
| Command: rm -rf flowTime.buildbin-libdir && mkdir flowTime.buildbin-libdir && /Users/biocbuild/BBS/utils/build-universal.sh flowTime_1.22.2.tar.gz /Library/Frameworks/R.framework/Resources/bin/R flowTime.buildbin-libdir | 
| StartedAt: 2023-04-10 23:44:03 -0400 (Mon, 10 Apr 2023) | 
| EndedAt: 2023-04-10 23:44:15 -0400 (Mon, 10 Apr 2023) | 
| EllapsedTime: 12.6 seconds | 
| RetCode: 0 | 
| Status: OK | 
| PackageFile: flowTime_1.22.2.tgz | 
| PackageFileSize: 2.202 MiB | 
############################################################################## ############################################################################## ### ### Running command: ### ### rm -rf flowTime.buildbin-libdir && mkdir flowTime.buildbin-libdir && /Users/biocbuild/BBS/utils/build-universal.sh flowTime_1.22.2.tar.gz /Library/Frameworks/R.framework/Resources/bin/R flowTime.buildbin-libdir ### ############################################################################## ############################################################################## >>>>>>> >>>>>>> INSTALLATION WITH 'R CMD INSTALL --preclean --no-multiarch --library=flowTime.buildbin-libdir flowTime_1.22.2.tar.gz' >>>>>>> * installing *source* package ‘flowTime’ ... ** using staged installation ** R ** data *** moving datasets to lazyload DB ** inst ** byte-compile and prepare package for lazy loading ** help *** installing help indices ** building package indices ** installing vignettes ** testing if installed package can be loaded from temporary location ** testing if installed package can be loaded from final location ** testing if installed package keeps a record of temporary installation path * DONE (flowTime)