| Back to Multiple platform build/check report for BioC 3.16: simplified long |
|
This page was generated on 2023-04-12 11:05:04 -0400 (Wed, 12 Apr 2023).
| Hostname | OS | Arch (*) | R version | Installed pkgs |
|---|---|---|---|---|
| nebbiolo2 | Linux (Ubuntu 20.04.5 LTS) | x86_64 | 4.2.3 (2023-03-15) -- "Shortstop Beagle" | 4502 |
| palomino4 | Windows Server 2022 Datacenter | x64 | 4.2.3 (2023-03-15 ucrt) -- "Shortstop Beagle" | 4282 |
| lconway | macOS 12.5.1 Monterey | x86_64 | 4.2.3 (2023-03-15) -- "Shortstop Beagle" | 4310 |
| Click on any hostname to see more info about the system (e.g. compilers) (*) as reported by 'uname -p', except on Windows and Mac OS X | ||||
|
To the developers/maintainers of the flowPloidy package: - Please allow up to 24 hours (and sometimes 48 hours) for your latest push to git@git.bioconductor.org:packages/flowPloidy.git to reflect on this report. See How and When does the builder pull? When will my changes propagate? for more information. - Make sure to use the following settings in order to reproduce any error or warning you see on this page. |
| Package 702/2183 | Hostname | OS / Arch | INSTALL | BUILD | CHECK | BUILD BIN | ||||||||
| flowPloidy 1.24.0 (landing page) Tyler Smith
| nebbiolo2 | Linux (Ubuntu 20.04.5 LTS) / x86_64 | OK | OK | OK | |||||||||
| palomino4 | Windows Server 2022 Datacenter / x64 | OK | OK | OK | OK | |||||||||
| lconway | macOS 12.5.1 Monterey / x86_64 | OK | OK | OK | OK | |||||||||
| Package: flowPloidy |
| Version: 1.24.0 |
| Command: /home/biocbuild/bbs-3.16-bioc/R/bin/R CMD check --install=check:flowPloidy.install-out.txt --library=/home/biocbuild/bbs-3.16-bioc/R/site-library --timings flowPloidy_1.24.0.tar.gz |
| StartedAt: 2023-04-10 20:45:51 -0400 (Mon, 10 Apr 2023) |
| EndedAt: 2023-04-10 20:47:25 -0400 (Mon, 10 Apr 2023) |
| EllapsedTime: 94.0 seconds |
| RetCode: 0 |
| Status: OK |
| CheckDir: flowPloidy.Rcheck |
| Warnings: 0 |
############################################################################## ############################################################################## ### ### Running command: ### ### /home/biocbuild/bbs-3.16-bioc/R/bin/R CMD check --install=check:flowPloidy.install-out.txt --library=/home/biocbuild/bbs-3.16-bioc/R/site-library --timings flowPloidy_1.24.0.tar.gz ### ############################################################################## ############################################################################## * using log directory ‘/home/biocbuild/bbs-3.16-bioc/meat/flowPloidy.Rcheck’ * using R version 4.2.3 (2023-03-15) * using platform: x86_64-pc-linux-gnu (64-bit) * using session charset: UTF-8 * checking for file ‘flowPloidy/DESCRIPTION’ ... OK * this is package ‘flowPloidy’ version ‘1.24.0’ * checking package namespace information ... OK * checking package dependencies ... OK * checking if this is a source package ... OK * checking if there is a namespace ... OK * checking for hidden files and directories ... OK * checking for portable file names ... OK * checking for sufficient/correct file permissions ... OK * checking whether package ‘flowPloidy’ can be installed ... OK * checking installed package size ... OK * checking package directory ... OK * checking ‘build’ directory ... OK * checking DESCRIPTION meta-information ... OK * checking top-level files ... OK * checking for left-over files ... OK * checking index information ... OK * checking package subdirectories ... OK * checking R files for non-ASCII characters ... OK * checking R files for syntax errors ... OK * checking whether the package can be loaded ... OK * checking whether the package can be loaded with stated dependencies ... OK * checking whether the package can be unloaded cleanly ... OK * checking whether the namespace can be loaded with stated dependencies ... OK * checking whether the namespace can be unloaded cleanly ... OK * checking loading without being on the library search path ... OK * checking dependencies in R code ... OK * checking S3 generic/method consistency ... OK * checking replacement functions ... OK * checking foreign function calls ... OK * checking R code for possible problems ... OK * checking Rd files ... OK * checking Rd metadata ... OK * checking Rd cross-references ... OK * checking for missing documentation entries ... OK * checking for code/documentation mismatches ... OK * checking Rd \usage sections ... OK * checking Rd contents ... OK * checking for unstated dependencies in examples ... OK * checking files in ‘vignettes’ ... OK * checking examples ... OK * checking for unstated dependencies in ‘tests’ ... OK * checking tests ... Running ‘testthat.R’ OK * checking for unstated dependencies in vignettes ... OK * checking package vignettes in ‘inst/doc’ ... OK * checking running R code from vignettes ... ‘flowPloidy-gettingStarted.Rmd’... OK ‘histogram-tour.Rmd’... OK NONE * checking re-building of vignette outputs ... OK * checking PDF version of manual ... OK * DONE Status: OK
flowPloidy.Rcheck/00install.out
############################################################################## ############################################################################## ### ### Running command: ### ### /home/biocbuild/bbs-3.16-bioc/R/bin/R CMD INSTALL flowPloidy ### ############################################################################## ############################################################################## * installing to library ‘/home/biocbuild/bbs-3.16-bioc/R/site-library’ * installing *source* package ‘flowPloidy’ ... ** using staged installation ** R ** inst ** byte-compile and prepare package for lazy loading ** help *** installing help indices ** building package indices ** installing vignettes ** testing if installed package can be loaded from temporary location ** testing if installed package can be loaded from final location ** testing if installed package keeps a record of temporary installation path * DONE (flowPloidy)
flowPloidy.Rcheck/tests/testthat.Rout
R version 4.2.3 (2023-03-15) -- "Shortstop Beagle"
Copyright (C) 2023 The R Foundation for Statistical Computing
Platform: x86_64-pc-linux-gnu (64-bit)
R is free software and comes with ABSOLUTELY NO WARRANTY.
You are welcome to redistribute it under certain conditions.
Type 'license()' or 'licence()' for distribution details.
R is a collaborative project with many contributors.
Type 'contributors()' for more information and
'citation()' on how to cite R or R packages in publications.
Type 'demo()' for some demos, 'help()' for on-line help, or
'help.start()' for an HTML browser interface to help.
Type 'q()' to quit R.
> library(testthat)
> library(flowPloidy)
>
> test_check("flowPloidy")
FlowHist object '188-15.LMD'
channel: FL3.INT.LIN
2 samples
bins: 256
linearity: variable
debris: SC
7 model components: a1, a2, a_s, b1, b_s, SC, AG
12 parameters: a1P, a_mean, a_stddev, a2P, linearity, a_sP, b1P, b_mean, b_stddev, b_sP, SCaP, AP
5 special parameters: xx, SCvals, DBvals, TRvals, QDvals
Model fit
Analysis
========
Counts
------
a1_count a2_count a_s_count b1_count b_s_count
1442.99 336.58 0.00 2820.64 405.87
Peak Sizes
----------
a_mean b_mean
99.04 136.12
CVs
---
a_CV b_CV
2.2 2.0
RCS: 1.589
FlowHist object '222.LMD'
channel: FL3.INT.LIN
2 samples
bins: 256
linearity: variable
debris: SC
8 model components: a1, a2, a_s, b1, b2, b_s, SC, AG
13 parameters: a1P, a_mean, a_stddev, a2P, linearity, a_sP, b1P, b_mean, b_stddev, b2P, b_sP, SCaP, AP
5 special parameters: xx, SCvals, DBvals, TRvals, QDvals
Model fitting not complete
RCS: NA
FlowHist object '240+S.LMD'
channel: FL3.INT.LIN
2 samples
bins: 256
linearity: variable
debris: MC
7 model components: a1, a2, a_s, b1, b_s, MC, AG
13 parameters: a1P, a_mean, a_stddev, a2P, linearity, a_sP, b1P, b_mean, b_stddev, b_sP, MCaP, k, AP
5 special parameters: xx, MCvals, DBvals, TRvals, QDvals
Model fit
Analysis
========
Counts
------
a1_count a2_count a_s_count b1_count b_s_count
664.23 0.00 195.73 3269.65 0.00
Peak Sizes
----------
a_mean b_mean
77.10 160.79
CVs
---
a_CV b_CV
4.8 7.7
RCS: 2.22
FlowHist object '08.328'
channel: FL2.A
2 samples
bins: 256
linearity: variable
debris: SC
0 model components:
0 parameters:
0 special parameters:
Model fitting not complete
RCS: NA
[ FAIL 0 | WARN 0 | SKIP 0 | PASS 26 ]
>
> proc.time()
user system elapsed
3.140 0.235 3.362
flowPloidy.Rcheck/flowPloidy-Ex.timings
| name | user | system | elapsed | |
| DebrisModels | 0 | 0 | 0 | |
| FlowHist | 1.762 | 0.008 | 1.782 | |
| FlowStandards | 0.106 | 0.000 | 0.107 | |
| ModelComponent | 0.000 | 0.002 | 0.001 | |
| browseFlowHist | 1.479 | 0.010 | 1.489 | |
| fhAccessors | 0.099 | 0.000 | 0.099 | |
| fhAnalyze | 0.175 | 0.000 | 0.175 | |
| findPeaks | 0 | 0 | 0 | |
| pickInit | 0.144 | 0.004 | 0.148 | |
| plotFH | 0.097 | 0.024 | 0.122 | |
| setBins | 0.150 | 0.000 | 0.149 | |
| tabulateFlowHist | 0.17 | 0.00 | 0.17 | |
| updateFlowHist | 0.229 | 0.000 | 0.228 | |
| viewFlowChannels | 0.02 | 0.00 | 0.02 | |