| Back to Multiple platform build/check report for BioC 3.16: simplified long |
|
This page was generated on 2023-04-12 11:05:04 -0400 (Wed, 12 Apr 2023).
| Hostname | OS | Arch (*) | R version | Installed pkgs |
|---|---|---|---|---|
| nebbiolo2 | Linux (Ubuntu 20.04.5 LTS) | x86_64 | 4.2.3 (2023-03-15) -- "Shortstop Beagle" | 4502 |
| palomino4 | Windows Server 2022 Datacenter | x64 | 4.2.3 (2023-03-15 ucrt) -- "Shortstop Beagle" | 4282 |
| lconway | macOS 12.5.1 Monterey | x86_64 | 4.2.3 (2023-03-15) -- "Shortstop Beagle" | 4310 |
| Click on any hostname to see more info about the system (e.g. compilers) (*) as reported by 'uname -p', except on Windows and Mac OS X | ||||
|
To the developers/maintainers of the flowPeaks package: - Please allow up to 24 hours (and sometimes 48 hours) for your latest push to git@git.bioconductor.org:packages/flowPeaks.git to reflect on this report. See How and When does the builder pull? When will my changes propagate? for more information. - Make sure to use the following settings in order to reproduce any error or warning you see on this page. |
| Package 701/2183 | Hostname | OS / Arch | INSTALL | BUILD | CHECK | BUILD BIN | ||||||||
| flowPeaks 1.44.0 (landing page) Yongchao Ge
| nebbiolo2 | Linux (Ubuntu 20.04.5 LTS) / x86_64 | OK | OK | OK | |||||||||
| palomino4 | Windows Server 2022 Datacenter / x64 | OK | OK | OK | OK | |||||||||
| lconway | macOS 12.5.1 Monterey / x86_64 | OK | OK | WARNINGS | OK | |||||||||
| Package: flowPeaks |
| Version: 1.44.0 |
| Command: /home/biocbuild/bbs-3.16-bioc/R/bin/R CMD check --install=check:flowPeaks.install-out.txt --library=/home/biocbuild/bbs-3.16-bioc/R/site-library --timings flowPeaks_1.44.0.tar.gz |
| StartedAt: 2023-04-10 20:45:50 -0400 (Mon, 10 Apr 2023) |
| EndedAt: 2023-04-10 20:46:35 -0400 (Mon, 10 Apr 2023) |
| EllapsedTime: 44.3 seconds |
| RetCode: 0 |
| Status: OK |
| CheckDir: flowPeaks.Rcheck |
| Warnings: 0 |
##############################################################################
##############################################################################
###
### Running command:
###
### /home/biocbuild/bbs-3.16-bioc/R/bin/R CMD check --install=check:flowPeaks.install-out.txt --library=/home/biocbuild/bbs-3.16-bioc/R/site-library --timings flowPeaks_1.44.0.tar.gz
###
##############################################################################
##############################################################################
* using log directory ‘/home/biocbuild/bbs-3.16-bioc/meat/flowPeaks.Rcheck’
* using R version 4.2.3 (2023-03-15)
* using platform: x86_64-pc-linux-gnu (64-bit)
* using session charset: UTF-8
* checking for file ‘flowPeaks/DESCRIPTION’ ... OK
* this is package ‘flowPeaks’ version ‘1.44.0’
* checking package namespace information ... OK
* checking package dependencies ... OK
* checking if this is a source package ... OK
* checking if there is a namespace ... OK
* checking for hidden files and directories ... OK
* checking for portable file names ... OK
* checking for sufficient/correct file permissions ... OK
* checking whether package ‘flowPeaks’ can be installed ... OK
* checking installed package size ... OK
* checking package directory ... OK
* checking ‘build’ directory ... OK
* checking DESCRIPTION meta-information ... OK
* checking top-level files ... OK
* checking for left-over files ... OK
* checking index information ... OK
* checking package subdirectories ... OK
* checking R files for non-ASCII characters ... OK
* checking R files for syntax errors ... OK
* checking whether the package can be loaded ... OK
* checking whether the package can be loaded with stated dependencies ... OK
* checking whether the package can be unloaded cleanly ... OK
* checking whether the namespace can be loaded with stated dependencies ... OK
* checking whether the namespace can be unloaded cleanly ... OK
* checking loading without being on the library search path ... OK
* checking dependencies in R code ... OK
* checking S3 generic/method consistency ... OK
* checking replacement functions ... OK
* checking foreign function calls ... NOTE
Call with DUP:
.C("Rpack_kmeans", as.double(t(data.matrix(x))), as.integer(n),
as.integer(p), as.integer(K), cluster = integer(n), m = double(K *
p), nc = integer(K), S = double(K * p * p), Nb = integer(K *
K), twss = double(1), as.double(stime), DUP = FALSE,
PACKAGE = "flowPeaks")
DUP is no longer supported and will be ignored.
* checking R code for possible problems ... NOTE
getS0K : <anonymous>: no visible global function definition for
‘nclass.FD’
getS0K: no visible global function definition for ‘median’
plot.flowPeaks: no visible global function definition for ‘hist’
plot.flowPeaks: no visible global function definition for ‘points’
plot.flowPeaks: no visible global function definition for ‘text’
plot.flowPeaks: no visible global function definition for ‘par’
plot.flowPeaks: no visible global function definition for ‘segments’
traditional.kmeans: no visible global function definition for ‘kmeans’
traditional.kmeans: no visible global function definition for ‘var’
Undefined global functions or variables:
hist kmeans median nclass.FD par points segments text var
Consider adding
importFrom("grDevices", "nclass.FD")
importFrom("graphics", "hist", "par", "points", "segments", "text")
importFrom("stats", "kmeans", "median", "var")
to your NAMESPACE file.
* checking Rd files ... OK
* checking Rd metadata ... OK
* checking Rd cross-references ... OK
* checking for missing documentation entries ... OK
* checking for code/documentation mismatches ... OK
* checking Rd \usage sections ... OK
* checking Rd contents ... OK
* checking for unstated dependencies in examples ... OK
* checking contents of ‘data’ directory ... OK
* checking data for non-ASCII characters ... OK
* checking data for ASCII and uncompressed saves ... OK
* checking line endings in C/C++/Fortran sources/headers ... OK
* checking line endings in Makefiles ... OK
* checking compilation flags in Makevars ... OK
* checking for GNU extensions in Makefiles ... OK
* checking for portable use of $(BLAS_LIBS) and $(LAPACK_LIBS) ... OK
* checking use of PKG_*FLAGS in Makefiles ... OK
* checking compiled code ... NOTE
Note: information on .o files is not available
* checking files in ‘vignettes’ ... OK
* checking examples ... OK
* checking for unstated dependencies in vignettes ... OK
* checking package vignettes in ‘inst/doc’ ... OK
* checking running R code from vignettes ...
‘flowPeaks-guide.Rnw’... OK
OK
* checking re-building of vignette outputs ... OK
* checking PDF version of manual ... OK
* DONE
Status: 3 NOTEs
See
‘/home/biocbuild/bbs-3.16-bioc/meat/flowPeaks.Rcheck/00check.log’
for details.
flowPeaks.Rcheck/00install.out
##############################################################################
##############################################################################
###
### Running command:
###
### /home/biocbuild/bbs-3.16-bioc/R/bin/R CMD INSTALL flowPeaks
###
##############################################################################
##############################################################################
* installing to library ‘/home/biocbuild/bbs-3.16-bioc/R/site-library’
* installing *source* package ‘flowPeaks’ ...
** using staged installation
** libs
g++ -std=gnu++14 -I"/home/biocbuild/bbs-3.16-bioc/R/include" -DNDEBUG -I/usr/local/include `gsl-config --cflags` -fpic -g -O2 -Wall -c Rpack.cpp -o Rpack.o
Rpack.cpp: In function ‘void Rpack_relevel(int*, int*, int*, int*, int*, int*)’:
Rpack.cpp:141:18: warning: comparison of integer expressions of different signedness: ‘std::map<int, int>::size_type’ {aka ‘long unsigned int’} and ‘int’ [-Wsign-compare]
141 | if(levels.size()<(i+1)){
| ~~~~~~~~~~~~~^~~~~~
g++ -std=gnu++14 -I"/home/biocbuild/bbs-3.16-bioc/R/include" -DNDEBUG -I/usr/local/include `gsl-config --cflags` -fpic -g -O2 -Wall -c Rregistrate.cpp -o Rregistrate.o
g++ -std=gnu++14 -I"/home/biocbuild/bbs-3.16-bioc/R/include" -DNDEBUG -I/usr/local/include `gsl-config --cflags` -fpic -g -O2 -Wall -c VoronoiDiagramGenerator.cpp -o VoronoiDiagramGenerator.o
VoronoiDiagramGenerator.cpp: In member function ‘void VoronoiDiagramGenerator::out_site(Site*)’:
VoronoiDiagramGenerator.cpp:803:5: warning: suggest parentheses around operand of ‘!’ or change ‘&’ to ‘&&’ or ‘!’ to ‘~’ [-Wparentheses]
803 | if(!triangulate & plot & !debug)
| ^~~~~~~~~~~~
g++ -std=gnu++14 -I"/home/biocbuild/bbs-3.16-bioc/R/include" -DNDEBUG -I/usr/local/include `gsl-config --cflags` -fpic -g -O2 -Wall -c flowPeaks.cpp -o flowPeaks.o
g++ -std=gnu++14 -I"/home/biocbuild/bbs-3.16-bioc/R/include" -DNDEBUG -I/usr/local/include `gsl-config --cflags` -fpic -g -O2 -Wall -c func_collect.cpp -o func_collect.o
g++ -std=gnu++14 -I"/home/biocbuild/bbs-3.16-bioc/R/include" -DNDEBUG -I/usr/local/include `gsl-config --cflags` -fpic -g -O2 -Wall -c func_collect_supp.cpp -o func_collect_supp.o
g++ -std=gnu++14 -I"/home/biocbuild/bbs-3.16-bioc/R/include" -DNDEBUG -I/usr/local/include `gsl-config --cflags` -fpic -g -O2 -Wall -c gvector_gmatrix.cpp -o gvector_gmatrix.o
g++ -std=gnu++14 -I"/home/biocbuild/bbs-3.16-bioc/R/include" -DNDEBUG -I/usr/local/include `gsl-config --cflags` -fpic -g -O2 -Wall -c kd_tree.cpp -o kd_tree.o
g++ -std=gnu++14 -I"/home/biocbuild/bbs-3.16-bioc/R/include" -DNDEBUG -I/usr/local/include `gsl-config --cflags` -fpic -g -O2 -Wall -c kmns.cpp -o kmns.o
g++ -std=gnu++14 -shared -L/home/biocbuild/bbs-3.16-bioc/R/lib -L/usr/local/lib -o flowPeaks.so Rpack.o Rregistrate.o VoronoiDiagramGenerator.o flowPeaks.o func_collect.o func_collect_supp.o gvector_gmatrix.o kd_tree.o kmns.o -L/usr/lib/x86_64-linux-gnu -lgsl -lgslcblas -lm -L/home/biocbuild/bbs-3.16-bioc/R/lib -lR
installing to /home/biocbuild/bbs-3.16-bioc/R/site-library/00LOCK-flowPeaks/00new/flowPeaks/libs
** R
** data
** inst
** byte-compile and prepare package for lazy loading
** help
*** installing help indices
** building package indices
** installing vignettes
** testing if installed package can be loaded from temporary location
** checking absolute paths in shared objects and dynamic libraries
** testing if installed package can be loaded from final location
** testing if installed package keeps a record of temporary installation path
* DONE (flowPeaks)
flowPeaks.Rcheck/flowPeaks-Ex.timings
| name | user | system | elapsed | |
| flowPeaks | 1.96 | 0.06 | 2.02 | |