| Back to Multiple platform build/check report for BioC 3.16: simplified long |
|
This page was generated on 2023-04-12 11:05:33 -0400 (Wed, 12 Apr 2023).
| Hostname | OS | Arch (*) | R version | Installed pkgs |
|---|---|---|---|---|
| nebbiolo2 | Linux (Ubuntu 20.04.5 LTS) | x86_64 | 4.2.3 (2023-03-15) -- "Shortstop Beagle" | 4502 |
| palomino4 | Windows Server 2022 Datacenter | x64 | 4.2.3 (2023-03-15 ucrt) -- "Shortstop Beagle" | 4282 |
| lconway | macOS 12.5.1 Monterey | x86_64 | 4.2.3 (2023-03-15) -- "Shortstop Beagle" | 4310 |
| Click on any hostname to see more info about the system (e.g. compilers) (*) as reported by 'uname -p', except on Windows and Mac OS X | ||||
|
To the developers/maintainers of the flowClust package: - Please allow up to 24 hours (and sometimes 48 hours) for your latest push to git@git.bioconductor.org:packages/flowClust.git to reflect on this report. See How and When does the builder pull? When will my changes propagate? for more information. - Make sure to use the following settings in order to reproduce any error or warning you see on this page. |
| Package 690/2183 | Hostname | OS / Arch | INSTALL | BUILD | CHECK | BUILD BIN | ||||||||
| flowClust 3.36.1 (landing page) Greg Finak
| nebbiolo2 | Linux (Ubuntu 20.04.5 LTS) / x86_64 | OK | OK | WARNINGS | |||||||||
| palomino4 | Windows Server 2022 Datacenter / x64 | OK | OK | WARNINGS | OK | |||||||||
| lconway | macOS 12.5.1 Monterey / x86_64 | OK | OK | WARNINGS | OK | |||||||||
| Package: flowClust |
| Version: 3.36.1 |
| Command: rm -rf flowClust.buildbin-libdir && mkdir flowClust.buildbin-libdir && F:\biocbuild\bbs-3.16-bioc\R\bin\R.exe CMD INSTALL --build --library=flowClust.buildbin-libdir flowClust_3.36.1.tar.gz |
| StartedAt: 2023-04-11 08:00:09 -0400 (Tue, 11 Apr 2023) |
| EndedAt: 2023-04-11 08:00:43 -0400 (Tue, 11 Apr 2023) |
| EllapsedTime: 33.9 seconds |
| RetCode: 0 |
| Status: OK |
| PackageFile: flowClust_3.36.1.zip |
| PackageFileSize: 861.1 KiB |
##############################################################################
##############################################################################
###
### Running command:
###
### rm -rf flowClust.buildbin-libdir && mkdir flowClust.buildbin-libdir && F:\biocbuild\bbs-3.16-bioc\R\bin\R.exe CMD INSTALL --build --library=flowClust.buildbin-libdir flowClust_3.36.1.tar.gz
###
##############################################################################
##############################################################################
* installing *source* package 'flowClust' ...
** using staged installation
**********************************************
WARNING: this package has a configure script
It probably needs manual configuration
**********************************************
** libs
rm -f BoxCox.o BoxCoxPriors.o Nu.o flowClust.o flowClustGaussian.o ranMVNT.o flowClust.dll
gcc -I"F:/biocbuild/bbs-3.16-bioc/R/include" -DNDEBUG -I/src/include -I"C:/rtools42/x86_64-w64-mingw32.static.posix/include" -O2 -Wall -std=gnu99 -mfpmath=sse -msse2 -mstackrealign -c BoxCox.c -o BoxCox.o
gcc -I"F:/biocbuild/bbs-3.16-bioc/R/include" -DNDEBUG -I/src/include -I"C:/rtools42/x86_64-w64-mingw32.static.posix/include" -O2 -Wall -std=gnu99 -mfpmath=sse -msse2 -mstackrealign -c BoxCoxPriors.c -o BoxCoxPriors.o
BoxCoxPriors.c: In function 'BoxCoxGradientPriors':
BoxCoxPriors.c:57:16: warning: unused variable 'rowZ' [-Wunused-variable]
57 | rowPrecision, rowZ, rowLambda0;
| ^~~~
BoxCoxPriors.c:33:24: warning: unused variable 'kappa0' [-Wunused-variable]
33 | double *nu0 = p->nu0, kappa0 = p->kappa0;
| ^~~~~~
BoxCoxPriors.c:32:7: warning: unused variable 'itersolve' [-Wunused-variable]
32 | int *itersolve = p->itersolve;
| ^~~~~~~~~
BoxCoxPriors.c:31:6: warning: unused variable 'iter' [-Wunused-variable]
31 | int iter = p->iter;
| ^~~~
BoxCoxPriors.c:28:6: warning: unused variable 'model' [-Wunused-variable]
28 | int model = *p->model;
| ^~~~~
BoxCoxPriors.c:23:14: warning: unused variable 'SumZlogY' [-Wunused-variable]
23 | gsl_vector *SumZlogY = p->SumZlogY;
| ^~~~~~~~
BoxCoxPriors.c:15:14: warning: unused variable 'Precision' [-Wunused-variable]
15 | gsl_matrix *Precision = p->Precision; // will be updated
| ^~~~~~~~~
gcc -I"F:/biocbuild/bbs-3.16-bioc/R/include" -DNDEBUG -I/src/include -I"C:/rtools42/x86_64-w64-mingw32.static.posix/include" -O2 -Wall -std=gnu99 -mfpmath=sse -msse2 -mstackrealign -c Nu.c -o Nu.o
gcc -I"F:/biocbuild/bbs-3.16-bioc/R/include" -DNDEBUG -I/src/include -I"C:/rtools42/x86_64-w64-mingw32.static.posix/include" -O2 -Wall -std=gnu99 -mfpmath=sse -msse2 -mstackrealign -c flowClust.c -o flowClust.o
flowClust.c: In function 'flowClust':
flowClust.c:48:2: warning: unused variable 'matrixZUY2' [-Wunused-variable]
48 | matrixZUY2;
| ^~~~~~~~~~
flowClust.c:46:48: warning: unused variable 'subRowZUY2' [-Wunused-variable]
46 | rowYTransS, rowZUY, subRowZUY, rowZ, rowZUY2, subRowZUY2;
| ^~~~~~~~~~
flowClust.c:46:39: warning: unused variable 'rowZUY2' [-Wunused-variable]
46 | rowYTransS, rowZUY, subRowZUY, rowZ, rowZUY2, subRowZUY2;
| ^~~~~~~
flowClust.c: In function 'ECMUpdateSigmaG2':
flowClust.c:1111:6: warning: unused variable 'i' [-Wunused-variable]
1111 | int i=0;
| ^
At top level:
flowClust.c:10:27: warning: 'CEntries' defined but not used [-Wunused-const-variable=]
10 | static const R_CMethodDef CEntries[] = { { "flowClust", (DL_FUNC) & flowClust,
| ^~~~~~~~
flowClust.c: In function 'flowClust':
flowClust.c:702:13: warning: 's3' may be used uninitialized in this function [-Wmaybe-uninitialized]
702 | status = gsl_min_fminimizer_set(s3, &F3, *nu, *nuLow, *nuUp);
| ^~~~~~~~~~~~~~~~~~~~~~~~~~~~~~~~~~~~~~~~~~~~~~~~~~~
flowClust.c:647:15: warning: 's2' may be used uninitialized in this function [-Wmaybe-uninitialized]
647 | nu_hi = gsl_root_fsolver_x_upper(s2);
| ^~~~~~~~~~~~~~~~~~~~~~~~~~~~
flowClust.c:348:14: warning: 's' may be used uninitialized in this function [-Wmaybe-uninitialized]
348 | x_hi = gsl_root_fsolver_x_upper(s);
| ^~~~~~~~~~~~~~~~~~~~~~~~~~~
gcc -I"F:/biocbuild/bbs-3.16-bioc/R/include" -DNDEBUG -I/src/include -I"C:/rtools42/x86_64-w64-mingw32.static.posix/include" -O2 -Wall -std=gnu99 -mfpmath=sse -msse2 -mstackrealign -c flowClustGaussian.c -o flowClustGaussian.o
flowClustGaussian.c: In function 'flowClustGaussian':
flowClustGaussian.c:207:14: warning: 's' may be used uninitialized in this function [-Wmaybe-uninitialized]
207 | x_hi = gsl_root_fsolver_x_upper(s);
| ^~~~~~~~~~~~~~~~~~~~~~~~~~~
gcc -I"F:/biocbuild/bbs-3.16-bioc/R/include" -DNDEBUG -I/src/include -I"C:/rtools42/x86_64-w64-mingw32.static.posix/include" -O2 -Wall -std=gnu99 -mfpmath=sse -msse2 -mstackrealign -c ranMVNT.c -o ranMVNT.o
gcc -shared -s -static-libgcc -o flowClust.dll tmp.def BoxCox.o BoxCoxPriors.o Nu.o flowClust.o flowClustGaussian.o ranMVNT.o -lgsl -lgslcblas -lm -LC:/rtools42/x86_64-w64-mingw32.static.posix/lib/x64 -LC:/rtools42/x86_64-w64-mingw32.static.posix/lib -LF:/biocbuild/bbs-3.16-bioc/R/bin/x64 -lR
installing to F:/biocbuild/bbs-3.16-bioc/meat/flowClust.buildbin-libdir/00LOCK-flowClust/00new/flowClust/libs/x64
** R
** data
** inst
** byte-compile and prepare package for lazy loading
Creating a new generic function for 'Map' in package 'flowClust'
** help
*** installing help indices
** building package indices
** installing vignettes
** testing if installed package can be loaded from temporary location
** testing if installed package can be loaded from final location
** testing if installed package keeps a record of temporary installation path
* MD5 sums
packaged installation of 'flowClust' as flowClust_3.36.1.zip
* DONE (flowClust)