| Back to Multiple platform build/check report for BioC 3.16: simplified long |
|
This page was generated on 2023-04-12 11:05:33 -0400 (Wed, 12 Apr 2023).
| Hostname | OS | Arch (*) | R version | Installed pkgs |
|---|---|---|---|---|
| nebbiolo2 | Linux (Ubuntu 20.04.5 LTS) | x86_64 | 4.2.3 (2023-03-15) -- "Shortstop Beagle" | 4502 |
| palomino4 | Windows Server 2022 Datacenter | x64 | 4.2.3 (2023-03-15 ucrt) -- "Shortstop Beagle" | 4282 |
| lconway | macOS 12.5.1 Monterey | x86_64 | 4.2.3 (2023-03-15) -- "Shortstop Beagle" | 4310 |
| Click on any hostname to see more info about the system (e.g. compilers) (*) as reported by 'uname -p', except on Windows and Mac OS X | ||||
|
To the developers/maintainers of the flagme package: - Please allow up to 24 hours (and sometimes 48 hours) for your latest push to git@git.bioconductor.org:packages/flagme.git to reflect on this report. See How and When does the builder pull? When will my changes propagate? for more information. - Make sure to use the following settings in order to reproduce any error or warning you see on this page. |
| Package 681/2183 | Hostname | OS / Arch | INSTALL | BUILD | CHECK | BUILD BIN | ||||||||
| flagme 1.54.0 (landing page) Mark Robinson
| nebbiolo2 | Linux (Ubuntu 20.04.5 LTS) / x86_64 | OK | OK | WARNINGS | |||||||||
| palomino4 | Windows Server 2022 Datacenter / x64 | OK | OK | WARNINGS | OK | |||||||||
| lconway | macOS 12.5.1 Monterey / x86_64 | OK | OK | WARNINGS | OK | |||||||||
| Package: flagme |
| Version: 1.54.0 |
| Command: rm -rf flagme.buildbin-libdir && mkdir flagme.buildbin-libdir && F:\biocbuild\bbs-3.16-bioc\R\bin\R.exe CMD INSTALL --build --library=flagme.buildbin-libdir flagme_1.54.0.tar.gz |
| StartedAt: 2023-04-11 07:59:49 -0400 (Tue, 11 Apr 2023) |
| EndedAt: 2023-04-11 08:00:56 -0400 (Tue, 11 Apr 2023) |
| EllapsedTime: 67.6 seconds |
| RetCode: 0 |
| Status: OK |
| PackageFile: flagme_1.54.0.zip |
| PackageFileSize: 904.9 KiB |
##############################################################################
##############################################################################
###
### Running command:
###
### rm -rf flagme.buildbin-libdir && mkdir flagme.buildbin-libdir && F:\biocbuild\bbs-3.16-bioc\R\bin\R.exe CMD INSTALL --build --library=flagme.buildbin-libdir flagme_1.54.0.tar.gz
###
##############################################################################
##############################################################################
* installing *source* package 'flagme' ...
** using staged installation
** libs
gcc -I"F:/biocbuild/bbs-3.16-bioc/R/include" -DNDEBUG -I"C:/rtools42/x86_64-w64-mingw32.static.posix/include" -O2 -Wall -std=gnu99 -mfpmath=sse -msse2 -mstackrealign -c dp.c -o dp.o
dp.c: In function 'dp':
dp.c:263:26: warning: 'cur_min' may be used uninitialized in this function [-Wmaybe-uninitialized]
263 | D[(i+1)+(j+1)*(nr+1)] = cur_min;
| ~~~~~~~~~~~~~~~~~~~~~~^~~~~~~~~
dp.c:264:28: warning: 'tb' may be used uninitialized in this function [-Wmaybe-uninitialized]
264 | phi[(i+1)+(j+1)*(nr+1)] = tb;
| ~~~~~~~~~~~~~~~~~~~~~~~~^~~~
gcc -I"F:/biocbuild/bbs-3.16-bioc/R/include" -DNDEBUG -I"C:/rtools42/x86_64-w64-mingw32.static.posix/include" -O2 -Wall -std=gnu99 -mfpmath=sse -msse2 -mstackrealign -c init.c -o init.o
gcc -I"F:/biocbuild/bbs-3.16-bioc/R/include" -DNDEBUG -I"C:/rtools42/x86_64-w64-mingw32.static.posix/include" -O2 -Wall -std=gnu99 -mfpmath=sse -msse2 -mstackrealign -c pearson.c -o pearson.o
gcc -shared -s -static-libgcc -o flagme.dll tmp.def dp.o init.o pearson.o -LC:/rtools42/x86_64-w64-mingw32.static.posix/lib/x64 -LC:/rtools42/x86_64-w64-mingw32.static.posix/lib -LF:/biocbuild/bbs-3.16-bioc/R/bin/x64 -lR
installing to F:/biocbuild/bbs-3.16-bioc/meat/flagme.buildbin-libdir/00LOCK-flagme/00new/flagme/libs/x64
** R
** inst
** byte-compile and prepare package for lazy loading
** help
*** installing help indices
** building package indices
** installing vignettes
** testing if installed package can be loaded from temporary location
** testing if installed package can be loaded from final location
** testing if installed package keeps a record of temporary installation path
* MD5 sums
packaged installation of 'flagme' as flagme_1.54.0.zip
* DONE (flagme)