| Back to Multiple platform build/check report for BioC 3.16 |
|
This page was generated on 2022-07-07 11:11:06 -0400 (Thu, 07 Jul 2022).
| Hostname | OS | Arch (*) | R version | Installed pkgs |
|---|---|---|---|---|
| nebbiolo2 | Linux (Ubuntu 20.04.4 LTS) | x86_64 | 4.2.0 Patched (2022-06-02 r82447) -- "Vigorous Calisthenics" | 4343 |
| palomino4 | Windows Server 2022 Datacenter | x64 | 4.2.0 Patched (2022-06-02 r82447 ucrt) -- "Vigorous Calisthenics" | 4148 |
| lconway | macOS 12.2.1 Monterey | x86_64 | 4.2.0 Patched (2022-05-29 r82424) -- "Vigorous Calisthenics" | 4160 |
| kjohnson | macOS 12.4 Monterey | arm64 | 4.2.0 Patched (2022-06-09 r82473) -- "Vigorous Calisthenics" | 3115 |
| Click on any hostname to see more info about the system (e.g. compilers) (*) as reported by 'uname -p', except on Windows and Mac OS X | ||||
|
To the developers/maintainers of the fastreeR package: - Please allow up to 24 hours (and sometimes 48 hours) for your latest push to git@git.bioconductor.org:packages/fastreeR.git to reflect on this report. See How and When does the builder pull? When will my changes propagate? for more information. - Make sure to use the following settings in order to reproduce any error or warning you see on this page. |
| Package 643/2124 | Hostname | OS / Arch | INSTALL | BUILD | CHECK | BUILD BIN | ||||||||
| fastreeR 1.1.5 (landing page) Anestis Gkanogiannis
| nebbiolo2 | Linux (Ubuntu 20.04.4 LTS) / x86_64 | OK | OK | OK | |||||||||
| palomino4 | Windows Server 2022 Datacenter / x64 | OK | OK | OK | OK | |||||||||
| lconway | macOS 12.2.1 Monterey / x86_64 | OK | OK | OK | OK | |||||||||
| kjohnson | macOS 12.4 Monterey / arm64 | ERROR | ERROR | skipped | skipped | |||||||||
| Package: fastreeR |
| Version: 1.1.5 |
| Command: /Library/Frameworks/R.framework/Resources/bin/R CMD build --keep-empty-dirs --no-resave-data fastreeR |
| StartedAt: 2022-07-06 20:47:54 -0400 (Wed, 06 Jul 2022) |
| EndedAt: 2022-07-06 20:47:57 -0400 (Wed, 06 Jul 2022) |
| EllapsedTime: 3.2 seconds |
| RetCode: 1 |
| Status: ERROR |
| PackageFile: None |
| PackageFileSize: NA |
##############################################################################
##############################################################################
###
### Running command:
###
### /Library/Frameworks/R.framework/Resources/bin/R CMD build --keep-empty-dirs --no-resave-data fastreeR
###
##############################################################################
##############################################################################
* checking for file ‘fastreeR/DESCRIPTION’ ... OK
* preparing ‘fastreeR’:
* checking DESCRIPTION meta-information ... OK
* installing the package to build vignettes
-----------------------------------
* installing *source* package ‘fastreeR’ ...
** using staged installation
** R
** inst
** byte-compile and prepare package for lazy loading
** help
*** installing help indices
** building package indices
** installing vignettes
** testing if installed package can be loaded from temporary location
Warning in fun(libname, pkgname) :
JAVA_HOME is set incorrectly! Ingoring.
The operation couldn’t be completed. Unable to locate a Java Runtime.
Please visit http://www.java.com for information on installing Java.
Warning in system("/usr/libexec/java_home", intern = TRUE) :
running command '/usr/libexec/java_home' had status 1
Warning in fun(libname, pkgname) :
Cannot find JVM library 'NA/lib/server/libjvm.dylib'
Install Java and/or check JAVA_HOME (if in doubt, do NOT set it, it will be detected)
Error: package or namespace load failed for ‘fastreeR’:
.onLoad failed in loadNamespace() for 'fastreeR', details:
call: NULL
error: .onLoad failed in loadNamespace() for 'rJava', details:
call: fun(libname, pkgname)
error: JVM could not be found
Error: loading failed
Execution halted
ERROR: loading failed
* removing ‘/private/tmp/RtmppCWFrN/Rinst131a24dc2232b/fastreeR’
-----------------------------------
ERROR: package installation failed