| Back to Multiple platform build/check report for BioC 3.16: simplified long |
|
This page was generated on 2023-04-12 11:05:04 -0400 (Wed, 12 Apr 2023).
| Hostname | OS | Arch (*) | R version | Installed pkgs |
|---|---|---|---|---|
| nebbiolo2 | Linux (Ubuntu 20.04.5 LTS) | x86_64 | 4.2.3 (2023-03-15) -- "Shortstop Beagle" | 4502 |
| palomino4 | Windows Server 2022 Datacenter | x64 | 4.2.3 (2023-03-15 ucrt) -- "Shortstop Beagle" | 4282 |
| lconway | macOS 12.5.1 Monterey | x86_64 | 4.2.3 (2023-03-15) -- "Shortstop Beagle" | 4310 |
| Click on any hostname to see more info about the system (e.g. compilers) (*) as reported by 'uname -p', except on Windows and Mac OS X | ||||
|
To the developers/maintainers of the extraChIPs package: - Please allow up to 24 hours (and sometimes 48 hours) for your latest push to git@git.bioconductor.org:packages/extraChIPs.git to reflect on this report. See How and When does the builder pull? When will my changes propagate? for more information. - Make sure to use the following settings in order to reproduce any error or warning you see on this page. |
| Package 652/2183 | Hostname | OS / Arch | INSTALL | BUILD | CHECK | BUILD BIN | ||||||||
| extraChIPs 1.2.4 (landing page) Stephen Pederson
| nebbiolo2 | Linux (Ubuntu 20.04.5 LTS) / x86_64 | OK | OK | OK | |||||||||
| palomino4 | Windows Server 2022 Datacenter / x64 | OK | OK | OK | OK | |||||||||
| lconway | macOS 12.5.1 Monterey / x86_64 | OK | OK | OK | OK | |||||||||
| Package: extraChIPs |
| Version: 1.2.4 |
| Command: /home/biocbuild/bbs-3.16-bioc/R/bin/R CMD check --install=check:extraChIPs.install-out.txt --library=/home/biocbuild/bbs-3.16-bioc/R/site-library --timings extraChIPs_1.2.4.tar.gz |
| StartedAt: 2023-04-10 20:39:41 -0400 (Mon, 10 Apr 2023) |
| EndedAt: 2023-04-10 20:49:24 -0400 (Mon, 10 Apr 2023) |
| EllapsedTime: 583.8 seconds |
| RetCode: 0 |
| Status: OK |
| CheckDir: extraChIPs.Rcheck |
| Warnings: 0 |
##############################################################################
##############################################################################
###
### Running command:
###
### /home/biocbuild/bbs-3.16-bioc/R/bin/R CMD check --install=check:extraChIPs.install-out.txt --library=/home/biocbuild/bbs-3.16-bioc/R/site-library --timings extraChIPs_1.2.4.tar.gz
###
##############################################################################
##############################################################################
* using log directory ‘/home/biocbuild/bbs-3.16-bioc/meat/extraChIPs.Rcheck’
* using R version 4.2.3 (2023-03-15)
* using platform: x86_64-pc-linux-gnu (64-bit)
* using session charset: UTF-8
* checking for file ‘extraChIPs/DESCRIPTION’ ... OK
* this is package ‘extraChIPs’ version ‘1.2.4’
* package encoding: UTF-8
* checking package namespace information ... OK
* checking package dependencies ... OK
* checking if this is a source package ... OK
* checking if there is a namespace ... OK
* checking for hidden files and directories ... NOTE
Found the following hidden files and directories:
.BBSoptions
These were most likely included in error. See section ‘Package
structure’ in the ‘Writing R Extensions’ manual.
* checking for portable file names ... OK
* checking for sufficient/correct file permissions ... OK
* checking whether package ‘extraChIPs’ can be installed ... OK
* checking installed package size ... OK
* checking package directory ... OK
* checking ‘build’ directory ... OK
* checking DESCRIPTION meta-information ... OK
* checking top-level files ... OK
* checking for left-over files ... OK
* checking index information ... OK
* checking package subdirectories ... OK
* checking R files for non-ASCII characters ... OK
* checking R files for syntax errors ... OK
* checking whether the package can be loaded ... OK
* checking whether the package can be loaded with stated dependencies ... OK
* checking whether the package can be unloaded cleanly ... OK
* checking whether the namespace can be loaded with stated dependencies ... OK
* checking whether the namespace can be unloaded cleanly ... OK
* checking loading without being on the library search path ... OK
* checking dependencies in R code ... OK
* checking S3 generic/method consistency ... OK
* checking replacement functions ... OK
* checking foreign function calls ... OK
* checking R code for possible problems ... OK
* checking Rd files ... OK
* checking Rd metadata ... OK
* checking Rd cross-references ... OK
* checking for missing documentation entries ... OK
* checking for code/documentation mismatches ... OK
* checking Rd \usage sections ... OK
* checking Rd contents ... OK
* checking for unstated dependencies in examples ... OK
* checking contents of ‘data’ directory ... OK
* checking data for non-ASCII characters ... OK
* checking data for ASCII and uncompressed saves ... OK
* checking files in ‘vignettes’ ... OK
* checking examples ... OK
Examples with CPU (user + system) or elapsed time > 5s
user system elapsed
plotOverlaps-methods 6.079 0.083 6.278
* checking for unstated dependencies in ‘tests’ ... OK
* checking tests ...
Running ‘testthat.R’
OK
* checking for unstated dependencies in vignettes ... OK
* checking package vignettes in ‘inst/doc’ ... OK
* checking running R code from vignettes ...
‘differential_binding.Rmd’ using ‘UTF-8’... OK
‘range_based_functions.Rmd’ using ‘UTF-8’... OK
NONE
* checking re-building of vignette outputs ... OK
* checking PDF version of manual ... OK
* DONE
Status: 1 NOTE
See
‘/home/biocbuild/bbs-3.16-bioc/meat/extraChIPs.Rcheck/00check.log’
for details.
extraChIPs.Rcheck/00install.out
############################################################################## ############################################################################## ### ### Running command: ### ### /home/biocbuild/bbs-3.16-bioc/R/bin/R CMD INSTALL extraChIPs ### ############################################################################## ############################################################################## * installing to library ‘/home/biocbuild/bbs-3.16-bioc/R/site-library’ * installing *source* package ‘extraChIPs’ ... ** using staged installation ** R ** data ** inst ** byte-compile and prepare package for lazy loading ** help *** installing help indices *** copying figures ** building package indices ** installing vignettes ** testing if installed package can be loaded from temporary location ** testing if installed package can be loaded from final location ** testing if installed package keeps a record of temporary installation path * DONE (extraChIPs)
extraChIPs.Rcheck/tests/testthat.Rout
R version 4.2.3 (2023-03-15) -- "Shortstop Beagle"
Copyright (C) 2023 The R Foundation for Statistical Computing
Platform: x86_64-pc-linux-gnu (64-bit)
R is free software and comes with ABSOLUTELY NO WARRANTY.
You are welcome to redistribute it under certain conditions.
Type 'license()' or 'licence()' for distribution details.
R is a collaborative project with many contributors.
Type 'contributors()' for more information and
'citation()' on how to cite R or R packages in publications.
Type 'demo()' for some demos, 'help()' for on-line help, or
'help.start()' for an HTML browser interface to help.
Type 'q()' to quit R.
> library(testthat)
> library(extraChIPs)
Loading required package: BiocParallel
Loading required package: GenomicRanges
Loading required package: stats4
Loading required package: BiocGenerics
Attaching package: 'BiocGenerics'
The following objects are masked from 'package:stats':
IQR, mad, sd, var, xtabs
The following objects are masked from 'package:base':
Filter, Find, Map, Position, Reduce, anyDuplicated, aperm, append,
as.data.frame, basename, cbind, colnames, dirname, do.call,
duplicated, eval, evalq, get, grep, grepl, intersect, is.unsorted,
lapply, mapply, match, mget, order, paste, pmax, pmax.int, pmin,
pmin.int, rank, rbind, rownames, sapply, setdiff, sort, table,
tapply, union, unique, unsplit, which.max, which.min
Loading required package: S4Vectors
Attaching package: 'S4Vectors'
The following objects are masked from 'package:base':
I, expand.grid, unname
Loading required package: IRanges
Loading required package: GenomeInfoDb
Loading required package: ggplot2
Loading required package: SummarizedExperiment
Loading required package: MatrixGenerics
Loading required package: matrixStats
Attaching package: 'MatrixGenerics'
The following objects are masked from 'package:matrixStats':
colAlls, colAnyNAs, colAnys, colAvgsPerRowSet, colCollapse,
colCounts, colCummaxs, colCummins, colCumprods, colCumsums,
colDiffs, colIQRDiffs, colIQRs, colLogSumExps, colMadDiffs,
colMads, colMaxs, colMeans2, colMedians, colMins, colOrderStats,
colProds, colQuantiles, colRanges, colRanks, colSdDiffs, colSds,
colSums2, colTabulates, colVarDiffs, colVars, colWeightedMads,
colWeightedMeans, colWeightedMedians, colWeightedSds,
colWeightedVars, rowAlls, rowAnyNAs, rowAnys, rowAvgsPerColSet,
rowCollapse, rowCounts, rowCummaxs, rowCummins, rowCumprods,
rowCumsums, rowDiffs, rowIQRDiffs, rowIQRs, rowLogSumExps,
rowMadDiffs, rowMads, rowMaxs, rowMeans2, rowMedians, rowMins,
rowOrderStats, rowProds, rowQuantiles, rowRanges, rowRanks,
rowSdDiffs, rowSds, rowSums2, rowTabulates, rowVarDiffs, rowVars,
rowWeightedMads, rowWeightedMeans, rowWeightedMedians,
rowWeightedSds, rowWeightedVars
Loading required package: Biobase
Welcome to Bioconductor
Vignettes contain introductory material; view with
'browseVignettes()'. To cite Bioconductor, see
'citation("Biobase")', and for packages 'citation("pkgname")'.
Attaching package: 'Biobase'
The following object is masked from 'package:MatrixGenerics':
rowMedians
The following objects are masked from 'package:matrixStats':
anyMissing, rowMedians
Loading required package: tibble
>
> test_check("extraChIPs")
[ FAIL 0 | WARN 3 | SKIP 0 | PASS 478 ]
[ FAIL 0 | WARN 3 | SKIP 0 | PASS 478 ]
>
> proc.time()
user system elapsed
53.404 1.788 55.166
extraChIPs.Rcheck/extraChIPs-Ex.timings
| name | user | system | elapsed | |
| as_tibble | 0.608 | 0.080 | 0.688 | |
| bestOverlap-methods | 1.030 | 0.008 | 1.038 | |
| chopMC | 0.191 | 0.012 | 0.203 | |
| colToRanges-methods | 0.240 | 0.007 | 0.248 | |
| collapseGenes | 0.003 | 0.000 | 0.003 | |
| cytobands | 0.013 | 0.000 | 0.013 | |
| distinctMC | 0.378 | 0.000 | 0.378 | |
| dualFilter | 0 | 0 | 0 | |
| ex_datasets | 0.018 | 0.003 | 0.022 | |
| getProfileData-methods | 1.702 | 0.069 | 1.771 | |
| grlToSE-methods | 0.467 | 0.004 | 0.471 | |
| importPeaks | 0.133 | 0.000 | 0.133 | |
| makeConsensus | 0.596 | 0.000 | 0.595 | |
| mapByFeature | 0.664 | 0.000 | 0.664 | |
| mergeByCol-methods | 0.294 | 0.000 | 0.294 | |
| mergeBySig-methods | 0.503 | 0.012 | 0.515 | |
| partitionRanges-methods | 2.260 | 0.007 | 2.309 | |
| plotAssayDensities-methods | 0.670 | 0.055 | 0.726 | |
| plotAssayPCA-methods | 0.529 | 0.013 | 0.541 | |
| plotAssayRle-methods | 0.630 | 0.003 | 0.634 | |
| plotHFGC | 0 | 0 | 0 | |
| plotOverlaps-methods | 6.079 | 0.083 | 6.278 | |
| plotPie-methods | 1.720 | 0.020 | 1.739 | |
| plotProfileHeatmap-methods | 0 | 0 | 0 | |
| plotSplitDonut-methods | 1.785 | 0.008 | 1.794 | |
| propOverlap-methods | 0.674 | 0.004 | 0.710 | |
| reduceMC | 0.607 | 0.000 | 0.608 | |
| setoptsMC-methods | 2.393 | 0.036 | 2.431 | |
| stitchRanges | 0.623 | 0.000 | 0.623 | |
| voomWeightsFromCPM | 0.533 | 0.008 | 0.541 | |