| Back to Multiple platform build/check report for BioC 3.16: simplified long |
|
This page was generated on 2023-04-12 11:05:32 -0400 (Wed, 12 Apr 2023).
| Hostname | OS | Arch (*) | R version | Installed pkgs |
|---|---|---|---|---|
| nebbiolo2 | Linux (Ubuntu 20.04.5 LTS) | x86_64 | 4.2.3 (2023-03-15) -- "Shortstop Beagle" | 4502 |
| palomino4 | Windows Server 2022 Datacenter | x64 | 4.2.3 (2023-03-15 ucrt) -- "Shortstop Beagle" | 4282 |
| lconway | macOS 12.5.1 Monterey | x86_64 | 4.2.3 (2023-03-15) -- "Shortstop Beagle" | 4310 |
| Click on any hostname to see more info about the system (e.g. compilers) (*) as reported by 'uname -p', except on Windows and Mac OS X | ||||
|
To the developers/maintainers of the epivizrChart package: - Please allow up to 24 hours (and sometimes 48 hours) for your latest push to git@git.bioconductor.org:packages/epivizrChart.git to reflect on this report. See How and When does the builder pull? When will my changes propagate? for more information. - Make sure to use the following settings in order to reproduce any error or warning you see on this page. |
| Package 629/2183 | Hostname | OS / Arch | INSTALL | BUILD | CHECK | BUILD BIN | ||||||||
| epivizrChart 1.20.0 (landing page) Hector Corrada Bravo
| nebbiolo2 | Linux (Ubuntu 20.04.5 LTS) / x86_64 | OK | OK | OK | |||||||||
| palomino4 | Windows Server 2022 Datacenter / x64 | OK | OK | OK | OK | |||||||||
| lconway | macOS 12.5.1 Monterey / x86_64 | OK | OK | OK | OK | |||||||||
| Package: epivizrChart |
| Version: 1.20.0 |
| Command: chmod a+r epivizrChart -R && F:\biocbuild\bbs-3.16-bioc\R\bin\R.exe CMD build --keep-empty-dirs --no-resave-data epivizrChart |
| StartedAt: 2023-04-10 18:30:50 -0400 (Mon, 10 Apr 2023) |
| EndedAt: 2023-04-10 18:33:22 -0400 (Mon, 10 Apr 2023) |
| EllapsedTime: 151.4 seconds |
| RetCode: 0 |
| Status: OK |
| PackageFile: epivizrChart_1.20.0.tar.gz |
| PackageFileSize: 5.304 MiB |
##############################################################################
##############################################################################
###
### Running command:
###
### chmod a+r epivizrChart -R && F:\biocbuild\bbs-3.16-bioc\R\bin\R.exe CMD build --keep-empty-dirs --no-resave-data epivizrChart
###
##############################################################################
##############################################################################
* checking for file 'epivizrChart/DESCRIPTION' ... OK
* preparing 'epivizrChart':
* checking DESCRIPTION meta-information ... OK
* installing the package to build vignettes
* creating vignettes ... OK
* checking for LF line-endings in source and make files and shell scripts
* checking for empty or unneeded directories
NB: this package now depends on R (>= 3.5.0)
WARNING: Added dependency on R >= 3.5.0 because serialized objects in
serialize/load version 3 cannot be read in older versions of R.
File(s) containing such objects:
'epivizrChart/data/cgi_gr.rda' 'epivizrChart/data/sumexp.rda'
'epivizrChart/data/tcga_colon_blocks.rda'
'epivizrChart/data/tcga_colon_curves.rda'
'epivizrChart/data/tcga_colon_expression.rda'
* building 'epivizrChart_1.20.0.tar.gz'