| Back to Multiple platform build/check report for BioC 3.16 |
|
This page was generated on 2022-06-03 11:05:13 -0400 (Fri, 03 Jun 2022).
| Hostname | OS | Arch (*) | R version | Installed pkgs |
|---|---|---|---|---|
| nebbiolo2 | Linux (Ubuntu 20.04.4 LTS) | x86_64 | 4.2.0 RC (2022-04-21 r82226) -- "Vigorous Calisthenics" | 4364 |
| palomino4 | Windows Server 2022 Datacenter | x64 | 4.2.0 Patched (2022-04-24 r82246 ucrt) -- "Vigorous Calisthenics" | 4168 |
| lconway | macOS 12.2.1 Monterey | x86_64 | 4.2.0 Patched (2022-04-24 r82246) -- "Vigorous Calisthenics" | 4184 |
| Click on any hostname to see more info about the system (e.g. compilers) (*) as reported by 'uname -p', except on Windows and Mac OS X | ||||
|
To the developers/maintainers of the epihet package: - Please allow up to 24 hours (and sometimes 48 hours) for your latest push to git@git.bioconductor.org:packages/epihet.git to reflect on this report. See How and When does the builder pull? When will my changes propagate? for more information. - Make sure to use the following settings in order to reproduce any error or warning you see on this page. |
| Package 604/2116 | Hostname | OS / Arch | INSTALL | BUILD | CHECK | BUILD BIN | ||||||||
| epihet 1.13.0 (landing page) Xiaowen Chen
| nebbiolo2 | Linux (Ubuntu 20.04.4 LTS) / x86_64 | OK | OK | OK | |||||||||
| palomino4 | Windows Server 2022 Datacenter / x64 | OK | OK | OK | OK | |||||||||
| lconway | macOS 12.2.1 Monterey / x86_64 | OK | OK | OK | OK | |||||||||
| Package: epihet |
| Version: 1.13.0 |
| Command: /home/biocbuild/bbs-3.16-bioc/R/bin/R CMD check --install=check:epihet.install-out.txt --library=/home/biocbuild/bbs-3.16-bioc/R/library --no-vignettes --timings epihet_1.13.0.tar.gz |
| StartedAt: 2022-06-02 19:22:05 -0400 (Thu, 02 Jun 2022) |
| EndedAt: 2022-06-02 19:25:01 -0400 (Thu, 02 Jun 2022) |
| EllapsedTime: 175.7 seconds |
| RetCode: 0 |
| Status: OK |
| CheckDir: epihet.Rcheck |
| Warnings: 0 |
##############################################################################
##############################################################################
###
### Running command:
###
### /home/biocbuild/bbs-3.16-bioc/R/bin/R CMD check --install=check:epihet.install-out.txt --library=/home/biocbuild/bbs-3.16-bioc/R/library --no-vignettes --timings epihet_1.13.0.tar.gz
###
##############################################################################
##############################################################################
* using log directory ‘/home/biocbuild/bbs-3.16-bioc/meat/epihet.Rcheck’
* using R version 4.2.0 RC (2022-04-21 r82226)
* using platform: x86_64-pc-linux-gnu (64-bit)
* using session charset: UTF-8
* using option ‘--no-vignettes’
* checking for file ‘epihet/DESCRIPTION’ ... OK
* this is package ‘epihet’ version ‘1.13.0’
* package encoding: UTF-8
* checking package namespace information ... OK
* checking package dependencies ... NOTE
Depends: includes the non-default packages:
'GenomicRanges', 'IRanges', 'S4Vectors', 'ggplot2', 'foreach',
'Rtsne', 'igraph'
Adding so many packages to the search path is excessive and importing
selectively is preferable.
* checking if this is a source package ... OK
* checking if there is a namespace ... OK
* checking for hidden files and directories ... OK
* checking for portable file names ... OK
* checking for sufficient/correct file permissions ... OK
* checking whether package ‘epihet’ can be installed ... OK
* checking installed package size ... OK
* checking package directory ... OK
* checking ‘build’ directory ... OK
* checking DESCRIPTION meta-information ... OK
* checking top-level files ... OK
* checking for left-over files ... OK
* checking index information ... OK
* checking package subdirectories ... OK
* checking R files for non-ASCII characters ... OK
* checking R files for syntax errors ... OK
* checking whether the package can be loaded ... OK
* checking whether the package can be loaded with stated dependencies ... OK
* checking whether the package can be unloaded cleanly ... OK
* checking whether the namespace can be loaded with stated dependencies ... OK
* checking whether the namespace can be unloaded cleanly ... OK
* checking dependencies in R code ... OK
* checking S3 generic/method consistency ... OK
* checking replacement functions ... OK
* checking foreign function calls ... OK
* checking R code for possible problems ... OK
* checking Rd files ... OK
* checking Rd metadata ... OK
* checking Rd cross-references ... OK
* checking for missing documentation entries ... OK
* checking for code/documentation mismatches ... OK
* checking Rd \usage sections ... OK
* checking Rd contents ... OK
* checking for unstated dependencies in examples ... OK
* checking contents of ‘data’ directory ... OK
* checking data for non-ASCII characters ... OK
* checking data for ASCII and uncompressed saves ... OK
* checking files in ‘vignettes’ ... OK
* checking examples ... OK
Examples with CPU (user + system) or elapsed time > 5s
user system elapsed
epiPathway 11.75 0.252 12.002
* checking for unstated dependencies in vignettes ... OK
* checking package vignettes in ‘inst/doc’ ... OK
* checking running R code from vignettes ... SKIPPED
* checking re-building of vignette outputs ... SKIPPED
* checking PDF version of manual ... OK
* DONE
Status: 1 NOTE
See
‘/home/biocbuild/bbs-3.16-bioc/meat/epihet.Rcheck/00check.log’
for details.
epihet.Rcheck/00install.out
############################################################################## ############################################################################## ### ### Running command: ### ### /home/biocbuild/bbs-3.16-bioc/R/bin/R CMD INSTALL epihet ### ############################################################################## ############################################################################## * installing to library ‘/home/biocbuild/bbs-3.16-bioc/R/library’ * installing *source* package ‘epihet’ ... ** using staged installation ** R ** data ** inst ** byte-compile and prepare package for lazy loading ** help *** installing help indices ** building package indices ** installing vignettes ** testing if installed package can be loaded from temporary location ** testing if installed package can be loaded from final location ** testing if installed package keeps a record of temporary installation path * DONE (epihet)
epihet.Rcheck/epihet-Ex.timings
| name | user | system | elapsed | |
| compMatrix | 0.256 | 0.028 | 0.284 | |
| epiBox | 0.028 | 0.006 | 0.034 | |
| epiMA | 0.006 | 0.000 | 0.006 | |
| epiMap | 0.096 | 0.020 | 0.116 | |
| epiPCA | 0.250 | 0.024 | 0.275 | |
| epiPathway | 11.750 | 0.252 | 12.002 | |
| epiTSNE | 0.169 | 0.012 | 0.181 | |
| jaccard | 0.006 | 0.000 | 0.006 | |
| makeGR | 0.124 | 0.002 | 0.126 | |
| moduleAnno | 0.179 | 0.012 | 0.191 | |
| moduleSim | 0.028 | 0.008 | 0.036 | |
| moduleVisual | 0.130 | 0.016 | 0.145 | |
| readGR | 0.021 | 0.002 | 0.023 | |
| shannon | 0 | 0 | 0 | |
| splitn | 0 | 0 | 0 | |
| summarize | 0.097 | 0.008 | 0.104 | |
| userobj | 0.022 | 0.000 | 0.023 | |