| Back to Multiple platform build/check report for BioC 3.16: simplified long |
|
This page was generated on 2023-04-12 11:05:03 -0400 (Wed, 12 Apr 2023).
| Hostname | OS | Arch (*) | R version | Installed pkgs |
|---|---|---|---|---|
| nebbiolo2 | Linux (Ubuntu 20.04.5 LTS) | x86_64 | 4.2.3 (2023-03-15) -- "Shortstop Beagle" | 4502 |
| palomino4 | Windows Server 2022 Datacenter | x64 | 4.2.3 (2023-03-15 ucrt) -- "Shortstop Beagle" | 4282 |
| lconway | macOS 12.5.1 Monterey | x86_64 | 4.2.3 (2023-03-15) -- "Shortstop Beagle" | 4310 |
| Click on any hostname to see more info about the system (e.g. compilers) (*) as reported by 'uname -p', except on Windows and Mac OS X | ||||
|
To the developers/maintainers of the epigenomix package: - Please allow up to 24 hours (and sometimes 48 hours) for your latest push to git@git.bioconductor.org:packages/epigenomix.git to reflect on this report. See How and When does the builder pull? When will my changes propagate? for more information. - Make sure to use the following settings in order to reproduce any error or warning you see on this page. |
| Package 619/2183 | Hostname | OS / Arch | INSTALL | BUILD | CHECK | BUILD BIN | ||||||||
| epigenomix 1.38.0 (landing page) Hans-Ulrich Klein
| nebbiolo2 | Linux (Ubuntu 20.04.5 LTS) / x86_64 | OK | OK | OK | |||||||||
| palomino4 | Windows Server 2022 Datacenter / x64 | OK | OK | OK | OK | |||||||||
| lconway | macOS 12.5.1 Monterey / x86_64 | OK | OK | OK | OK | |||||||||
| Package: epigenomix |
| Version: 1.38.0 |
| Command: /home/biocbuild/bbs-3.16-bioc/R/bin/R CMD check --install=check:epigenomix.install-out.txt --library=/home/biocbuild/bbs-3.16-bioc/R/site-library --timings epigenomix_1.38.0.tar.gz |
| StartedAt: 2023-04-10 20:31:33 -0400 (Mon, 10 Apr 2023) |
| EndedAt: 2023-04-10 20:37:01 -0400 (Mon, 10 Apr 2023) |
| EllapsedTime: 328.2 seconds |
| RetCode: 0 |
| Status: OK |
| CheckDir: epigenomix.Rcheck |
| Warnings: 0 |
##############################################################################
##############################################################################
###
### Running command:
###
### /home/biocbuild/bbs-3.16-bioc/R/bin/R CMD check --install=check:epigenomix.install-out.txt --library=/home/biocbuild/bbs-3.16-bioc/R/site-library --timings epigenomix_1.38.0.tar.gz
###
##############################################################################
##############################################################################
* using log directory ‘/home/biocbuild/bbs-3.16-bioc/meat/epigenomix.Rcheck’
* using R version 4.2.3 (2023-03-15)
* using platform: x86_64-pc-linux-gnu (64-bit)
* using session charset: UTF-8
* checking for file ‘epigenomix/DESCRIPTION’ ... OK
* checking extension type ... Package
* this is package ‘epigenomix’ version ‘1.38.0’
* checking package namespace information ... OK
* checking package dependencies ... OK
* checking if this is a source package ... OK
* checking if there is a namespace ... OK
* checking for hidden files and directories ... OK
* checking for portable file names ... OK
* checking for sufficient/correct file permissions ... OK
* checking whether package ‘epigenomix’ can be installed ... OK
* checking installed package size ... OK
* checking package directory ... OK
* checking ‘build’ directory ... OK
* checking DESCRIPTION meta-information ... OK
* checking top-level files ... OK
* checking for left-over files ... OK
* checking index information ... OK
* checking package subdirectories ... OK
* checking R files for non-ASCII characters ... OK
* checking R files for syntax errors ... OK
* checking whether the package can be loaded ... OK
* checking whether the package can be loaded with stated dependencies ... OK
* checking whether the package can be unloaded cleanly ... OK
* checking whether the namespace can be loaded with stated dependencies ... OK
* checking whether the namespace can be unloaded cleanly ... OK
* checking loading without being on the library search path ... OK
* checking dependencies in R code ... OK
* checking S3 generic/method consistency ... OK
* checking replacement functions ... OK
* checking foreign function calls ... OK
* checking R code for possible problems ... OK
* checking Rd files ... OK
* checking Rd metadata ... OK
* checking Rd cross-references ... OK
* checking for missing documentation entries ... OK
* checking for code/documentation mismatches ... OK
* checking Rd \usage sections ... OK
* checking Rd contents ... OK
* checking for unstated dependencies in examples ... OK
* checking contents of ‘data’ directory ... OK
* checking data for non-ASCII characters ... OK
* checking data for ASCII and uncompressed saves ... OK
* checking files in ‘vignettes’ ... OK
* checking examples ... OK
Examples with CPU (user + system) or elapsed time > 5s
user system elapsed
plotChains 21.021 0.152 21.173
bayesMixModel 17.628 0.319 17.948
mlMixModel 8.332 0.236 8.568
* checking for unstated dependencies in vignettes ... OK
* checking package vignettes in ‘inst/doc’ ... OK
* checking running R code from vignettes ...
‘epigenomix.Rnw’... OK
OK
* checking re-building of vignette outputs ... OK
* checking PDF version of manual ... OK
* DONE
Status: OK
epigenomix.Rcheck/00install.out
############################################################################## ############################################################################## ### ### Running command: ### ### /home/biocbuild/bbs-3.16-bioc/R/bin/R CMD INSTALL epigenomix ### ############################################################################## ############################################################################## * installing to library ‘/home/biocbuild/bbs-3.16-bioc/R/site-library’ * installing *source* package ‘epigenomix’ ... ** using staged installation ** R ** data ** inst ** byte-compile and prepare package for lazy loading ** help *** installing help indices ** building package indices ** installing vignettes ** testing if installed package can be loaded from temporary location ** testing if installed package can be loaded from final location ** testing if installed package keeps a record of temporary installation path * DONE (epigenomix)
epigenomix.Rcheck/epigenomix-Ex.timings
| name | user | system | elapsed | |
| ChIPseqSet-class | 0.002 | 0.001 | 0.002 | |
| MixModel-class | 0 | 0 | 0 | |
| MixModelBayes-class | 0.001 | 0.000 | 0.000 | |
| MixModelML-class | 0.001 | 0.000 | 0.000 | |
| MixtureComponent-class | 0 | 0 | 0 | |
| bayesMixModel | 17.628 | 0.319 | 17.948 | |
| calculateCrossCorrelation | 0.658 | 0.044 | 0.702 | |
| eSet | 0.008 | 0.004 | 0.013 | |
| fpkm | 0.029 | 0.000 | 0.030 | |
| getAlignmentQuality | 0 | 0 | 0 | |
| integrateData | 0.157 | 0.008 | 0.165 | |
| mappedReads | 0.029 | 0.000 | 0.029 | |
| matchProbeToPromoter | 0.277 | 0.000 | 0.277 | |
| mlMixModel | 8.332 | 0.236 | 8.568 | |
| normalize | 0.151 | 0.003 | 0.155 | |
| normalizeChIP | 0.093 | 0.001 | 0.093 | |
| plotChains | 21.021 | 0.152 | 21.173 | |
| plotClassification | 0.024 | 0.000 | 0.025 | |
| plotComponents | 0.031 | 0.003 | 0.035 | |
| summarizeReads | 0.264 | 0.001 | 0.264 | |
| transToTSS | 0.003 | 0.000 | 0.003 | |