| Back to Multiple platform build/check report for BioC 3.16: simplified long |
|
This page was generated on 2023-04-12 11:05:03 -0400 (Wed, 12 Apr 2023).
| Hostname | OS | Arch (*) | R version | Installed pkgs |
|---|---|---|---|---|
| nebbiolo2 | Linux (Ubuntu 20.04.5 LTS) | x86_64 | 4.2.3 (2023-03-15) -- "Shortstop Beagle" | 4502 |
| palomino4 | Windows Server 2022 Datacenter | x64 | 4.2.3 (2023-03-15 ucrt) -- "Shortstop Beagle" | 4282 |
| lconway | macOS 12.5.1 Monterey | x86_64 | 4.2.3 (2023-03-15) -- "Shortstop Beagle" | 4310 |
| Click on any hostname to see more info about the system (e.g. compilers) (*) as reported by 'uname -p', except on Windows and Mac OS X | ||||
|
To the developers/maintainers of the epialleleR package: - Please allow up to 24 hours (and sometimes 48 hours) for your latest push to git@git.bioconductor.org:packages/epialleleR.git to reflect on this report. See How and When does the builder pull? When will my changes propagate? for more information. - Make sure to use the following settings in order to reproduce any error or warning you see on this page. |
| Package 615/2183 | Hostname | OS / Arch | INSTALL | BUILD | CHECK | BUILD BIN | ||||||||
| epialleleR 1.6.1 (landing page) Oleksii Nikolaienko
| nebbiolo2 | Linux (Ubuntu 20.04.5 LTS) / x86_64 | OK | OK | OK | |||||||||
| palomino4 | Windows Server 2022 Datacenter / x64 | OK | OK | OK | OK | |||||||||
| lconway | macOS 12.5.1 Monterey / x86_64 | OK | OK | OK | OK | |||||||||
| Package: epialleleR |
| Version: 1.6.1 |
| Command: /home/biocbuild/bbs-3.16-bioc/R/bin/R CMD INSTALL epialleleR |
| StartedAt: 2023-04-10 15:40:15 -0400 (Mon, 10 Apr 2023) |
| EndedAt: 2023-04-10 15:42:20 -0400 (Mon, 10 Apr 2023) |
| EllapsedTime: 124.1 seconds |
| RetCode: 0 |
| Status: OK |
##############################################################################
##############################################################################
###
### Running command:
###
### /home/biocbuild/bbs-3.16-bioc/R/bin/R CMD INSTALL epialleleR
###
##############################################################################
##############################################################################
* installing to library ‘/home/biocbuild/bbs-3.16-bioc/R/site-library’
* installing *source* package ‘epialleleR’ ...
** using staged installation
** libs
g++ -std=gnu++17 -I"/home/biocbuild/bbs-3.16-bioc/R/include" -DNDEBUG -D_FILE_OFFSET_BITS=64 -I'/home/biocbuild/bbs-3.16-bioc/R/site-library/Rcpp/include' -I'/home/biocbuild/bbs-3.16-bioc/R/site-library/BH/include' -I'/home/biocbuild/bbs-3.16-bioc/R/site-library/Rhtslib/include' -I'/home/biocbuild/bbs-3.16-bioc/R/site-library/zlibbioc/include' -I/usr/local/include -fpic -g -O2 -Wall -c RcppExports.cpp -o RcppExports.o
g++ -std=gnu++17 -I"/home/biocbuild/bbs-3.16-bioc/R/include" -DNDEBUG -D_FILE_OFFSET_BITS=64 -I'/home/biocbuild/bbs-3.16-bioc/R/site-library/Rcpp/include' -I'/home/biocbuild/bbs-3.16-bioc/R/site-library/BH/include' -I'/home/biocbuild/bbs-3.16-bioc/R/site-library/Rhtslib/include' -I'/home/biocbuild/bbs-3.16-bioc/R/site-library/zlibbioc/include' -I/usr/local/include -fpic -g -O2 -Wall -c rcpp_cx_report.cpp -o rcpp_cx_report.o
rcpp_cx_report.cpp:182:1: warning: multi-line comment [-Wcomment]
182 | // #define spit_results { \
| ^
g++ -std=gnu++17 -I"/home/biocbuild/bbs-3.16-bioc/R/include" -DNDEBUG -D_FILE_OFFSET_BITS=64 -I'/home/biocbuild/bbs-3.16-bioc/R/site-library/Rcpp/include' -I'/home/biocbuild/bbs-3.16-bioc/R/site-library/BH/include' -I'/home/biocbuild/bbs-3.16-bioc/R/site-library/Rhtslib/include' -I'/home/biocbuild/bbs-3.16-bioc/R/site-library/zlibbioc/include' -I/usr/local/include -fpic -g -O2 -Wall -c rcpp_extract_patterns.cpp -o rcpp_extract_patterns.o
g++ -std=gnu++17 -I"/home/biocbuild/bbs-3.16-bioc/R/include" -DNDEBUG -D_FILE_OFFSET_BITS=64 -I'/home/biocbuild/bbs-3.16-bioc/R/site-library/Rcpp/include' -I'/home/biocbuild/bbs-3.16-bioc/R/site-library/BH/include' -I'/home/biocbuild/bbs-3.16-bioc/R/site-library/Rhtslib/include' -I'/home/biocbuild/bbs-3.16-bioc/R/site-library/zlibbioc/include' -I/usr/local/include -fpic -g -O2 -Wall -c rcpp_fep.cpp -o rcpp_fep.o
g++ -std=gnu++17 -I"/home/biocbuild/bbs-3.16-bioc/R/include" -DNDEBUG -D_FILE_OFFSET_BITS=64 -I'/home/biocbuild/bbs-3.16-bioc/R/site-library/Rcpp/include' -I'/home/biocbuild/bbs-3.16-bioc/R/site-library/BH/include' -I'/home/biocbuild/bbs-3.16-bioc/R/site-library/Rhtslib/include' -I'/home/biocbuild/bbs-3.16-bioc/R/site-library/zlibbioc/include' -I/usr/local/include -fpic -g -O2 -Wall -c rcpp_get_base_freqs.cpp -o rcpp_get_base_freqs.o
g++ -std=gnu++17 -I"/home/biocbuild/bbs-3.16-bioc/R/include" -DNDEBUG -D_FILE_OFFSET_BITS=64 -I'/home/biocbuild/bbs-3.16-bioc/R/site-library/Rcpp/include' -I'/home/biocbuild/bbs-3.16-bioc/R/site-library/BH/include' -I'/home/biocbuild/bbs-3.16-bioc/R/site-library/Rhtslib/include' -I'/home/biocbuild/bbs-3.16-bioc/R/site-library/zlibbioc/include' -I/usr/local/include -fpic -g -O2 -Wall -c rcpp_get_xm_beta.cpp -o rcpp_get_xm_beta.o
g++ -std=gnu++17 -I"/home/biocbuild/bbs-3.16-bioc/R/include" -DNDEBUG -D_FILE_OFFSET_BITS=64 -I'/home/biocbuild/bbs-3.16-bioc/R/site-library/Rcpp/include' -I'/home/biocbuild/bbs-3.16-bioc/R/site-library/BH/include' -I'/home/biocbuild/bbs-3.16-bioc/R/site-library/Rhtslib/include' -I'/home/biocbuild/bbs-3.16-bioc/R/site-library/zlibbioc/include' -I/usr/local/include -fpic -g -O2 -Wall -c rcpp_match_target.cpp -o rcpp_match_target.o
g++ -std=gnu++17 -I"/home/biocbuild/bbs-3.16-bioc/R/include" -DNDEBUG -D_FILE_OFFSET_BITS=64 -I'/home/biocbuild/bbs-3.16-bioc/R/site-library/Rcpp/include' -I'/home/biocbuild/bbs-3.16-bioc/R/site-library/BH/include' -I'/home/biocbuild/bbs-3.16-bioc/R/site-library/Rhtslib/include' -I'/home/biocbuild/bbs-3.16-bioc/R/site-library/zlibbioc/include' -I/usr/local/include -fpic -g -O2 -Wall -c rcpp_read_bam.cpp -o rcpp_read_bam.o
g++ -std=gnu++17 -I"/home/biocbuild/bbs-3.16-bioc/R/include" -DNDEBUG -D_FILE_OFFSET_BITS=64 -I'/home/biocbuild/bbs-3.16-bioc/R/site-library/Rcpp/include' -I'/home/biocbuild/bbs-3.16-bioc/R/site-library/BH/include' -I'/home/biocbuild/bbs-3.16-bioc/R/site-library/Rhtslib/include' -I'/home/biocbuild/bbs-3.16-bioc/R/site-library/zlibbioc/include' -I/usr/local/include -fpic -g -O2 -Wall -c rcpp_threshold_reads.cpp -o rcpp_threshold_reads.o
g++ -std=gnu++17 -shared -L/home/biocbuild/bbs-3.16-bioc/R/lib -L/usr/local/lib -o epialleleR.so RcppExports.o rcpp_cx_report.o rcpp_extract_patterns.o rcpp_fep.o rcpp_get_base_freqs.o rcpp_get_xm_beta.o rcpp_match_target.o rcpp_read_bam.o rcpp_threshold_reads.o /home/biocbuild/bbs-3.16-bioc/R/site-library/Rhtslib/usrlib/libhts.a -lcurl -L/home/biocbuild/bbs-3.16-bioc/R/lib -lR
installing to /home/biocbuild/bbs-3.16-bioc/R/site-library/00LOCK-epialleleR/00new/epialleleR/libs
** R
** inst
** byte-compile and prepare package for lazy loading
** help
*** installing help indices
** building package indices
** installing vignettes
** testing if installed package can be loaded from temporary location
** checking absolute paths in shared objects and dynamic libraries
** testing if installed package can be loaded from final location
** testing if installed package keeps a record of temporary installation path
* DONE (epialleleR)