| Back to Multiple platform build/check report for BioC 3.16: simplified long |
|
This page was generated on 2023-04-12 11:06:06 -0400 (Wed, 12 Apr 2023).
| Hostname | OS | Arch (*) | R version | Installed pkgs |
|---|---|---|---|---|
| nebbiolo2 | Linux (Ubuntu 20.04.5 LTS) | x86_64 | 4.2.3 (2023-03-15) -- "Shortstop Beagle" | 4502 |
| palomino4 | Windows Server 2022 Datacenter | x64 | 4.2.3 (2023-03-15 ucrt) -- "Shortstop Beagle" | 4282 |
| lconway | macOS 12.5.1 Monterey | x86_64 | 4.2.3 (2023-03-15) -- "Shortstop Beagle" | 4310 |
| Click on any hostname to see more info about the system (e.g. compilers) (*) as reported by 'uname -p', except on Windows and Mac OS X | ||||
|
To the developers/maintainers of the enrichTF package: - Please allow up to 24 hours (and sometimes 48 hours) for your latest push to git@git.bioconductor.org:packages/enrichTF.git to reflect on this report. See How and When does the builder pull? When will my changes propagate? for more information. - Make sure to use the following settings in order to reproduce any error or warning you see on this page. |
| Package 612/2183 | Hostname | OS / Arch | INSTALL | BUILD | CHECK | BUILD BIN | ||||||||
| enrichTF 1.14.0 (landing page) Zheng Wei
| nebbiolo2 | Linux (Ubuntu 20.04.5 LTS) / x86_64 | OK | OK | OK | |||||||||
| palomino4 | Windows Server 2022 Datacenter / x64 | OK | OK | OK | OK | |||||||||
| lconway | macOS 12.5.1 Monterey / x86_64 | OK | OK | OK | OK | |||||||||
| Package: enrichTF |
| Version: 1.14.0 |
| Command: /Library/Frameworks/R.framework/Resources/bin/R CMD check --install=check:enrichTF.install-out.txt --library=/Library/Frameworks/R.framework/Resources/library --no-vignettes --timings enrichTF_1.14.0.tar.gz |
| StartedAt: 2023-04-10 20:03:39 -0400 (Mon, 10 Apr 2023) |
| EndedAt: 2023-04-10 20:09:19 -0400 (Mon, 10 Apr 2023) |
| EllapsedTime: 339.1 seconds |
| RetCode: 0 |
| Status: OK |
| CheckDir: enrichTF.Rcheck |
| Warnings: 0 |
##############################################################################
##############################################################################
###
### Running command:
###
### /Library/Frameworks/R.framework/Resources/bin/R CMD check --install=check:enrichTF.install-out.txt --library=/Library/Frameworks/R.framework/Resources/library --no-vignettes --timings enrichTF_1.14.0.tar.gz
###
##############################################################################
##############################################################################
* using log directory ‘/Users/biocbuild/bbs-3.16-bioc/meat/enrichTF.Rcheck’
* using R version 4.2.3 (2023-03-15)
* using platform: x86_64-apple-darwin17.0 (64-bit)
* using session charset: UTF-8
* using option ‘--no-vignettes’
* checking for file ‘enrichTF/DESCRIPTION’ ... OK
* checking extension type ... Package
* this is package ‘enrichTF’ version ‘1.14.0’
* package encoding: UTF-8
* checking package namespace information ... OK
* checking package dependencies ... OK
* checking if this is a source package ... OK
* checking if there is a namespace ... OK
* checking for hidden files and directories ... OK
* checking for portable file names ... OK
* checking for sufficient/correct file permissions ... OK
* checking whether package ‘enrichTF’ can be installed ... OK
* checking installed package size ... OK
* checking package directory ... OK
* checking ‘build’ directory ... OK
* checking DESCRIPTION meta-information ... OK
* checking top-level files ... OK
* checking for left-over files ... OK
* checking index information ... OK
* checking package subdirectories ... OK
* checking R files for non-ASCII characters ... OK
* checking R files for syntax errors ... OK
* checking whether the package can be loaded ... OK
* checking whether the package can be loaded with stated dependencies ... OK
* checking whether the package can be unloaded cleanly ... OK
* checking whether the namespace can be loaded with stated dependencies ... OK
* checking whether the namespace can be unloaded cleanly ... OK
* checking dependencies in R code ... OK
* checking S3 generic/method consistency ... OK
* checking replacement functions ... OK
* checking foreign function calls ... OK
* checking R code for possible problems ... NOTE
processing,TissueOpennessConserve: no visible global function
definition for ‘as’
processing,TissueOpennessConserve: no visible binding for global
variable ‘X2’
processing,TissueOpennessSpecificity: no visible global function
definition for ‘as’
Undefined global functions or variables:
X2 as
Consider adding
importFrom("methods", "as")
to your NAMESPACE file (and ensure that your DESCRIPTION Imports field
contains 'methods').
* checking Rd files ... OK
* checking Rd metadata ... OK
* checking Rd cross-references ... OK
* checking for missing documentation entries ... OK
* checking for code/documentation mismatches ... OK
* checking Rd \usage sections ... OK
* checking Rd contents ... OK
* checking for unstated dependencies in examples ... OK
* checking files in ‘vignettes’ ... OK
* checking examples ... OK
Examples with CPU (user + system) or elapsed time > 5s
user system elapsed
TissueOpennessSpecificity 16.561 0.109 16.726
GeneOntology 15.207 1.453 17.130
GenBackground 4.023 0.752 5.206
Pipelines 1.358 0.184 16.238
* checking for unstated dependencies in ‘tests’ ... OK
* checking tests ...
Running ‘testthat.R’
OK
* checking for unstated dependencies in vignettes ... OK
* checking package vignettes in ‘inst/doc’ ... OK
* checking running R code from vignettes ... SKIPPED
* checking re-building of vignette outputs ... SKIPPED
* checking PDF version of manual ... OK
* DONE
Status: 1 NOTE
See
‘/Users/biocbuild/bbs-3.16-bioc/meat/enrichTF.Rcheck/00check.log’
for details.
enrichTF.Rcheck/00install.out
############################################################################## ############################################################################## ### ### Running command: ### ### /Library/Frameworks/R.framework/Resources/bin/R CMD INSTALL enrichTF ### ############################################################################## ############################################################################## * installing to library ‘/Library/Frameworks/R.framework/Versions/4.2/Resources/library’ * installing *source* package ‘enrichTF’ ... ** using staged installation ** R ** inst ** byte-compile and prepare package for lazy loading ** help *** installing help indices ** building package indices ** installing vignettes ** testing if installed package can be loaded from temporary location ** testing if installed package can be loaded from final location ** testing if installed package keeps a record of temporary installation path * DONE (enrichTF)
enrichTF.Rcheck/tests/testthat.Rout
R version 4.2.3 (2023-03-15) -- "Shortstop Beagle"
Copyright (C) 2023 The R Foundation for Statistical Computing
Platform: x86_64-apple-darwin17.0 (64-bit)
R is free software and comes with ABSOLUTELY NO WARRANTY.
You are welcome to redistribute it under certain conditions.
Type 'license()' or 'licence()' for distribution details.
R is a collaborative project with many contributors.
Type 'contributors()' for more information and
'citation()' on how to cite R or R packages in publications.
Type 'demo()' for some demos, 'help()' for on-line help, or
'help.start()' for an HTML browser interface to help.
Type 'q()' to quit R.
> library(testthat)
> library(enrichTF)
Loading required package: pipeFrame
>
> test_check("enrichTF")
[1] "2023-04-10 20:09:08 EDT"
[1] "2023-04-10 20:09:08 EDT"
[1] "2023-04-10 20:09:08 EDT"
[1] "2023-04-10 20:09:08 EDT"
[1] "2023-04-10 20:09:08 EDT"
[1] "2023-04-10 20:09:08 EDT"
[1] "2023-04-10 20:09:09 EDT"
[1] "2023-04-10 20:09:09 EDT"
[1] "2023-04-10 20:09:09 EDT"
[1] "2023-04-10 20:09:09 EDT"
[1] "2023-04-10 20:09:09 EDT"
[1] "2023-04-10 20:09:09 EDT"
[1] "2023-04-10 20:09:10 EDT"
[1] "2023-04-10 20:09:10 EDT"
[1] "2023-04-10 20:09:10 EDT"
[1] "2023-04-10 20:09:10 EDT"
[1] "2023-04-10 20:09:10 EDT"
[1] "2023-04-10 20:09:10 EDT"
[ FAIL 0 | WARN 0 | SKIP 0 | PASS 9 ]
>
> proc.time()
user system elapsed
18.973 2.267 21.209
enrichTF.Rcheck/enrichTF-Ex.timings
| name | user | system | elapsed | |
| GenBackground | 4.023 | 0.752 | 5.206 | |
| GeneOntology | 15.207 | 1.453 | 17.130 | |
| MotifsInRegions | 1.710 | 0.711 | 1.877 | |
| Pipelines | 1.358 | 0.184 | 16.238 | |
| RegionConnectTargetGene | 0.606 | 0.075 | 0.688 | |
| TFsEnrichInRegions | 0.521 | 0.094 | 0.626 | |
| TissueOpennessConserve | 0.126 | 0.013 | 0.141 | |
| TissueOpennessSpecificity | 16.561 | 0.109 | 16.726 | |
| UnzipAndMergeBed | 0.074 | 0.012 | 0.089 | |