| Back to Multiple platform build/check report for BioC 3.16: simplified long |
|
This page was generated on 2023-04-12 11:05:31 -0400 (Wed, 12 Apr 2023).
| Hostname | OS | Arch (*) | R version | Installed pkgs |
|---|---|---|---|---|
| nebbiolo2 | Linux (Ubuntu 20.04.5 LTS) | x86_64 | 4.2.3 (2023-03-15) -- "Shortstop Beagle" | 4502 |
| palomino4 | Windows Server 2022 Datacenter | x64 | 4.2.3 (2023-03-15 ucrt) -- "Shortstop Beagle" | 4282 |
| lconway | macOS 12.5.1 Monterey | x86_64 | 4.2.3 (2023-03-15) -- "Shortstop Beagle" | 4310 |
| Click on any hostname to see more info about the system (e.g. compilers) (*) as reported by 'uname -p', except on Windows and Mac OS X | ||||
|
To the developers/maintainers of the diffcyt package: - Please allow up to 24 hours (and sometimes 48 hours) for your latest push to git@git.bioconductor.org:packages/diffcyt.git to reflect on this report. See How and When does the builder pull? When will my changes propagate? for more information. - Make sure to use the following settings in order to reproduce any error or warning you see on this page. |
| Package 533/2183 | Hostname | OS / Arch | INSTALL | BUILD | CHECK | BUILD BIN | ||||||||
| diffcyt 1.18.0 (landing page) Lukas M. Weber
| nebbiolo2 | Linux (Ubuntu 20.04.5 LTS) / x86_64 | OK | OK | OK | |||||||||
| palomino4 | Windows Server 2022 Datacenter / x64 | OK | OK | OK | OK | |||||||||
| lconway | macOS 12.5.1 Monterey / x86_64 | OK | OK | OK | OK | |||||||||
| Package: diffcyt |
| Version: 1.18.0 |
| Command: F:\biocbuild\bbs-3.16-bioc\R\bin\R.exe CMD check --no-multiarch --install=check:diffcyt.install-out.txt --library=F:\biocbuild\bbs-3.16-bioc\R\library --no-vignettes --timings diffcyt_1.18.0.tar.gz |
| StartedAt: 2023-04-11 00:52:09 -0400 (Tue, 11 Apr 2023) |
| EndedAt: 2023-04-11 00:56:11 -0400 (Tue, 11 Apr 2023) |
| EllapsedTime: 241.8 seconds |
| RetCode: 0 |
| Status: OK |
| CheckDir: diffcyt.Rcheck |
| Warnings: 0 |
##############################################################################
##############################################################################
###
### Running command:
###
### F:\biocbuild\bbs-3.16-bioc\R\bin\R.exe CMD check --no-multiarch --install=check:diffcyt.install-out.txt --library=F:\biocbuild\bbs-3.16-bioc\R\library --no-vignettes --timings diffcyt_1.18.0.tar.gz
###
##############################################################################
##############################################################################
* using log directory 'F:/biocbuild/bbs-3.16-bioc/meat/diffcyt.Rcheck'
* using R version 4.2.3 (2023-03-15 ucrt)
* using platform: x86_64-w64-mingw32 (64-bit)
* using session charset: UTF-8
* using option '--no-vignettes'
* checking for file 'diffcyt/DESCRIPTION' ... OK
* this is package 'diffcyt' version '1.18.0'
* checking package namespace information ... OK
* checking package dependencies ... OK
* checking if this is a source package ... OK
* checking if there is a namespace ... OK
* checking for hidden files and directories ... OK
* checking for portable file names ... OK
* checking whether package 'diffcyt' can be installed ... OK
* checking installed package size ... OK
* checking package directory ... OK
* checking 'build' directory ... OK
* checking DESCRIPTION meta-information ... OK
* checking top-level files ... OK
* checking for left-over files ... OK
* checking index information ... OK
* checking package subdirectories ... OK
* checking R files for non-ASCII characters ... OK
* checking R files for syntax errors ... OK
* checking whether the package can be loaded ... OK
* checking whether the package can be loaded with stated dependencies ... OK
* checking whether the package can be unloaded cleanly ... OK
* checking whether the namespace can be loaded with stated dependencies ... OK
* checking whether the namespace can be unloaded cleanly ... OK
* checking dependencies in R code ... OK
* checking S3 generic/method consistency ... OK
* checking replacement functions ... OK
* checking foreign function calls ... OK
* checking R code for possible problems ... NOTE
calcCounts: no visible binding for global variable 'cluster_id'
calcCounts: no visible binding for global variable 'sample_id'
calcMedians: no visible binding for global variable 'cluster_id'
calcMedians: no visible binding for global variable 'sample_id'
calcMedians: no visible binding for global variable 'value'
calcMediansByClusterMarker: no visible binding for global variable
'cluster_id'
calcMediansByClusterMarker: no visible binding for global variable
'marker_id'
calcMediansByClusterMarker: no visible binding for global variable
'value'
calcMediansBySampleMarker: no visible binding for global variable
'sample_id'
calcMediansBySampleMarker: no visible binding for global variable
'marker_id'
calcMediansBySampleMarker: no visible binding for global variable
'value'
Undefined global functions or variables:
cluster_id marker_id sample_id value
* checking Rd files ... OK
* checking Rd metadata ... OK
* checking Rd cross-references ... OK
* checking for missing documentation entries ... OK
* checking for code/documentation mismatches ... OK
* checking Rd \usage sections ... OK
* checking Rd contents ... OK
* checking for unstated dependencies in examples ... OK
* checking files in 'vignettes' ... OK
* checking examples ... OK
Examples with CPU (user + system) or elapsed time > 5s
user system elapsed
diffcyt 9.00 0.19 9.36
testDA_GLMM 8.23 0.05 8.33
plotHeatmap 6.33 0.11 6.47
* checking for unstated dependencies in 'tests' ... OK
* checking tests ...
Running 'testthat.R'
OK
* checking for unstated dependencies in vignettes ... OK
* checking package vignettes in 'inst/doc' ... OK
* checking running R code from vignettes ... SKIPPED
* checking re-building of vignette outputs ... SKIPPED
* checking PDF version of manual ... OK
* DONE
Status: 1 NOTE
See
'F:/biocbuild/bbs-3.16-bioc/meat/diffcyt.Rcheck/00check.log'
for details.
diffcyt.Rcheck/00install.out
############################################################################## ############################################################################## ### ### Running command: ### ### F:\biocbuild\bbs-3.16-bioc\R\bin\R.exe CMD INSTALL diffcyt ### ############################################################################## ############################################################################## * installing to library 'F:/biocbuild/bbs-3.16-bioc/R/library' * installing *source* package 'diffcyt' ... ** using staged installation ** R ** inst ** byte-compile and prepare package for lazy loading ** help *** installing help indices ** building package indices ** installing vignettes ** testing if installed package can be loaded from temporary location ** testing if installed package can be loaded from final location ** testing if installed package keeps a record of temporary installation path * DONE (diffcyt)
diffcyt.Rcheck/tests/testthat.Rout
R version 4.2.3 (2023-03-15 ucrt) -- "Shortstop Beagle"
Copyright (C) 2023 The R Foundation for Statistical Computing
Platform: x86_64-w64-mingw32/x64 (64-bit)
R is free software and comes with ABSOLUTELY NO WARRANTY.
You are welcome to redistribute it under certain conditions.
Type 'license()' or 'licence()' for distribution details.
R is a collaborative project with many contributors.
Type 'contributors()' for more information and
'citation()' on how to cite R or R packages in publications.
Type 'demo()' for some demos, 'help()' for on-line help, or
'help.start()' for an HTML browser interface to help.
Type 'q()' to quit R.
> library(testthat)
> library(diffcyt)
>
> test_check("diffcyt")
[ FAIL 0 | WARN 0 | SKIP 0 | PASS 8 ]
>
> proc.time()
user system elapsed
9.54 0.78 10.54
diffcyt.Rcheck/diffcyt-Ex.timings
| name | user | system | elapsed | |
| calcCounts | 1.80 | 0.07 | 1.89 | |
| calcMedians | 1.77 | 0.16 | 1.93 | |
| calcMediansByClusterMarker | 1.50 | 0.02 | 1.52 | |
| calcMediansBySampleMarker | 1.25 | 0.04 | 1.31 | |
| createContrast | 0 | 0 | 0 | |
| createDesignMatrix | 0 | 0 | 0 | |
| createFormula | 0 | 0 | 0 | |
| diffcyt | 9.00 | 0.19 | 9.36 | |
| generateClusters | 1.46 | 0.01 | 1.50 | |
| plotHeatmap | 6.33 | 0.11 | 6.47 | |
| prepareData | 0.02 | 0.00 | 0.01 | |
| testDA_GLMM | 8.23 | 0.05 | 8.33 | |
| testDA_edgeR | 2.11 | 0.01 | 2.12 | |
| testDA_voom | 1.99 | 0.00 | 1.99 | |
| testDS_LMM | 4.48 | 0.07 | 4.58 | |
| testDS_limma | 2.58 | 0.03 | 2.62 | |
| topTable | 4.67 | 0.04 | 4.75 | |
| transformData | 0.06 | 0.00 | 0.06 | |