| Back to Multiple platform build/check report for BioC 3.16: simplified long |
|
This page was generated on 2023-04-12 11:05:02 -0400 (Wed, 12 Apr 2023).
| Hostname | OS | Arch (*) | R version | Installed pkgs |
|---|---|---|---|---|
| nebbiolo2 | Linux (Ubuntu 20.04.5 LTS) | x86_64 | 4.2.3 (2023-03-15) -- "Shortstop Beagle" | 4502 |
| palomino4 | Windows Server 2022 Datacenter | x64 | 4.2.3 (2023-03-15 ucrt) -- "Shortstop Beagle" | 4282 |
| lconway | macOS 12.5.1 Monterey | x86_64 | 4.2.3 (2023-03-15) -- "Shortstop Beagle" | 4310 |
| Click on any hostname to see more info about the system (e.g. compilers) (*) as reported by 'uname -p', except on Windows and Mac OS X | ||||
|
To the developers/maintainers of the decompTumor2Sig package: - Please allow up to 24 hours (and sometimes 48 hours) for your latest push to git@git.bioconductor.org:packages/decompTumor2Sig.git to reflect on this report. See How and When does the builder pull? When will my changes propagate? for more information. - Make sure to use the following settings in order to reproduce any error or warning you see on this page. |
| Package 490/2183 | Hostname | OS / Arch | INSTALL | BUILD | CHECK | BUILD BIN | ||||||||
| decompTumor2Sig 2.14.0 (landing page) Rosario M. Piro
| nebbiolo2 | Linux (Ubuntu 20.04.5 LTS) / x86_64 | OK | OK | OK | |||||||||
| palomino4 | Windows Server 2022 Datacenter / x64 | OK | OK | OK | OK | |||||||||
| lconway | macOS 12.5.1 Monterey / x86_64 | OK | OK | OK | OK | |||||||||
| Package: decompTumor2Sig |
| Version: 2.14.0 |
| Command: /home/biocbuild/bbs-3.16-bioc/R/bin/R CMD check --install=check:decompTumor2Sig.install-out.txt --library=/home/biocbuild/bbs-3.16-bioc/R/site-library --timings decompTumor2Sig_2.14.0.tar.gz |
| StartedAt: 2023-04-10 20:09:25 -0400 (Mon, 10 Apr 2023) |
| EndedAt: 2023-04-10 20:19:28 -0400 (Mon, 10 Apr 2023) |
| EllapsedTime: 603.4 seconds |
| RetCode: 0 |
| Status: OK |
| CheckDir: decompTumor2Sig.Rcheck |
| Warnings: 0 |
##############################################################################
##############################################################################
###
### Running command:
###
### /home/biocbuild/bbs-3.16-bioc/R/bin/R CMD check --install=check:decompTumor2Sig.install-out.txt --library=/home/biocbuild/bbs-3.16-bioc/R/site-library --timings decompTumor2Sig_2.14.0.tar.gz
###
##############################################################################
##############################################################################
* using log directory ‘/home/biocbuild/bbs-3.16-bioc/meat/decompTumor2Sig.Rcheck’
* using R version 4.2.3 (2023-03-15)
* using platform: x86_64-pc-linux-gnu (64-bit)
* using session charset: UTF-8
* checking for file ‘decompTumor2Sig/DESCRIPTION’ ... OK
* checking extension type ... Package
* this is package ‘decompTumor2Sig’ version ‘2.14.0’
* package encoding: UTF-8
* checking package namespace information ... OK
* checking package dependencies ... OK
* checking if this is a source package ... OK
* checking if there is a namespace ... OK
* checking for hidden files and directories ... OK
* checking for portable file names ... OK
* checking for sufficient/correct file permissions ... OK
* checking whether package ‘decompTumor2Sig’ can be installed ... OK
* checking installed package size ... OK
* checking package directory ... OK
* checking ‘build’ directory ... OK
* checking DESCRIPTION meta-information ... OK
* checking top-level files ... OK
* checking for left-over files ... OK
* checking index information ... OK
* checking package subdirectories ... OK
* checking R files for non-ASCII characters ... OK
* checking R files for syntax errors ... OK
* checking whether the package can be loaded ... OK
* checking whether the package can be loaded with stated dependencies ... OK
* checking whether the package can be unloaded cleanly ... OK
* checking whether the namespace can be loaded with stated dependencies ... OK
* checking whether the namespace can be unloaded cleanly ... OK
* checking loading without being on the library search path ... OK
* checking dependencies in R code ... OK
* checking S3 generic/method consistency ... OK
* checking replacement functions ... OK
* checking foreign function calls ... OK
* checking R code for possible problems ... OK
* checking Rd files ... OK
* checking Rd metadata ... OK
* checking Rd cross-references ... OK
* checking for missing documentation entries ... OK
* checking for code/documentation mismatches ... OK
* checking Rd \usage sections ... OK
* checking Rd contents ... OK
* checking for unstated dependencies in examples ... OK
* checking files in ‘vignettes’ ... OK
* checking examples ... OK
Examples with CPU (user + system) or elapsed time > 5s
user system elapsed
plotExplainedVariance 68.581 0.835 69.416
convertGenomesFromVRanges 5.171 0.596 5.768
decomposeTumorGenomes 3.603 0.490 5.250
* checking for unstated dependencies in vignettes ... OK
* checking package vignettes in ‘inst/doc’ ... OK
* checking running R code from vignettes ...
‘decompTumor2Sig.Rmd’ using ‘UTF-8’... OK
NONE
* checking re-building of vignette outputs ... OK
* checking PDF version of manual ... OK
* DONE
Status: OK
decompTumor2Sig.Rcheck/00install.out
############################################################################## ############################################################################## ### ### Running command: ### ### /home/biocbuild/bbs-3.16-bioc/R/bin/R CMD INSTALL decompTumor2Sig ### ############################################################################## ############################################################################## * installing to library ‘/home/biocbuild/bbs-3.16-bioc/R/site-library’ * installing *source* package ‘decompTumor2Sig’ ... ** using staged installation ** R ** inst ** byte-compile and prepare package for lazy loading ** help *** installing help indices ** building package indices ** installing vignettes ** testing if installed package can be loaded from temporary location ** testing if installed package can be loaded from final location ** testing if installed package keeps a record of temporary installation path * DONE (decompTumor2Sig)
decompTumor2Sig.Rcheck/decompTumor2Sig-Ex.timings
| name | user | system | elapsed | |
| adjustSignaturesForRegionSet | 1.398 | 0.184 | 2.956 | |
| composeGenomesFromExposures | 1.417 | 0.144 | 2.504 | |
| computeExplainedVariance | 0.221 | 0.004 | 1.176 | |
| convertAlexandrov2Shiraishi | 0.081 | 0.004 | 1.137 | |
| convertGenomesFromVRanges | 5.171 | 0.596 | 5.768 | |
| decomposeTumorGenomes | 3.603 | 0.490 | 5.250 | |
| determineSignatureDistances | 0.092 | 0.024 | 1.159 | |
| downgradeShiraishiSignatures | 0.01 | 0.00 | 0.01 | |
| evaluateDecompositionQuality | 0.253 | 0.012 | 1.318 | |
| getGenomesFromMutFeatData | 0.367 | 0.016 | 0.383 | |
| getSignaturesFromEstParam | 0.136 | 0.000 | 0.136 | |
| isAlexandrovSet | 0.048 | 0.008 | 1.009 | |
| isExposureSet | 2.352 | 0.281 | 3.639 | |
| isShiraishiSet | 0.080 | 0.008 | 1.139 | |
| isSignatureSet | 0.046 | 0.008 | 1.210 | |
| mapSignatureSets | 0.123 | 0.008 | 1.080 | |
| plotDecomposedContribution | 0.479 | 0.044 | 1.576 | |
| plotExplainedVariance | 68.581 | 0.835 | 69.416 | |
| plotMutationDistribution | 1.921 | 0.012 | 2.981 | |
| readAlexandrovSignatures | 0.059 | 0.000 | 1.010 | |
| readGenomesFromMPF | 2.219 | 0.232 | 2.451 | |
| readGenomesFromVCF | 2.652 | 0.244 | 2.896 | |
| readShiraishiSignatures | 0.004 | 0.000 | 0.004 | |
| sameSignatureFormat | 0.076 | 0.012 | 1.031 | |