| Back to Multiple platform build/check report for BioC 3.16: simplified long |
|
This page was generated on 2023-04-12 11:05:02 -0400 (Wed, 12 Apr 2023).
| Hostname | OS | Arch (*) | R version | Installed pkgs |
|---|---|---|---|---|
| nebbiolo2 | Linux (Ubuntu 20.04.5 LTS) | x86_64 | 4.2.3 (2023-03-15) -- "Shortstop Beagle" | 4502 |
| palomino4 | Windows Server 2022 Datacenter | x64 | 4.2.3 (2023-03-15 ucrt) -- "Shortstop Beagle" | 4282 |
| lconway | macOS 12.5.1 Monterey | x86_64 | 4.2.3 (2023-03-15) -- "Shortstop Beagle" | 4310 |
| Click on any hostname to see more info about the system (e.g. compilers) (*) as reported by 'uname -p', except on Windows and Mac OS X | ||||
|
To the developers/maintainers of the dce package: - Please allow up to 24 hours (and sometimes 48 hours) for your latest push to git@git.bioconductor.org:packages/dce.git to reflect on this report. See How and When does the builder pull? When will my changes propagate? for more information. - Make sure to use the following settings in order to reproduce any error or warning you see on this page. |
| Package 480/2183 | Hostname | OS / Arch | INSTALL | BUILD | CHECK | BUILD BIN | ||||||||
| dce 1.6.0 (landing page) Kim Philipp Jablonski
| nebbiolo2 | Linux (Ubuntu 20.04.5 LTS) / x86_64 | OK | OK | OK | |||||||||
| palomino4 | Windows Server 2022 Datacenter / x64 | OK | OK | OK | OK | |||||||||
| lconway | macOS 12.5.1 Monterey / x86_64 | OK | OK | OK | OK | |||||||||
| Package: dce |
| Version: 1.6.0 |
| Command: /home/biocbuild/bbs-3.16-bioc/R/bin/R CMD check --install=check:dce.install-out.txt --library=/home/biocbuild/bbs-3.16-bioc/R/site-library --timings dce_1.6.0.tar.gz |
| StartedAt: 2023-04-10 20:07:55 -0400 (Mon, 10 Apr 2023) |
| EndedAt: 2023-04-10 20:15:00 -0400 (Mon, 10 Apr 2023) |
| EllapsedTime: 424.8 seconds |
| RetCode: 0 |
| Status: OK |
| CheckDir: dce.Rcheck |
| Warnings: 0 |
##############################################################################
##############################################################################
###
### Running command:
###
### /home/biocbuild/bbs-3.16-bioc/R/bin/R CMD check --install=check:dce.install-out.txt --library=/home/biocbuild/bbs-3.16-bioc/R/site-library --timings dce_1.6.0.tar.gz
###
##############################################################################
##############################################################################
* using log directory ‘/home/biocbuild/bbs-3.16-bioc/meat/dce.Rcheck’
* using R version 4.2.3 (2023-03-15)
* using platform: x86_64-pc-linux-gnu (64-bit)
* using session charset: UTF-8
* checking for file ‘dce/DESCRIPTION’ ... OK
* checking extension type ... Package
* this is package ‘dce’ version ‘1.6.0’
* package encoding: UTF-8
* checking package namespace information ... OK
* checking package dependencies ... OK
* checking if this is a source package ... OK
* checking if there is a namespace ... OK
* checking for hidden files and directories ... OK
* checking for portable file names ... OK
* checking for sufficient/correct file permissions ... OK
* checking whether package ‘dce’ can be installed ... OK
* checking installed package size ... OK
* checking package directory ... OK
* checking ‘build’ directory ... OK
* checking DESCRIPTION meta-information ... OK
* checking top-level files ... OK
* checking for left-over files ... OK
* checking index information ... OK
* checking package subdirectories ... OK
* checking R files for non-ASCII characters ... OK
* checking R files for syntax errors ... OK
* checking whether the package can be loaded ... OK
* checking whether the package can be loaded with stated dependencies ... OK
* checking whether the package can be unloaded cleanly ... OK
* checking whether the namespace can be loaded with stated dependencies ... OK
* checking whether the namespace can be unloaded cleanly ... OK
* checking loading without being on the library search path ... OK
* checking dependencies in R code ... OK
* checking S3 generic/method consistency ... OK
* checking replacement functions ... OK
* checking foreign function calls ... OK
* checking R code for possible problems ... NOTE
plot_network: no visible binding for global variable ‘.’
Undefined global functions or variables:
.
* checking Rd files ... OK
* checking Rd metadata ... OK
* checking Rd cross-references ... OK
* checking for missing documentation entries ... OK
* checking for code/documentation mismatches ... OK
* checking Rd \usage sections ... OK
* checking Rd contents ... OK
* checking for unstated dependencies in examples ... OK
* checking contents of ‘data’ directory ... OK
* checking data for non-ASCII characters ... NOTE
Note: found 3 marked UTF-8 strings
* checking LazyData ... OK
* checking data for ASCII and uncompressed saves ... OK
* checking files in ‘vignettes’ ... OK
* checking examples ... OK
Examples with CPU (user + system) or elapsed time > 5s
user system elapsed
get_pathways 4.866 0.196 5.062
* checking for unstated dependencies in ‘tests’ ... OK
* checking tests ...
Running ‘testthat.R’
OK
* checking for unstated dependencies in vignettes ... OK
* checking package vignettes in ‘inst/doc’ ... OK
* checking running R code from vignettes ...
‘dce.Rmd’ using ‘UTF-8’... OK
‘pathway_databases.Rmd’ using ‘UTF-8’... OK
NONE
* checking re-building of vignette outputs ... OK
* checking PDF version of manual ... OK
* DONE
Status: 2 NOTEs
See
‘/home/biocbuild/bbs-3.16-bioc/meat/dce.Rcheck/00check.log’
for details.
dce.Rcheck/00install.out
############################################################################## ############################################################################## ### ### Running command: ### ### /home/biocbuild/bbs-3.16-bioc/R/bin/R CMD INSTALL dce ### ############################################################################## ############################################################################## * installing to library ‘/home/biocbuild/bbs-3.16-bioc/R/site-library’ * installing *source* package ‘dce’ ... ** using staged installation ** R ** data *** moving datasets to lazyload DB ** inst ** byte-compile and prepare package for lazy loading ** help *** installing help indices *** copying figures ** building package indices ** installing vignettes ** testing if installed package can be loaded from temporary location ** testing if installed package can be loaded from final location ** testing if installed package keeps a record of temporary installation path * DONE (dce)
dce.Rcheck/tests/testthat.Rout
R version 4.2.3 (2023-03-15) -- "Shortstop Beagle"
Copyright (C) 2023 The R Foundation for Statistical Computing
Platform: x86_64-pc-linux-gnu (64-bit)
R is free software and comes with ABSOLUTELY NO WARRANTY.
You are welcome to redistribute it under certain conditions.
Type 'license()' or 'licence()' for distribution details.
R is a collaborative project with many contributors.
Type 'contributors()' for more information and
'citation()' on how to cite R or R packages in publications.
Type 'demo()' for some demos, 'help()' for on-line help, or
'help.start()' for an HTML browser interface to help.
Type 'q()' to quit R.
> library(igraph)
Attaching package: 'igraph'
The following objects are masked from 'package:stats':
decompose, spectrum
The following object is masked from 'package:base':
union
> library(tidyverse)
── Attaching core tidyverse packages ──────────────────────── tidyverse 2.0.0 ──
✔ dplyr 1.1.1 ✔ readr 2.1.4
✔ forcats 1.0.0 ✔ stringr 1.5.0
✔ ggplot2 3.4.2 ✔ tibble 3.2.1
✔ lubridate 1.9.2 ✔ tidyr 1.3.0
✔ purrr 1.0.1
── Conflicts ────────────────────────────────────────── tidyverse_conflicts() ──
✖ lubridate::%--%() masks igraph::%--%()
✖ dplyr::as_data_frame() masks tibble::as_data_frame(), igraph::as_data_frame()
✖ purrr::compose() masks igraph::compose()
✖ tidyr::crossing() masks igraph::crossing()
✖ dplyr::filter() masks stats::filter()
✖ dplyr::lag() masks stats::lag()
✖ purrr::simplify() masks igraph::simplify()
ℹ Use the conflicted package (<http://conflicted.r-lib.org/>) to force all conflicts to become errors
>
> library(testthat)
Attaching package: 'testthat'
The following object is masked from 'package:dplyr':
matches
The following object is masked from 'package:purrr':
is_null
The following objects are masked from 'package:readr':
edition_get, local_edition
The following object is masked from 'package:tidyr':
matches
The following object is masked from 'package:igraph':
compare
>
> library(dce)
>
>
> test_check("dce")
[ FAIL 0 | WARN 204 | SKIP 5 | PASS 40031 ]
══ Skipped tests ═══════════════════════════════════════════════════════════════
• empty test (5)
[ FAIL 0 | WARN 204 | SKIP 5 | PASS 40031 ]
>
> proc.time()
user system elapsed
74.541 1.578 76.117
dce.Rcheck/dce-Ex.timings
| name | user | system | elapsed | |
| as.data.frame.dce | 1.998 | 0.140 | 2.138 | |
| as_adjmat | 0.039 | 0.000 | 0.038 | |
| create_random_DAG | 0.023 | 0.000 | 0.023 | |
| dce-methods | 0.230 | 0.016 | 0.246 | |
| dce_nb | 2.786 | 0.068 | 2.855 | |
| estimate_latent_count | 1.483 | 0.028 | 1.512 | |
| g2dag | 0.256 | 0.000 | 0.256 | |
| get_pathway_info | 0.403 | 0.004 | 0.407 | |
| get_pathways | 4.866 | 0.196 | 5.062 | |
| get_prediction_counts | 0.001 | 0.000 | 0.001 | |
| graph2df | 0.050 | 0.000 | 0.051 | |
| graph_union | 0.074 | 0.004 | 0.078 | |
| pcor | 0.000 | 0.003 | 0.002 | |
| permutation_test | 0.021 | 0.001 | 0.022 | |
| plot.dce | 0.723 | 0.024 | 0.747 | |
| plot_network | 0.252 | 0.003 | 0.256 | |
| propagate_gene_edges | 0.103 | 0.004 | 0.107 | |
| resample_edge_weights | 0.004 | 0.000 | 0.004 | |
| simulate_data-methods | 0.053 | 0.000 | 0.053 | |
| topologically_ordering | 0.001 | 0.000 | 0.001 | |
| trueEffects | 0.005 | 0.000 | 0.004 | |