| Back to Multiple platform build/check report for BioC 3.16: simplified long |
|
This page was generated on 2023-04-12 11:06:04 -0400 (Wed, 12 Apr 2023).
| Hostname | OS | Arch (*) | R version | Installed pkgs |
|---|---|---|---|---|
| nebbiolo2 | Linux (Ubuntu 20.04.5 LTS) | x86_64 | 4.2.3 (2023-03-15) -- "Shortstop Beagle" | 4502 |
| palomino4 | Windows Server 2022 Datacenter | x64 | 4.2.3 (2023-03-15 ucrt) -- "Shortstop Beagle" | 4282 |
| lconway | macOS 12.5.1 Monterey | x86_64 | 4.2.3 (2023-03-15) -- "Shortstop Beagle" | 4310 |
| Click on any hostname to see more info about the system (e.g. compilers) (*) as reported by 'uname -p', except on Windows and Mac OS X | ||||
|
To the developers/maintainers of the dada2 package: - Please allow up to 24 hours (and sometimes 48 hours) for your latest push to git@git.bioconductor.org:packages/dada2.git to reflect on this report. See How and When does the builder pull? When will my changes propagate? for more information. - Make sure to use the following settings in order to reproduce any error or warning you see on this page. |
| Package 471/2183 | Hostname | OS / Arch | INSTALL | BUILD | CHECK | BUILD BIN | ||||||||
| dada2 1.26.0 (landing page) Benjamin Callahan
| nebbiolo2 | Linux (Ubuntu 20.04.5 LTS) / x86_64 | OK | OK | OK | |||||||||
| palomino4 | Windows Server 2022 Datacenter / x64 | OK | OK | OK | OK | |||||||||
| lconway | macOS 12.5.1 Monterey / x86_64 | OK | OK | OK | OK | |||||||||
| Package: dada2 |
| Version: 1.26.0 |
| Command: rm -rf dada2.buildbin-libdir && mkdir dada2.buildbin-libdir && /Users/biocbuild/BBS/utils/build-universal.sh dada2_1.26.0.tar.gz /Library/Frameworks/R.framework/Resources/bin/R dada2.buildbin-libdir |
| StartedAt: 2023-04-10 23:39:29 -0400 (Mon, 10 Apr 2023) |
| EndedAt: 2023-04-10 23:41:41 -0400 (Mon, 10 Apr 2023) |
| EllapsedTime: 131.9 seconds |
| RetCode: 0 |
| Status: OK |
| PackageFile: dada2_1.26.0.tgz |
| PackageFileSize: 3.319 MiB |
##############################################################################
##############################################################################
###
### Running command:
###
### rm -rf dada2.buildbin-libdir && mkdir dada2.buildbin-libdir && /Users/biocbuild/BBS/utils/build-universal.sh dada2_1.26.0.tar.gz /Library/Frameworks/R.framework/Resources/bin/R dada2.buildbin-libdir
###
##############################################################################
##############################################################################
>>>>>>>
>>>>>>> INSTALLATION WITH 'R CMD INSTALL --preclean --no-multiarch --library=dada2.buildbin-libdir dada2_1.26.0.tar.gz'
>>>>>>>
* installing *source* package ‘dada2’ ...
** using staged installation
** libs
clang++ -mmacosx-version-min=10.13 -std=gnu++11 -I"/Library/Frameworks/R.framework/Resources/include" -DNDEBUG -I'/Library/Frameworks/R.framework/Versions/4.2/Resources/library/Rcpp/include' -I'/Library/Frameworks/R.framework/Versions/4.2/Resources/library/RcppParallel/include' -I/usr/local/include -fPIC -Wall -g -O2 -c RcppExports.cpp -o RcppExports.o
In file included from RcppExports.cpp:4:
In file included from ./../inst/include/dada2.h:7:
./../inst/include/dada2_RcppExports.h:14:14: warning: unused function 'validateSignature' [-Wunused-function]
void validateSignature(const char* sig) {
^
1 warning generated.
clang++ -mmacosx-version-min=10.13 -std=gnu++11 -I"/Library/Frameworks/R.framework/Resources/include" -DNDEBUG -I'/Library/Frameworks/R.framework/Versions/4.2/Resources/library/Rcpp/include' -I'/Library/Frameworks/R.framework/Versions/4.2/Resources/library/RcppParallel/include' -I/usr/local/include -fPIC -Wall -g -O2 -c Rmain.cpp -o Rmain.o
Rmain.cpp:83:8: warning: unused variable 'HW_SSE2' [-Wunused-variable]
bool HW_SSE2 = false;
^
Rmain.cpp:84:8: warning: unused variable 'HW_SSE3' [-Wunused-variable]
bool HW_SSE3 = false;
^
Rmain.cpp:82:8: warning: unused variable 'HW_SSE' [-Wunused-variable]
bool HW_SSE = false;
^
3 warnings generated.
clang++ -mmacosx-version-min=10.13 -std=gnu++11 -I"/Library/Frameworks/R.framework/Resources/include" -DNDEBUG -I'/Library/Frameworks/R.framework/Versions/4.2/Resources/library/Rcpp/include' -I'/Library/Frameworks/R.framework/Versions/4.2/Resources/library/RcppParallel/include' -I/usr/local/include -fPIC -Wall -g -O2 -c chimera.cpp -o chimera.o
clang++ -mmacosx-version-min=10.13 -std=gnu++11 -I"/Library/Frameworks/R.framework/Resources/include" -DNDEBUG -I'/Library/Frameworks/R.framework/Versions/4.2/Resources/library/Rcpp/include' -I'/Library/Frameworks/R.framework/Versions/4.2/Resources/library/RcppParallel/include' -I/usr/local/include -fPIC -Wall -g -O2 -c cluster.cpp -o cluster.o
clang++ -mmacosx-version-min=10.13 -std=gnu++11 -I"/Library/Frameworks/R.framework/Resources/include" -DNDEBUG -I'/Library/Frameworks/R.framework/Versions/4.2/Resources/library/Rcpp/include' -I'/Library/Frameworks/R.framework/Versions/4.2/Resources/library/RcppParallel/include' -I/usr/local/include -fPIC -Wall -g -O2 -c containers.cpp -o containers.o
clang++ -mmacosx-version-min=10.13 -std=gnu++11 -I"/Library/Frameworks/R.framework/Resources/include" -DNDEBUG -I'/Library/Frameworks/R.framework/Versions/4.2/Resources/library/Rcpp/include' -I'/Library/Frameworks/R.framework/Versions/4.2/Resources/library/RcppParallel/include' -I/usr/local/include -fPIC -Wall -g -O2 -c error.cpp -o error.o
error.cpp:178:51: warning: variable 'ncol' set but not used [-Wunused-but-set-variable]
unsigned int i, pos, pos1, qind, j, r, s, nti0, ncol;
^
1 warning generated.
clang++ -mmacosx-version-min=10.13 -std=gnu++11 -I"/Library/Frameworks/R.framework/Resources/include" -DNDEBUG -I'/Library/Frameworks/R.framework/Versions/4.2/Resources/library/Rcpp/include' -I'/Library/Frameworks/R.framework/Versions/4.2/Resources/library/RcppParallel/include' -I/usr/local/include -fPIC -Wall -g -O2 -c evaluate.cpp -o evaluate.o
evaluate.cpp:327:10: warning: variable 'len1' set but not used [-Wunused-but-set-variable]
size_t len1 = 0, len2 = 0;
^
evaluate.cpp:327:20: warning: variable 'len2' set but not used [-Wunused-but-set-variable]
size_t len1 = 0, len2 = 0;
^
2 warnings generated.
clang++ -mmacosx-version-min=10.13 -std=gnu++11 -I"/Library/Frameworks/R.framework/Resources/include" -DNDEBUG -I'/Library/Frameworks/R.framework/Versions/4.2/Resources/library/Rcpp/include' -I'/Library/Frameworks/R.framework/Versions/4.2/Resources/library/RcppParallel/include' -I/usr/local/include -fPIC -Wall -g -O2 -c filter.cpp -o filter.o
clang++ -mmacosx-version-min=10.13 -std=gnu++11 -I"/Library/Frameworks/R.framework/Resources/include" -DNDEBUG -I'/Library/Frameworks/R.framework/Versions/4.2/Resources/library/Rcpp/include' -I'/Library/Frameworks/R.framework/Versions/4.2/Resources/library/RcppParallel/include' -I/usr/local/include -fPIC -Wall -g -O2 -c kmers.cpp -o kmers.o
clang++ -mmacosx-version-min=10.13 -std=gnu++11 -I"/Library/Frameworks/R.framework/Resources/include" -DNDEBUG -I'/Library/Frameworks/R.framework/Versions/4.2/Resources/library/Rcpp/include' -I'/Library/Frameworks/R.framework/Versions/4.2/Resources/library/RcppParallel/include' -I/usr/local/include -fPIC -Wall -g -O2 -c misc.cpp -o misc.o
clang++ -mmacosx-version-min=10.13 -std=gnu++11 -I"/Library/Frameworks/R.framework/Resources/include" -DNDEBUG -I'/Library/Frameworks/R.framework/Versions/4.2/Resources/library/Rcpp/include' -I'/Library/Frameworks/R.framework/Versions/4.2/Resources/library/RcppParallel/include' -I/usr/local/include -fPIC -Wall -g -O2 -c nwalign_endsfree.cpp -o nwalign_endsfree.o
clang++ -mmacosx-version-min=10.13 -std=gnu++11 -I"/Library/Frameworks/R.framework/Resources/include" -DNDEBUG -I'/Library/Frameworks/R.framework/Versions/4.2/Resources/library/Rcpp/include' -I'/Library/Frameworks/R.framework/Versions/4.2/Resources/library/RcppParallel/include' -I/usr/local/include -fPIC -Wall -g -O2 -c nwalign_vectorized.cpp -o nwalign_vectorized.o
nwalign_vectorized.cpp:75:21: warning: variable 'end_col' set but not used [-Wunused-but-set-variable]
size_t start_col, end_col;
^
1 warning generated.
clang++ -mmacosx-version-min=10.13 -std=gnu++11 -I"/Library/Frameworks/R.framework/Resources/include" -DNDEBUG -I'/Library/Frameworks/R.framework/Versions/4.2/Resources/library/Rcpp/include' -I'/Library/Frameworks/R.framework/Versions/4.2/Resources/library/RcppParallel/include' -I/usr/local/include -fPIC -Wall -g -O2 -c pval.cpp -o pval.o
clang++ -mmacosx-version-min=10.13 -std=gnu++11 -I"/Library/Frameworks/R.framework/Resources/include" -DNDEBUG -I'/Library/Frameworks/R.framework/Versions/4.2/Resources/library/Rcpp/include' -I'/Library/Frameworks/R.framework/Versions/4.2/Resources/library/RcppParallel/include' -I/usr/local/include -fPIC -Wall -g -O2 -c taxonomy.cpp -o taxonomy.o
taxonomy.cpp:145:31: warning: variable 'boot_match' set but not used [-Wunused-but-set-variable]
unsigned int boot, booti, boot_match, arraylen, arraylen_rc;
^
1 warning generated.
clang++ -mmacosx-version-min=10.13 -std=gnu++11 -dynamiclib -Wl,-headerpad_max_install_names -undefined dynamic_lookup -single_module -multiply_defined suppress -L/Library/Frameworks/R.framework/Resources/lib -L/usr/local/lib -o dada2.so RcppExports.o Rmain.o chimera.o cluster.o containers.o error.o evaluate.o filter.o kmers.o misc.o nwalign_endsfree.o nwalign_vectorized.o pval.o taxonomy.o -F/Library/Frameworks/R.framework/.. -framework R -Wl,-framework -Wl,CoreFoundation
installing to /Users/biocbuild/bbs-3.16-bioc/meat/dada2.buildbin-libdir/00LOCK-dada2/00new/dada2/libs
** R
** data
*** moving datasets to lazyload DB
** inst
** byte-compile and prepare package for lazy loading
** help
*** installing help indices
** building package indices
** installing vignettes
** testing if installed package can be loaded from temporary location
** checking absolute paths in shared objects and dynamic libraries
** testing if installed package can be loaded from final location
** testing if installed package keeps a record of temporary installation path
* DONE (dada2)
>>>>>>>
>>>>>>> FIXING LINKS FOR dada2.buildbin-libdir/dada2/libs/dada2.so
>>>>>>>
install_name_tool -change "/usr/local/lib/libgcc_s.1.dylib" "/Library/Frameworks/R.framework/Versions/4.2/Resources/lib/libgcc_s.1.dylib" "dada2.buildbin-libdir/dada2/libs/dada2.so"
install_name_tool -change "/usr/local/lib/libgfortran.5.dylib" "/Library/Frameworks/R.framework/Versions/4.2/Resources/lib/libgfortran.5.dylib" "dada2.buildbin-libdir/dada2/libs/dada2.so"
install_name_tool -change "/usr/local/lib/libquadmath.0.dylib" "/Library/Frameworks/R.framework/Versions/4.2/Resources/lib/libquadmath.0.dylib" "dada2.buildbin-libdir/dada2/libs/dada2.so"