| Back to Multiple platform build/check report for BioC 3.16 |
|
This page was generated on 2022-07-11 11:06:44 -0400 (Mon, 11 Jul 2022).
| Hostname | OS | Arch (*) | R version | Installed pkgs |
|---|---|---|---|---|
| nebbiolo2 | Linux (Ubuntu 20.04.4 LTS) | x86_64 | 4.2.1 (2022-06-23) -- "Funny-Looking Kid" | 4148 |
| lconway | macOS 12.2.1 Monterey | x86_64 | 4.2.0 Patched (2022-05-29 r82424) -- "Vigorous Calisthenics" | 4168 |
| kjohnson | macOS 12.4 Monterey | arm64 | 4.2.1 (2022-06-23) -- "Funny-Looking Kid" | 3545 |
| Click on any hostname to see more info about the system (e.g. compilers) (*) as reported by 'uname -p', except on Windows and Mac OS X | ||||
|
To the developers/maintainers of the dada2 package: - Please allow up to 24 hours (and sometimes 48 hours) for your latest push to git@git.bioconductor.org:packages/dada2.git to reflect on this report. See How and When does the builder pull? When will my changes propagate? for more information. - Make sure to use the following settings in order to reproduce any error or warning you see on this page. |
| Package 460/2130 | Hostname | OS / Arch | INSTALL | BUILD | CHECK | BUILD BIN | ||||||||
| dada2 1.25.0 (landing page) Benjamin Callahan
| nebbiolo2 | Linux (Ubuntu 20.04.4 LTS) / x86_64 | OK | OK | OK | |||||||||
| lconway | macOS 12.2.1 Monterey / x86_64 | OK | OK | OK | OK | |||||||||
| kjohnson | macOS 12.4 Monterey / arm64 | ERROR | NA | NA | NA | |||||||||
| Package: dada2 |
| Version: 1.25.0 |
| Command: /Library/Frameworks/R.framework/Resources/bin/R CMD INSTALL dada2 |
| StartedAt: 2022-07-10 18:28:33 -0400 (Sun, 10 Jul 2022) |
| EndedAt: 2022-07-10 18:29:03 -0400 (Sun, 10 Jul 2022) |
| EllapsedTime: 29.5 seconds |
| RetCode: 1 |
| Status: ERROR |
##############################################################################
##############################################################################
###
### Running command:
###
### /Library/Frameworks/R.framework/Resources/bin/R CMD INSTALL dada2
###
##############################################################################
##############################################################################
* installing to library ‘/Library/Frameworks/R.framework/Versions/4.2-arm64/Resources/library’
* installing *source* package ‘dada2’ ...
** using staged installation
** libs
clang++ -arch arm64 -std=gnu++11 -I"/Library/Frameworks/R.framework/Resources/include" -DNDEBUG -I'/Library/Frameworks/R.framework/Versions/4.2-arm64/Resources/library/Rcpp/include' -I'/Library/Frameworks/R.framework/Versions/4.2-arm64/Resources/library/RcppParallel/include' -I/opt/R/arm64/include -fPIC -falign-functions=64 -Wall -g -O2 -c RcppExports.cpp -o RcppExports.o
In file included from RcppExports.cpp:4:
In file included from ./../inst/include/dada2.h:7:
./../inst/include/dada2_RcppExports.h:14:14: warning: unused function 'validateSignature' [-Wunused-function]
void validateSignature(const char* sig) {
^
1 warning generated.
clang++ -arch arm64 -std=gnu++11 -I"/Library/Frameworks/R.framework/Resources/include" -DNDEBUG -I'/Library/Frameworks/R.framework/Versions/4.2-arm64/Resources/library/Rcpp/include' -I'/Library/Frameworks/R.framework/Versions/4.2-arm64/Resources/library/RcppParallel/include' -I/opt/R/arm64/include -fPIC -falign-functions=64 -Wall -g -O2 -c Rmain.cpp -o Rmain.o
In file included from Rmain.cpp:7:
/Library/Developer/CommandLineTools/usr/lib/clang/13.1.6/include/cpuid.h:14:2: error: this header is for x86 only
#error this header is for x86 only
^
/Library/Developer/CommandLineTools/usr/lib/clang/13.1.6/include/cpuid.h:286:5: error: invalid output constraint '=a' in asm
__cpuid(__leaf, __eax, __ebx, __ecx, __edx);
^
/Library/Developer/CommandLineTools/usr/lib/clang/13.1.6/include/cpuid.h:251:11: note: expanded from macro '__cpuid'
: "=a"(__eax), "=r" (__ebx), "=c"(__ecx), "=d"(__edx) \
^
/Library/Developer/CommandLineTools/usr/lib/clang/13.1.6/include/cpuid.h:301:5: error: invalid output constraint '=a' in asm
__cpuid(__leaf, *__eax, *__ebx, *__ecx, *__edx);
^
/Library/Developer/CommandLineTools/usr/lib/clang/13.1.6/include/cpuid.h:251:11: note: expanded from macro '__cpuid'
: "=a"(__eax), "=r" (__ebx), "=c"(__ecx), "=d"(__edx) \
^
/Library/Developer/CommandLineTools/usr/lib/clang/13.1.6/include/cpuid.h:315:5: error: invalid output constraint '=a' in asm
__cpuid_count(__leaf, __subleaf, *__eax, *__ebx, *__ecx, *__edx);
^
/Library/Developer/CommandLineTools/usr/lib/clang/13.1.6/include/cpuid.h:258:11: note: expanded from macro '__cpuid_count'
: "=a"(__eax), "=r" (__ebx), "=c"(__ecx), "=d"(__edx) \
^
Rmain.cpp:9:3: error: invalid output constraint '=a' in asm
__cpuid_count(InfoType, 0, info[0], info[1], info[2], info[3]);
^
/Library/Developer/CommandLineTools/usr/lib/clang/13.1.6/include/cpuid.h:258:11: note: expanded from macro '__cpuid_count'
: "=a"(__eax), "=r" (__ebx), "=c"(__ecx), "=d"(__edx) \
^
Rmain.cpp:82:8: warning: variable 'HW_SSE3' set but not used [-Wunused-but-set-variable]
bool HW_SSE3 = false;
^
1 warning and 5 errors generated.
make: *** [Rmain.o] Error 1
ERROR: compilation failed for package ‘dada2’
* removing ‘/Library/Frameworks/R.framework/Versions/4.2-arm64/Resources/library/dada2’