| Back to Multiple platform build/check report for BioC 3.16: simplified long |
|
This page was generated on 2023-04-12 11:05:02 -0400 (Wed, 12 Apr 2023).
| Hostname | OS | Arch (*) | R version | Installed pkgs |
|---|---|---|---|---|
| nebbiolo2 | Linux (Ubuntu 20.04.5 LTS) | x86_64 | 4.2.3 (2023-03-15) -- "Shortstop Beagle" | 4502 |
| palomino4 | Windows Server 2022 Datacenter | x64 | 4.2.3 (2023-03-15 ucrt) -- "Shortstop Beagle" | 4282 |
| lconway | macOS 12.5.1 Monterey | x86_64 | 4.2.3 (2023-03-15) -- "Shortstop Beagle" | 4310 |
| Click on any hostname to see more info about the system (e.g. compilers) (*) as reported by 'uname -p', except on Windows and Mac OS X | ||||
|
To the developers/maintainers of the crisprseekplus package: - Please allow up to 24 hours (and sometimes 48 hours) for your latest push to git@git.bioconductor.org:packages/crisprseekplus.git to reflect on this report. See How and When does the builder pull? When will my changes propagate? for more information. - Make sure to use the following settings in order to reproduce any error or warning you see on this page. |
| Package 439/2183 | Hostname | OS / Arch | INSTALL | BUILD | CHECK | BUILD BIN | ||||||||
| crisprseekplus 1.24.0 (landing page) Alper Kucukural
| nebbiolo2 | Linux (Ubuntu 20.04.5 LTS) / x86_64 | OK | OK | OK | |||||||||
| palomino4 | Windows Server 2022 Datacenter / x64 | OK | OK | OK | OK | |||||||||
| lconway | macOS 12.5.1 Monterey / x86_64 | OK | OK | OK | OK | |||||||||
| Package: crisprseekplus |
| Version: 1.24.0 |
| Command: /home/biocbuild/bbs-3.16-bioc/R/bin/R CMD check --install=check:crisprseekplus.install-out.txt --library=/home/biocbuild/bbs-3.16-bioc/R/site-library --timings crisprseekplus_1.24.0.tar.gz |
| StartedAt: 2023-04-10 20:01:45 -0400 (Mon, 10 Apr 2023) |
| EndedAt: 2023-04-10 20:07:07 -0400 (Mon, 10 Apr 2023) |
| EllapsedTime: 322.1 seconds |
| RetCode: 0 |
| Status: OK |
| CheckDir: crisprseekplus.Rcheck |
| Warnings: 0 |
##############################################################################
##############################################################################
###
### Running command:
###
### /home/biocbuild/bbs-3.16-bioc/R/bin/R CMD check --install=check:crisprseekplus.install-out.txt --library=/home/biocbuild/bbs-3.16-bioc/R/site-library --timings crisprseekplus_1.24.0.tar.gz
###
##############################################################################
##############################################################################
* using log directory ‘/home/biocbuild/bbs-3.16-bioc/meat/crisprseekplus.Rcheck’
* using R version 4.2.3 (2023-03-15)
* using platform: x86_64-pc-linux-gnu (64-bit)
* using session charset: UTF-8
* checking for file ‘crisprseekplus/DESCRIPTION’ ... OK
* checking extension type ... Package
* this is package ‘crisprseekplus’ version ‘1.24.0’
* checking package namespace information ... OK
* checking package dependencies ... OK
* checking if this is a source package ... OK
* checking if there is a namespace ... OK
* checking for hidden files and directories ... OK
* checking for portable file names ... OK
* checking for sufficient/correct file permissions ... OK
* checking whether package ‘crisprseekplus’ can be installed ... OK
* checking installed package size ... OK
* checking package directory ... OK
* checking ‘build’ directory ... OK
* checking DESCRIPTION meta-information ... OK
* checking top-level files ... OK
* checking for left-over files ... OK
* checking index information ... OK
* checking package subdirectories ... OK
* checking R files for non-ASCII characters ... OK
* checking R files for syntax errors ... OK
* checking whether the package can be loaded ... OK
* checking whether the package can be loaded with stated dependencies ... OK
* checking whether the package can be unloaded cleanly ... OK
* checking whether the namespace can be loaded with stated dependencies ... OK
* checking whether the namespace can be unloaded cleanly ... OK
* checking loading without being on the library search path ... OK
* checking dependencies in R code ... OK
* checking S3 generic/method consistency ... OK
* checking replacement functions ... OK
* checking foreign function calls ... OK
* checking R code for possible problems ... NOTE
installpack: no visible global function definition for
'install.packages'
Undefined global functions or variables:
install.packages
Consider adding
importFrom("utils", "install.packages")
to your NAMESPACE file.
* checking Rd files ... OK
* checking Rd metadata ... OK
* checking Rd cross-references ... OK
* checking for missing documentation entries ... OK
* checking for code/documentation mismatches ... OK
* checking Rd \usage sections ... OK
* checking Rd contents ... OK
* checking for unstated dependencies in examples ... OK
* checking line endings in Makefiles ... OK
* checking for GNU extensions in Makefiles ... OK
* checking include directives in Makefiles ... OK
* checking files in ‘vignettes’ ... OK
* checking examples ... OK
* checking for unstated dependencies in ‘tests’ ... OK
* checking tests ...
Running ‘test-ui.R’
OK
* checking for unstated dependencies in vignettes ... OK
* checking package vignettes in ‘inst/doc’ ... OK
* checking running R code from vignettes ...
‘crisprseekplus.Rmd’ using ‘UTF-8’... OK
NONE
* checking re-building of vignette outputs ... OK
* checking PDF version of manual ... OK
* DONE
Status: 1 NOTE
See
‘/home/biocbuild/bbs-3.16-bioc/meat/crisprseekplus.Rcheck/00check.log’
for details.
crisprseekplus.Rcheck/00install.out
############################################################################## ############################################################################## ### ### Running command: ### ### /home/biocbuild/bbs-3.16-bioc/R/bin/R CMD INSTALL crisprseekplus ### ############################################################################## ############################################################################## * installing to library ‘/home/biocbuild/bbs-3.16-bioc/R/site-library’ * installing *source* package ‘crisprseekplus’ ... ** using staged installation ** R ** inst ** byte-compile and prepare package for lazy loading ** help *** installing help indices ** building package indices ** installing vignettes ** testing if installed package can be loaded from temporary location ** testing if installed package can be loaded from final location ** testing if installed package keeps a record of temporary installation path * DONE (crisprseekplus)
crisprseekplus.Rcheck/tests/test-ui.Rout
R version 4.2.3 (2023-03-15) -- "Shortstop Beagle"
Copyright (C) 2023 The R Foundation for Statistical Computing
Platform: x86_64-pc-linux-gnu (64-bit)
R is free software and comes with ABSOLUTELY NO WARRANTY.
You are welcome to redistribute it under certain conditions.
Type 'license()' or 'licence()' for distribution details.
R is a collaborative project with many contributors.
Type 'contributors()' for more information and
'citation()' on how to cite R or R packages in publications.
Type 'demo()' for some demos, 'help()' for on-line help, or
'help.start()' for an HTML browser interface to help.
Type 'q()' to quit R.
> require(shiny)
Loading required package: shiny
> library(crisprseekplus)
Loading required package: shinyjs
Attaching package: 'shinyjs'
The following object is masked from 'package:shiny':
runExample
The following objects are masked from 'package:methods':
removeClass, show
Loading required package: CRISPRseek
Loading required package: BiocGenerics
Attaching package: 'BiocGenerics'
The following objects are masked from 'package:stats':
IQR, mad, sd, var, xtabs
The following objects are masked from 'package:base':
Filter, Find, Map, Position, Reduce, anyDuplicated, aperm, append,
as.data.frame, basename, cbind, colnames, dirname, do.call,
duplicated, eval, evalq, get, grep, grepl, intersect, is.unsorted,
lapply, mapply, match, mget, order, paste, pmax, pmax.int, pmin,
pmin.int, rank, rbind, rownames, sapply, setdiff, sort, table,
tapply, union, unique, unsplit, which.max, which.min
Loading required package: Biostrings
Loading required package: S4Vectors
Loading required package: stats4
Attaching package: 'S4Vectors'
The following objects are masked from 'package:base':
I, expand.grid, unname
Loading required package: IRanges
Loading required package: XVector
Loading required package: GenomeInfoDb
Attaching package: 'Biostrings'
The following object is masked from 'package:base':
strsplit
> library(shinyjs)
> library(testthat)
>
> test_that("trueFalseFunction works as expected", {
+ expect_false(trueFalseFunc(2))
+ expect_true(trueFalseFunc(1))
+ expect_silent(trueFalseFunc(3))
+ })
Test passed 😸
>
> exampleFile <- system.file("extdata","gRNA.fa", package = "GUIDEseq")
>
> test_that("tests fileInputFunction responds correctly to
+ a given input file/ receiving no input", {
+ expect_null(fileInputFunc(NULL, NULL))
+ })
Test passed 🎊
>
> test_that("Tests getLogo displays logo", {
+ expect_silent(goLogo <- getLogo())
+ expect_true(exists("goLogo"))
+ expect_equal(goLogo[[1]][[1]], "img")})
Test passed 🥳
>
>
>
> proc.time()
user system elapsed
14.783 1.098 15.869
crisprseekplus.Rcheck/crisprseekplus-Ex.timings
| name | user | system | elapsed | |
| cspServer | 0.005 | 0.001 | 0.005 | |
| cspUI | 0.274 | 0.027 | 0.303 | |
| disableDownload | 0 | 0 | 0 | |
| fileInputFunc | 0.000 | 0.000 | 0.001 | |
| getLoadingMsg | 0.000 | 0.000 | 0.001 | |
| getLogo | 0 | 0 | 0 | |
| installpack | 0.001 | 0.000 | 0.000 | |
| startcrisprseekplus | 0 | 0 | 0 | |
| trueFalseFunc | 0 | 0 | 0 | |