| Back to Multiple platform build/check report for BioC 3.16: simplified long |
|
This page was generated on 2023-04-12 11:05:01 -0400 (Wed, 12 Apr 2023).
| Hostname | OS | Arch (*) | R version | Installed pkgs |
|---|---|---|---|---|
| nebbiolo2 | Linux (Ubuntu 20.04.5 LTS) | x86_64 | 4.2.3 (2023-03-15) -- "Shortstop Beagle" | 4502 |
| palomino4 | Windows Server 2022 Datacenter | x64 | 4.2.3 (2023-03-15 ucrt) -- "Shortstop Beagle" | 4282 |
| lconway | macOS 12.5.1 Monterey | x86_64 | 4.2.3 (2023-03-15) -- "Shortstop Beagle" | 4310 |
| Click on any hostname to see more info about the system (e.g. compilers) (*) as reported by 'uname -p', except on Windows and Mac OS X | ||||
|
To the developers/maintainers of the cola package: - Please allow up to 24 hours (and sometimes 48 hours) for your latest push to git@git.bioconductor.org:packages/cola.git to reflect on this report. See How and When does the builder pull? When will my changes propagate? for more information. - Make sure to use the following settings in order to reproduce any error or warning you see on this page. |
| Package 386/2183 | Hostname | OS / Arch | INSTALL | BUILD | CHECK | BUILD BIN | ||||||||
| cola 2.4.0 (landing page) Zuguang Gu
| nebbiolo2 | Linux (Ubuntu 20.04.5 LTS) / x86_64 | OK | OK | OK | |||||||||
| palomino4 | Windows Server 2022 Datacenter / x64 | OK | OK | OK | OK | |||||||||
| lconway | macOS 12.5.1 Monterey / x86_64 | OK | OK | OK | OK | |||||||||
| Package: cola |
| Version: 2.4.0 |
| Command: /home/biocbuild/bbs-3.16-bioc/R/bin/R CMD check --install=check:cola.install-out.txt --library=/home/biocbuild/bbs-3.16-bioc/R/site-library --timings cola_2.4.0.tar.gz |
| StartedAt: 2023-04-10 19:52:25 -0400 (Mon, 10 Apr 2023) |
| EndedAt: 2023-04-10 19:55:17 -0400 (Mon, 10 Apr 2023) |
| EllapsedTime: 172.1 seconds |
| RetCode: 0 |
| Status: OK |
| CheckDir: cola.Rcheck |
| Warnings: 0 |
##############################################################################
##############################################################################
###
### Running command:
###
### /home/biocbuild/bbs-3.16-bioc/R/bin/R CMD check --install=check:cola.install-out.txt --library=/home/biocbuild/bbs-3.16-bioc/R/site-library --timings cola_2.4.0.tar.gz
###
##############################################################################
##############################################################################
* using log directory ‘/home/biocbuild/bbs-3.16-bioc/meat/cola.Rcheck’
* using R version 4.2.3 (2023-03-15)
* using platform: x86_64-pc-linux-gnu (64-bit)
* using session charset: UTF-8
* checking for file ‘cola/DESCRIPTION’ ... OK
* checking extension type ... Package
* this is package ‘cola’ version ‘2.4.0’
* checking package namespace information ... OK
* checking package dependencies ... OK
* checking if this is a source package ... OK
* checking if there is a namespace ... OK
* checking for hidden files and directories ... OK
* checking for portable file names ... OK
* checking for sufficient/correct file permissions ... OK
* checking whether package ‘cola’ can be installed ... OK
* checking installed package size ... NOTE
installed size is 8.2Mb
sub-directories of 1Mb or more:
data 3.5Mb
extdata 1.0Mb
libs 2.3Mb
* checking package directory ... OK
* checking ‘build’ directory ... OK
* checking DESCRIPTION meta-information ... OK
* checking top-level files ... OK
* checking for left-over files ... OK
* checking index information ... OK
* checking package subdirectories ... OK
* checking R files for non-ASCII characters ... OK
* checking R files for syntax errors ... OK
* checking whether the package can be loaded ... OK
* checking whether the package can be loaded with stated dependencies ... OK
* checking whether the package can be unloaded cleanly ... OK
* checking whether the namespace can be loaded with stated dependencies ... OK
* checking whether the namespace can be unloaded cleanly ... OK
* checking loading without being on the library search path ... OK
* checking dependencies in R code ... OK
* checking S3 generic/method consistency ... OK
* checking replacement functions ... OK
* checking foreign function calls ... OK
* checking R code for possible problems ... OK
* checking Rd files ... OK
* checking Rd metadata ... OK
* checking Rd cross-references ... OK
* checking for missing documentation entries ... OK
* checking for code/documentation mismatches ... OK
* checking Rd \usage sections ... OK
* checking Rd contents ... OK
* checking for unstated dependencies in examples ... OK
* checking contents of ‘data’ directory ... OK
* checking data for non-ASCII characters ... OK
* checking data for ASCII and uncompressed saves ... OK
* checking line endings in C/C++/Fortran sources/headers ... OK
* checking compiled code ... NOTE
Note: information on .o files is not available
* checking files in ‘vignettes’ ... OK
* checking examples ... OK
Examples with CPU (user + system) or elapsed time > 5s
user system elapsed
consensus_partition 18.983 0.056 19.039
* checking for unstated dependencies in ‘tests’ ... OK
* checking tests ...
Running ‘test-all.R’
OK
* checking for unstated dependencies in vignettes ... OK
* checking package vignettes in ‘inst/doc’ ... OK
* checking running R code from vignettes ...
‘cola.Rmd’ using ‘UTF-8’... OK
NONE
* checking re-building of vignette outputs ... OK
* checking PDF version of manual ... OK
* DONE
Status: 2 NOTEs
See
‘/home/biocbuild/bbs-3.16-bioc/meat/cola.Rcheck/00check.log’
for details.
cola.Rcheck/00install.out
############################################################################## ############################################################################## ### ### Running command: ### ### /home/biocbuild/bbs-3.16-bioc/R/bin/R CMD INSTALL cola ### ############################################################################## ############################################################################## * installing to library ‘/home/biocbuild/bbs-3.16-bioc/R/site-library’ * installing *source* package ‘cola’ ... ** using staged installation ** libs g++ -std=gnu++14 -I"/home/biocbuild/bbs-3.16-bioc/R/include" -DNDEBUG -I'/home/biocbuild/bbs-3.16-bioc/R/site-library/Rcpp/include' -I/usr/local/include -fpic -g -O2 -Wall -c RcppExports.cpp -o RcppExports.o g++ -std=gnu++14 -I"/home/biocbuild/bbs-3.16-bioc/R/include" -DNDEBUG -I'/home/biocbuild/bbs-3.16-bioc/R/site-library/Rcpp/include' -I/usr/local/include -fpic -g -O2 -Wall -c atc.cpp -o atc.o g++ -std=gnu++14 -I"/home/biocbuild/bbs-3.16-bioc/R/include" -DNDEBUG -I'/home/biocbuild/bbs-3.16-bioc/R/site-library/Rcpp/include' -I/usr/local/include -fpic -g -O2 -Wall -c cal_consensus_mat.cpp -o cal_consensus_mat.o g++ -std=gnu++14 -I"/home/biocbuild/bbs-3.16-bioc/R/include" -DNDEBUG -I'/home/biocbuild/bbs-3.16-bioc/R/site-library/Rcpp/include' -I/usr/local/include -fpic -g -O2 -Wall -c pdist.cpp -o pdist.o g++ -std=gnu++14 -shared -L/home/biocbuild/bbs-3.16-bioc/R/lib -L/usr/local/lib -o cola.so RcppExports.o atc.o cal_consensus_mat.o pdist.o -L/home/biocbuild/bbs-3.16-bioc/R/lib -lR installing to /home/biocbuild/bbs-3.16-bioc/R/site-library/00LOCK-cola/00new/cola/libs ** R ** data ** inst ** byte-compile and prepare package for lazy loading ** help *** installing help indices ** building package indices ** installing vignettes ** testing if installed package can be loaded from temporary location ** checking absolute paths in shared objects and dynamic libraries ** testing if installed package can be loaded from final location ** testing if installed package keeps a record of temporary installation path * DONE (cola)
cola.Rcheck/tests/test-all.Rout
R version 4.2.3 (2023-03-15) -- "Shortstop Beagle"
Copyright (C) 2023 The R Foundation for Statistical Computing
Platform: x86_64-pc-linux-gnu (64-bit)
R is free software and comes with ABSOLUTELY NO WARRANTY.
You are welcome to redistribute it under certain conditions.
Type 'license()' or 'licence()' for distribution details.
R is a collaborative project with many contributors.
Type 'contributors()' for more information and
'citation()' on how to cite R or R packages in publications.
Type 'demo()' for some demos, 'help()' for on-line help, or
'help.start()' for an HTML browser interface to help.
Type 'q()' to quit R.
> library(testthat)
> suppressWarnings(suppressPackageStartupMessages(library(cola)))
>
> test_check("cola")
[ FAIL 0 | WARN 0 | SKIP 0 | PASS 18 ]
>
>
> proc.time()
user system elapsed
4.188 0.235 4.407
cola.Rcheck/cola-Ex.timings
| name | user | system | elapsed | |
| ATC | 0.051 | 0.000 | 0.051 | |
| ATC_approx | 0 | 0 | 0 | |
| ConsensusPartition-class | 0 | 0 | 0 | |
| ConsensusPartitionList-class | 0 | 0 | 0 | |
| DownSamplingConsensusPartition-class | 0 | 0 | 0 | |
| Extract.ConsensusPartitionList | 0.528 | 0.012 | 0.540 | |
| Extract.HierarchicalPartition | 0.176 | 0.004 | 0.180 | |
| ExtractExtract.ConsensusPartitionList | 0.485 | 0.016 | 0.501 | |
| ExtractExtract.HierarchicalPartition | 0 | 0 | 0 | |
| FCC | 0.158 | 0.016 | 0.174 | |
| HierarchicalPartition-class | 0 | 0 | 0 | |
| PAC | 0.165 | 0.012 | 0.177 | |
| aPAC | 0.170 | 0.012 | 0.182 | |
| adjust_matrix | 0.006 | 0.000 | 0.007 | |
| adjust_outlier | 0.000 | 0.000 | 0.001 | |
| all_leaves-HierarchicalPartition-method | 0.123 | 0.004 | 0.127 | |
| all_nodes-HierarchicalPartition-method | 0.126 | 0.000 | 0.126 | |
| all_partition_methods | 0.002 | 0.000 | 0.001 | |
| all_top_value_methods | 0.000 | 0.000 | 0.001 | |
| cola | 0.043 | 0.000 | 0.043 | |
| cola_opt | 0.025 | 0.000 | 0.024 | |
| cola_report-ConsensusPartition-method | 0.000 | 0.000 | 0.001 | |
| cola_report-ConsensusPartitionList-method | 0 | 0 | 0 | |
| cola_report-HierarchicalPartition-method | 0.000 | 0.000 | 0.001 | |
| cola_report-dispatch | 0 | 0 | 0 | |
| cola_rl | 0.430 | 0.011 | 0.442 | |
| collect_classes-ConsensusPartition-method | 1.571 | 0.052 | 1.624 | |
| collect_classes-ConsensusPartitionList-method | 2.747 | 0.024 | 2.771 | |
| collect_classes-HierarchicalPartition-method | 1.319 | 0.008 | 1.328 | |
| collect_classes-dispatch | 0 | 0 | 0 | |
| collect_plots-ConsensusPartition-method | 0 | 0 | 0 | |
| collect_plots-ConsensusPartitionList-method | 0 | 0 | 0 | |
| collect_plots-dispatch | 0 | 0 | 0 | |
| collect_stats-ConsensusPartition-method | 0.000 | 0.001 | 0.000 | |
| collect_stats-ConsensusPartitionList-method | 0.383 | 0.019 | 0.403 | |
| collect_stats-dispatch | 0 | 0 | 0 | |
| colnames-ConsensusPartition-method | 0.000 | 0.000 | 0.001 | |
| colnames-ConsensusPartitionList-method | 0 | 0 | 0 | |
| colnames-DownSamplingConsensusPartition-method | 0 | 0 | 0 | |
| colnames-HierarchicalPartition-method | 0 | 0 | 0 | |
| colnames-dispatch | 0 | 0 | 0 | |
| compare_partitions-ConsensusPartition-method | 0.000 | 0.000 | 0.001 | |
| compare_signatures-ConsensusPartition-method | 0 | 0 | 0 | |
| compare_signatures-HierarchicalPartition-method | 4.689 | 0.112 | 4.802 | |
| compare_signatures-dispatch | 0.001 | 0.000 | 0.000 | |
| concordance | 0.152 | 0.004 | 0.156 | |
| config_ATC | 0 | 0 | 0 | |
| consensus_heatmap-ConsensusPartition-method | 0.525 | 0.008 | 0.533 | |
| consensus_partition | 18.983 | 0.056 | 19.039 | |
| consensus_partition_by_down_sampling | 0 | 0 | 0 | |
| correspond_between_rankings | 0.055 | 0.000 | 0.055 | |
| correspond_between_two_rankings | 0.027 | 0.000 | 0.027 | |
| david_enrichment | 0 | 0 | 0 | |
| dim.ConsensusPartition | 0.000 | 0.000 | 0.001 | |
| dim.ConsensusPartitionList | 0 | 0 | 0 | |
| dim.DownSamplingConsensusPartition | 0 | 0 | 0 | |
| dim.HierarchicalPartition | 0 | 0 | 0 | |
| dimension_reduction-ConsensusPartition-method | 0.579 | 0.028 | 0.607 | |
| dimension_reduction-DownSamplingConsensusPartition-method | 1.000 | 0.008 | 1.009 | |
| dimension_reduction-HierarchicalPartition-method | 0.523 | 0.000 | 0.523 | |
| dimension_reduction-dispatch | 0 | 0 | 0 | |
| dimension_reduction-matrix-method | 0 | 0 | 0 | |
| find_best_km | 0 | 0 | 0 | |
| functional_enrichment-ANY-method | 0 | 0 | 0 | |
| functional_enrichment-ConsensusPartition-method | 0 | 0 | 0 | |
| functional_enrichment-ConsensusPartitionList-method | 0.001 | 0.000 | 0.000 | |
| functional_enrichment-HierarchicalPartition-method | 0 | 0 | 0 | |
| functional_enrichment-dispatch | 0 | 0 | 0 | |
| get_anno-ConsensusPartition-method | 0 | 0 | 0 | |
| get_anno-ConsensusPartitionList-method | 0 | 0 | 0 | |
| get_anno-DownSamplingConsensusPartition-method | 0.076 | 0.004 | 0.081 | |
| get_anno-HierarchicalPartition-method | 0 | 0 | 0 | |
| get_anno-dispatch | 0 | 0 | 0 | |
| get_anno_col-ConsensusPartition-method | 0 | 0 | 0 | |
| get_anno_col-ConsensusPartitionList-method | 0 | 0 | 0 | |
| get_anno_col-HierarchicalPartition-method | 0 | 0 | 0 | |
| get_anno_col-dispatch | 0.000 | 0.000 | 0.001 | |
| get_children_nodes-HierarchicalPartition-method | 0 | 0 | 0 | |
| get_classes-ConsensusPartition-method | 0.172 | 0.000 | 0.172 | |
| get_classes-ConsensusPartitionList-method | 0.146 | 0.008 | 0.154 | |
| get_classes-DownSamplingConsensusPartition-method | 0.074 | 0.009 | 0.083 | |
| get_classes-HierarchicalPartition-method | 0.140 | 0.007 | 0.146 | |
| get_classes-dispatch | 0 | 0 | 0 | |
| get_consensus-ConsensusPartition-method | 0.159 | 0.008 | 0.166 | |
| get_matrix-ConsensusPartition-method | 0.336 | 0.132 | 0.468 | |
| get_matrix-ConsensusPartitionList-method | 0.321 | 0.144 | 0.464 | |
| get_matrix-HierarchicalPartition-method | 0.000 | 0.000 | 0.001 | |
| get_matrix-dispatch | 0 | 0 | 0 | |
| get_membership-ConsensusPartition-method | 0.162 | 0.022 | 0.184 | |
| get_membership-ConsensusPartitionList-method | 0.148 | 0.005 | 0.153 | |
| get_membership-dispatch | 0 | 0 | 0 | |
| get_param-ConsensusPartition-method | 0.148 | 0.012 | 0.160 | |
| get_signatures-ConsensusPartition-method | 4.901 | 0.088 | 4.923 | |
| get_signatures-DownSamplingConsensusPartition-method | 0 | 0 | 0 | |
| get_signatures-HierarchicalPartition-method | 0 | 0 | 0 | |
| get_signatures-dispatch | 0 | 0 | 0 | |
| get_stats-ConsensusPartition-method | 0.147 | 0.007 | 0.155 | |
| get_stats-ConsensusPartitionList-method | 0.147 | 0.008 | 0.156 | |
| get_stats-dispatch | 0 | 0 | 0 | |
| golub_cola | 0.167 | 0.012 | 0.178 | |
| golub_cola_ds | 0.121 | 0.005 | 0.126 | |
| golub_cola_rh | 0.160 | 0.004 | 0.164 | |
| hierarchical_partition | 0 | 0 | 0 | |
| is_best_k-ConsensusPartition-method | 0.153 | 0.003 | 0.157 | |
| is_best_k-ConsensusPartitionList-method | 0.138 | 0.020 | 0.158 | |
| is_best_k-dispatch | 0 | 0 | 0 | |
| is_leaf_node-HierarchicalPartition-method | 0.120 | 0.004 | 0.124 | |
| is_stable_k-ConsensusPartition-method | 0.146 | 0.013 | 0.159 | |
| is_stable_k-ConsensusPartitionList-method | 0.177 | 0.008 | 0.186 | |
| is_stable_k-dispatch | 0 | 0 | 0 | |
| knee_finder2 | 0.036 | 0.000 | 0.036 | |
| knitr_add_tab_item | 0 | 0 | 0 | |
| knitr_insert_tabs | 0 | 0 | 0 | |
| map_to_entrez_id | 0 | 0 | 0 | |
| max_depth-HierarchicalPartition-method | 0.124 | 0.000 | 0.123 | |
| membership_heatmap-ConsensusPartition-method | 0.446 | 0.008 | 0.453 | |
| merge_node-HierarchicalPartition-method | 0 | 0 | 0 | |
| merge_node_param | 0 | 0 | 0 | |
| ncol-ConsensusPartition-method | 0.000 | 0.001 | 0.000 | |
| ncol-ConsensusPartitionList-method | 0 | 0 | 0 | |
| ncol-DownSamplingConsensusPartition-method | 0 | 0 | 0 | |
| ncol-HierarchicalPartition-method | 0 | 0 | 0 | |
| ncol-dispatch | 0 | 0 | 0 | |
| node_info-HierarchicalPartition-method | 0 | 0 | 0 | |
| node_level-HierarchicalPartition-method | 0 | 0 | 0 | |
| nrow-ConsensusPartition-method | 0 | 0 | 0 | |
| nrow-ConsensusPartitionList-method | 0 | 0 | 0 | |
| nrow-HierarchicalPartition-method | 0.001 | 0.000 | 0.000 | |
| nrow-dispatch | 0.000 | 0.000 | 0.001 | |
| plot_ecdf-ConsensusPartition-method | 0.165 | 0.012 | 0.177 | |
| predict_classes-ConsensusPartition-method | 0 | 0 | 0 | |
| predict_classes-dispatch | 0 | 0 | 0 | |
| predict_classes-matrix-method | 0 | 0 | 0 | |
| print.hc_table_suggest_best_k | 0 | 0 | 0 | |
| recalc_stats | 0 | 0 | 0 | |
| register_NMF | 0 | 0 | 0 | |
| register_SOM | 0 | 0 | 0 | |
| register_partition_methods | 0.670 | 0.000 | 0.671 | |
| register_top_value_methods | 0.001 | 0.000 | 0.001 | |
| relabel_class | 0.008 | 0.000 | 0.007 | |
| remove_partition_methods | 0 | 0 | 0 | |
| remove_top_value_methods | 0 | 0 | 0 | |
| rownames-ConsensusPartition-method | 0 | 0 | 0 | |
| rownames-ConsensusPartitionList-method | 0 | 0 | 0 | |
| rownames-HierarchicalPartition-method | 0 | 0 | 0 | |
| rownames-dispatch | 0 | 0 | 0 | |
| run_all_consensus_partition_methods | 0 | 0 | 0 | |
| select_partition_number-ConsensusPartition-method | 0.156 | 0.010 | 0.166 | |
| show-ConsensusPartition-method | 0 | 0 | 0 | |
| show-ConsensusPartitionList-method | 0 | 0 | 0 | |
| show-DownSamplingConsensusPartition-method | 0.098 | 0.004 | 0.102 | |
| show-HierarchicalPartition-method | 0.147 | 0.011 | 0.159 | |
| show-dispatch | 0 | 0 | 0 | |
| split_node-HierarchicalPartition-method | 0 | 0 | 0 | |
| suggest_best_k-ConsensusPartition-method | 0.138 | 0.015 | 0.155 | |
| suggest_best_k-ConsensusPartitionList-method | 0.158 | 0.003 | 0.162 | |
| suggest_best_k-HierarchicalPartition-method | 0.125 | 0.004 | 0.129 | |
| suggest_best_k-dispatch | 0 | 0 | 0 | |
| test_between_factors | 0.009 | 0.000 | 0.009 | |
| test_to_known_factors-ConsensusPartition-method | 0.167 | 0.008 | 0.175 | |
| test_to_known_factors-ConsensusPartitionList-method | 0.278 | 0.004 | 0.282 | |
| test_to_known_factors-DownSamplingConsensusPartition-method | 0.104 | 0.000 | 0.105 | |
| test_to_known_factors-HierarchicalPartition-method | 0.132 | 0.004 | 0.137 | |
| test_to_known_factors-dispatch | 0 | 0 | 0 | |
| top_elements_overlap | 0.217 | 0.004 | 0.220 | |
| top_rows_heatmap-ConsensusPartition-method | 0.000 | 0.000 | 0.001 | |
| top_rows_heatmap-ConsensusPartitionList-method | 0.001 | 0.000 | 0.000 | |
| top_rows_heatmap-HierarchicalPartition-method | 0 | 0 | 0 | |
| top_rows_heatmap-dispatch | 0.001 | 0.000 | 0.000 | |
| top_rows_heatmap-matrix-method | 3.286 | 0.087 | 3.323 | |
| top_rows_overlap-ConsensusPartitionList-method | 0.773 | 0.008 | 0.782 | |
| top_rows_overlap-HierarchicalPartition-method | 0.534 | 0.004 | 0.538 | |
| top_rows_overlap-dispatch | 0 | 0 | 0 | |
| top_rows_overlap-matrix-method | 0.136 | 0.000 | 0.136 | |