| Back to Multiple platform build/check report for BioC 3.16: simplified long |
|
This page was generated on 2023-04-12 11:06:03 -0400 (Wed, 12 Apr 2023).
| Hostname | OS | Arch (*) | R version | Installed pkgs |
|---|---|---|---|---|
| nebbiolo2 | Linux (Ubuntu 20.04.5 LTS) | x86_64 | 4.2.3 (2023-03-15) -- "Shortstop Beagle" | 4502 |
| palomino4 | Windows Server 2022 Datacenter | x64 | 4.2.3 (2023-03-15 ucrt) -- "Shortstop Beagle" | 4282 |
| lconway | macOS 12.5.1 Monterey | x86_64 | 4.2.3 (2023-03-15) -- "Shortstop Beagle" | 4310 |
| Click on any hostname to see more info about the system (e.g. compilers) (*) as reported by 'uname -p', except on Windows and Mac OS X | ||||
|
To the developers/maintainers of the coMET package: - Please allow up to 24 hours (and sometimes 48 hours) for your latest push to git@git.bioconductor.org:packages/coMET.git to reflect on this report. See How and When does the builder pull? When will my changes propagate? for more information. - Make sure to use the following settings in order to reproduce any error or warning you see on this page. |
| Package 389/2183 | Hostname | OS / Arch | INSTALL | BUILD | CHECK | BUILD BIN | ||||||||
| coMET 1.30.0 (landing page) Tiphaine Martin
| nebbiolo2 | Linux (Ubuntu 20.04.5 LTS) / x86_64 | OK | OK | OK | |||||||||
| palomino4 | Windows Server 2022 Datacenter / x64 | OK | OK | OK | OK | |||||||||
| lconway | macOS 12.5.1 Monterey / x86_64 | OK | OK | OK | OK | |||||||||
| Package: coMET |
| Version: 1.30.0 |
| Command: /Library/Frameworks/R.framework/Resources/bin/R CMD check --install=check:coMET.install-out.txt --library=/Library/Frameworks/R.framework/Resources/library --no-vignettes --timings coMET_1.30.0.tar.gz |
| StartedAt: 2023-04-10 19:31:50 -0400 (Mon, 10 Apr 2023) |
| EndedAt: 2023-04-10 19:39:14 -0400 (Mon, 10 Apr 2023) |
| EllapsedTime: 444.5 seconds |
| RetCode: 0 |
| Status: OK |
| CheckDir: coMET.Rcheck |
| Warnings: 0 |
##############################################################################
##############################################################################
###
### Running command:
###
### /Library/Frameworks/R.framework/Resources/bin/R CMD check --install=check:coMET.install-out.txt --library=/Library/Frameworks/R.framework/Resources/library --no-vignettes --timings coMET_1.30.0.tar.gz
###
##############################################################################
##############################################################################
* using log directory ‘/Users/biocbuild/bbs-3.16-bioc/meat/coMET.Rcheck’
* using R version 4.2.3 (2023-03-15)
* using platform: x86_64-apple-darwin17.0 (64-bit)
* using session charset: UTF-8
* using option ‘--no-vignettes’
* checking for file ‘coMET/DESCRIPTION’ ... OK
* checking extension type ... Package
* this is package ‘coMET’ version ‘1.30.0’
* checking package namespace information ... OK
* checking package dependencies ... OK
* checking if this is a source package ... OK
* checking if there is a namespace ... OK
* checking for hidden files and directories ... OK
* checking for portable file names ... OK
* checking for sufficient/correct file permissions ... OK
* checking whether package ‘coMET’ can be installed ... OK
* checking installed package size ... NOTE
installed size is 18.9Mb
sub-directories of 1Mb or more:
data 7.6Mb
extdata 10.7Mb
* checking package directory ... OK
* checking ‘build’ directory ... OK
* checking DESCRIPTION meta-information ... OK
* checking top-level files ... NOTE
File
LICENSE
is not mentioned in the DESCRIPTION file.
* checking for left-over files ... OK
* checking index information ... OK
* checking package subdirectories ... OK
* checking R files for non-ASCII characters ... OK
* checking R files for syntax errors ... OK
* checking whether the package can be loaded ... OK
* checking whether the package can be loaded with stated dependencies ... OK
* checking whether the package can be unloaded cleanly ... OK
* checking whether the namespace can be loaded with stated dependencies ... OK
* checking whether the namespace can be unloaded cleanly ... OK
* checking dependencies in R code ... OK
* checking S3 generic/method consistency ... OK
* checking replacement functions ... OK
* checking foreign function calls ... OK
* checking R code for possible problems ... NOTE
draw.plot.annotation : <anonymous>: no visible global function
definition for 'ggplotGrob'
draw.plot.annotation: no visible global function definition for
'viewTracks'
draw.plot.annotation: no visible global function definition for
'trackList'
eQTL: no visible binding for global variable 'chromosome_stop'
eQTL: no visible binding for global variable 'chromosome_start'
eQTL: no visible binding for global variable 'chromosome_name'
eQTL_GTEx: no visible binding for global variable 'snp_pos'
eQTL_GTEx: no visible binding for global variable 'snp_chrom'
eQTL_GTEx: no visible binding for global variable 'gene_start'
eQTL_GTEx: no visible binding for global variable 'gene_stop'
eQTL_GTEx: no visible binding for global variable 'gene_chr'
geneExpression_GTEx: no visible global function definition for 'as'
metQTL: no visible binding for global variable 'chromosome_stop'
metQTL: no visible binding for global variable 'chromosome_start'
metQTL: no visible binding for global variable 'chromosome_name'
pizza: no visible global function definition for 'par'
pizza: no visible global function definition for 'plot.new'
pizza: no visible global function definition for 'plot.window'
pizza: no visible global function definition for 'polygon'
pizza: no visible global function definition for 'lines'
pizza: no visible global function definition for 'text'
psiQTL_GTEx: no visible binding for global variable 'pos_snp'
psiQTL_GTEx: no visible binding for global variable 'chr_snp'
psiQTL_GTEx: no visible binding for global variable 'pos_middle_exon'
psiQTL_GTEx: no visible binding for global variable 'chr_exon'
Undefined global functions or variables:
as chr_exon chr_snp chromosome_name chromosome_start chromosome_stop
gene_chr gene_start gene_stop ggplotGrob lines par plot.new
plot.window polygon pos_middle_exon pos_snp snp_chrom snp_pos text
trackList viewTracks
Consider adding
importFrom("graphics", "lines", "par", "plot.new", "plot.window",
"polygon", "text")
importFrom("methods", "as")
to your NAMESPACE file (and ensure that your DESCRIPTION Imports field
contains 'methods').
* checking Rd files ... OK
* checking Rd metadata ... OK
* checking Rd cross-references ... OK
* checking for missing documentation entries ... OK
* checking for code/documentation mismatches ... OK
* checking Rd \usage sections ... OK
* checking Rd contents ... OK
* checking for unstated dependencies in examples ... OK
* checking contents of ‘data’ directory ... OK
* checking data for non-ASCII characters ... OK
* checking data for ASCII and uncompressed saves ... OK
* checking sizes of PDF files under ‘inst/doc’ ... OK
* checking files in ‘vignettes’ ... OK
* checking examples ... OK
Examples with CPU (user + system) or elapsed time > 5s
user system elapsed
comet.web 6.222 0.220 24.411
coMET-package 4.781 0.131 12.732
* checking for unstated dependencies in ‘tests’ ... OK
* checking tests ...
Running ‘runTests.R’
OK
* checking for unstated dependencies in vignettes ... OK
* checking package vignettes in ‘inst/doc’ ... OK
* checking running R code from vignettes ... SKIPPED
* checking re-building of vignette outputs ... SKIPPED
* checking PDF version of manual ... OK
* DONE
Status: 3 NOTEs
See
‘/Users/biocbuild/bbs-3.16-bioc/meat/coMET.Rcheck/00check.log’
for details.
coMET.Rcheck/00install.out
############################################################################## ############################################################################## ### ### Running command: ### ### /Library/Frameworks/R.framework/Resources/bin/R CMD INSTALL coMET ### ############################################################################## ############################################################################## * installing to library ‘/Library/Frameworks/R.framework/Versions/4.2/Resources/library’ * installing *source* package ‘coMET’ ... ** using staged installation ** R ** data ** inst ** byte-compile and prepare package for lazy loading ** help *** installing help indices ** building package indices ** installing vignettes ** testing if installed package can be loaded from temporary location ** testing if installed package can be loaded from final location ** testing if installed package keeps a record of temporary installation path * DONE (coMET)
coMET.Rcheck/tests/runTests.Rout
R version 4.2.3 (2023-03-15) -- "Shortstop Beagle"
Copyright (C) 2023 The R Foundation for Statistical Computing
Platform: x86_64-apple-darwin17.0 (64-bit)
R is free software and comes with ABSOLUTELY NO WARRANTY.
You are welcome to redistribute it under certain conditions.
Type 'license()' or 'licence()' for distribution details.
R is a collaborative project with many contributors.
Type 'contributors()' for more information and
'citation()' on how to cite R or R packages in publications.
Type 'demo()' for some demos, 'help()' for on-line help, or
'help.start()' for an HTML browser interface to help.
Type 'q()' to quit R.
> require("coMET") || stop("unable to load Package:coMET")
Loading required package: coMET
Loading required package: grid
Loading required package: biomaRt
Loading required package: Gviz
Loading required package: S4Vectors
Loading required package: stats4
Loading required package: BiocGenerics
Attaching package: 'BiocGenerics'
The following objects are masked from 'package:stats':
IQR, mad, sd, var, xtabs
The following objects are masked from 'package:base':
Filter, Find, Map, Position, Reduce, anyDuplicated, aperm, append,
as.data.frame, basename, cbind, colnames, dirname, do.call,
duplicated, eval, evalq, get, grep, grepl, intersect, is.unsorted,
lapply, mapply, match, mget, order, paste, pmax, pmax.int, pmin,
pmin.int, rank, rbind, rownames, sapply, setdiff, sort, table,
tapply, union, unique, unsplit, which.max, which.min
Attaching package: 'S4Vectors'
The following objects are masked from 'package:base':
I, expand.grid, unname
Loading required package: IRanges
Loading required package: GenomicRanges
Loading required package: GenomeInfoDb
Loading required package: psych
Attaching package: 'psych'
The following object is masked from 'package:GenomicRanges':
distance
The following objects are masked from 'package:IRanges':
distance, reflect
[1] TRUE
> BiocGenerics:::testPackage("coMET")
RUNIT TEST PROTOCOL -- Mon Apr 10 19:39:04 2023
***********************************************
Number of test functions: 1
Number of errors: 0
Number of failures: 0
1 Test Suite :
coMET RUnit Tests - 1 test function, 0 errors, 0 failures
Number of test functions: 1
Number of errors: 0
Number of failures: 0
>
> proc.time()
user system elapsed
13.563 0.649 14.269
coMET.Rcheck/coMET-Ex.timings
| name | user | system | elapsed | |
| COSMIC_UCSC | 2.613 | 0.045 | 2.659 | |
| ChIPTF_ENCODE | 0.659 | 0.026 | 0.685 | |
| ClinVarCnv_UCSC | 0.351 | 0.017 | 0.369 | |
| ClinVarMain_UCSC | 0.368 | 0.003 | 0.373 | |
| CoreillCNV_UCSC | 0.362 | 0.003 | 0.366 | |
| DNAse_UCSC | 0.001 | 0.000 | 0.001 | |
| DNaseI_FANTOM | 0.613 | 0.010 | 0.624 | |
| DNaseI_RoadMap | 0.184 | 0.003 | 0.188 | |
| GAD_UCSC | 0.420 | 0.004 | 0.425 | |
| GWAScatalog_UCSC | 0.292 | 0.003 | 0.295 | |
| GeneReviews_UCSC | 0.432 | 0.003 | 0.435 | |
| HiCdata2matrix | 0.027 | 0.003 | 0.031 | |
| HistoneAll_UCSC | 3.672 | 0.044 | 3.721 | |
| HistoneOne_UCSC | 0.317 | 0.003 | 0.321 | |
| ISCA_UCSC | 0.381 | 0.004 | 0.386 | |
| TFBS_FANTOM | 0.325 | 0.003 | 0.329 | |
| bindingMotifsBiomart_ENSEMBL | 0.138 | 0.006 | 0.144 | |
| chrUCSC2ENSEMBL | 0.000 | 0.000 | 0.001 | |
| chromHMM_RoadMap | 0.634 | 0.010 | 0.646 | |
| chromatinHMMAll_UCSC | 3.730 | 0.016 | 3.751 | |
| chromatinHMMOne_UCSC | 0.409 | 0.004 | 0.414 | |
| coMET-package | 4.781 | 0.131 | 12.732 | |
| col2HSV | 0 | 0 | 0 | |
| comet | 2.521 | 0.038 | 2.560 | |
| comet.list | 0.547 | 0.007 | 0.554 | |
| comet.web | 6.222 | 0.220 | 24.411 | |
| complementary | 0.021 | 0.001 | 0.022 | |
| cpgIslands_UCSC | 0.113 | 0.002 | 0.115 | |
| dgfootprints_RoadMap | 0.744 | 0.009 | 0.753 | |
| eQTL | 1.252 | 0.011 | 1.264 | |
| eQTL_GTEx | 1.256 | 0.008 | 1.267 | |
| gcContent_UCSC | 1.129 | 0.012 | 1.142 | |
| genesName_ENSEMBL | 0.002 | 0.001 | 0.004 | |
| genes_ENSEMBL | 0.698 | 0.005 | 0.705 | |
| imprintedGenes_GTEx | 3.213 | 0.037 | 3.257 | |
| interestGenes_ENSEMBL | 0.597 | 0.004 | 0.602 | |
| interestTranscript_ENSEMBL | 0.642 | 0.003 | 0.645 | |
| knownGenes_UCSC | 0.871 | 0.005 | 0.881 | |
| metQTL | 1.164 | 0.012 | 1.180 | |
| miRNATargetRegionsBiomart_ENSEMBL | 0.038 | 0.002 | 0.040 | |
| otherRegulatoryRegionsBiomart_ENSEMBL | 0.081 | 0.004 | 0.087 | |
| pizza | 0.007 | 0.001 | 0.008 | |
| psiQTL_GTEx | 0.975 | 0.008 | 0.985 | |
| refGenes_UCSC | 0.732 | 0.005 | 0.738 | |
| regulationBiomart_ENSEMBL | 0.279 | 0.003 | 0.283 | |
| regulatoryEvidenceBiomart_ENSEMBL | 0.131 | 0.009 | 0.140 | |
| regulatoryFeaturesBiomart_ENSEMBL | 0.173 | 0.009 | 0.183 | |
| regulatorySegmentsBiomart_ENSEMBL | 0.131 | 0.007 | 0.139 | |
| repeatMasker_UCSC | 0.425 | 0.004 | 0.430 | |
| segmentalDups_UCSC | 0.406 | 0.004 | 0.413 | |
| setColors | 0.000 | 0.001 | 0.001 | |
| snpBiomart_ENSEMBL | 0.398 | 0.004 | 0.404 | |
| snpLocations_UCSC | 0.991 | 0.006 | 1.000 | |
| structureBiomart_ENSEMBL | 0.418 | 0.004 | 0.423 | |
| transcript_ENSEMBL | 1.111 | 0.006 | 1.119 | |
| xenorefGenes_UCSC | 0.601 | 0.004 | 0.606 | |