| Back to Multiple platform build/check report for BioC 3.16: simplified long |
|
This page was generated on 2023-04-12 11:06:03 -0400 (Wed, 12 Apr 2023).
| Hostname | OS | Arch (*) | R version | Installed pkgs |
|---|---|---|---|---|
| nebbiolo2 | Linux (Ubuntu 20.04.5 LTS) | x86_64 | 4.2.3 (2023-03-15) -- "Shortstop Beagle" | 4502 |
| palomino4 | Windows Server 2022 Datacenter | x64 | 4.2.3 (2023-03-15 ucrt) -- "Shortstop Beagle" | 4282 |
| lconway | macOS 12.5.1 Monterey | x86_64 | 4.2.3 (2023-03-15) -- "Shortstop Beagle" | 4310 |
| Click on any hostname to see more info about the system (e.g. compilers) (*) as reported by 'uname -p', except on Windows and Mac OS X | ||||
|
To the developers/maintainers of the cn.mops package: - Please allow up to 24 hours (and sometimes 48 hours) for your latest push to git@git.bioconductor.org:packages/cn.mops.git to reflect on this report. See How and When does the builder pull? When will my changes propagate? for more information. - Make sure to use the following settings in order to reproduce any error or warning you see on this page. |
| Package 359/2183 | Hostname | OS / Arch | INSTALL | BUILD | CHECK | BUILD BIN | ||||||||
| cn.mops 1.44.0 (landing page) Gundula Povysil
| nebbiolo2 | Linux (Ubuntu 20.04.5 LTS) / x86_64 | OK | OK | OK | |||||||||
| palomino4 | Windows Server 2022 Datacenter / x64 | OK | OK | OK | OK | |||||||||
| lconway | macOS 12.5.1 Monterey / x86_64 | OK | OK | OK | OK | |||||||||
| Package: cn.mops |
| Version: 1.44.0 |
| Command: /Library/Frameworks/R.framework/Resources/bin/R CMD check --install=check:cn.mops.install-out.txt --library=/Library/Frameworks/R.framework/Resources/library --no-vignettes --timings cn.mops_1.44.0.tar.gz |
| StartedAt: 2023-04-10 19:28:09 -0400 (Mon, 10 Apr 2023) |
| EndedAt: 2023-04-10 19:31:18 -0400 (Mon, 10 Apr 2023) |
| EllapsedTime: 189.1 seconds |
| RetCode: 0 |
| Status: OK |
| CheckDir: cn.mops.Rcheck |
| Warnings: 0 |
##############################################################################
##############################################################################
###
### Running command:
###
### /Library/Frameworks/R.framework/Resources/bin/R CMD check --install=check:cn.mops.install-out.txt --library=/Library/Frameworks/R.framework/Resources/library --no-vignettes --timings cn.mops_1.44.0.tar.gz
###
##############################################################################
##############################################################################
* using log directory ‘/Users/biocbuild/bbs-3.16-bioc/meat/cn.mops.Rcheck’
* using R version 4.2.3 (2023-03-15)
* using platform: x86_64-apple-darwin17.0 (64-bit)
* using session charset: UTF-8
* using option ‘--no-vignettes’
* checking for file ‘cn.mops/DESCRIPTION’ ... OK
* checking extension type ... Package
* this is package ‘cn.mops’ version ‘1.44.0’
* checking package namespace information ... OK
* checking package dependencies ... OK
* checking if this is a source package ... OK
* checking if there is a namespace ... OK
* checking for hidden files and directories ... OK
* checking for portable file names ... OK
* checking for sufficient/correct file permissions ... OK
* checking whether package ‘cn.mops’ can be installed ... OK
* checking installed package size ... OK
* checking package directory ... OK
* checking ‘build’ directory ... OK
* checking DESCRIPTION meta-information ... OK
* checking top-level files ... OK
* checking for left-over files ... OK
* checking index information ... OK
* checking package subdirectories ... OK
* checking R files for non-ASCII characters ... OK
* checking R files for syntax errors ... OK
* checking whether the package can be loaded ... OK
* checking whether the package can be loaded with stated dependencies ... OK
* checking whether the package can be unloaded cleanly ... OK
* checking whether the namespace can be loaded with stated dependencies ... OK
* checking whether the namespace can be unloaded cleanly ... OK
* checking dependencies in R code ... OK
* checking S3 generic/method consistency ... OK
* checking replacement functions ... OK
* checking foreign function calls ... OK
* checking R code for possible problems ... OK
* checking Rd files ... OK
* checking Rd metadata ... OK
* checking Rd cross-references ... OK
* checking for missing documentation entries ... OK
* checking for code/documentation mismatches ... OK
* checking Rd \usage sections ... OK
* checking Rd contents ... OK
* checking for unstated dependencies in examples ... OK
* checking contents of ‘data’ directory ... OK
* checking data for non-ASCII characters ... OK
* checking data for ASCII and uncompressed saves ... OK
* checking line endings in C/C++/Fortran sources/headers ... OK
* checking compiled code ... NOTE
Note: information on .o files is not available
* checking sizes of PDF files under ‘inst/doc’ ... OK
* checking files in ‘vignettes’ ... OK
* checking examples ... OK
Examples with CPU (user + system) or elapsed time > 5s
user system elapsed
referencecn.mops 6.278 0.060 15.990
cn.mops 5.798 0.179 17.845
calcFractionalCopyNumbers 5.190 0.058 5.301
calcFractionalCopyNumbers-CNVDetectionResult-method 5.045 0.044 5.117
haplocn.mops 1.018 0.029 11.114
getReadCountsFromBAM 0.432 0.015 5.200
* checking for unstated dependencies in vignettes ... OK
* checking package vignettes in ‘inst/doc’ ... OK
* checking running R code from vignettes ... SKIPPED
* checking re-building of vignette outputs ... SKIPPED
* checking PDF version of manual ... OK
* DONE
Status: 1 NOTE
See
‘/Users/biocbuild/bbs-3.16-bioc/meat/cn.mops.Rcheck/00check.log’
for details.
cn.mops.Rcheck/00install.out
##############################################################################
##############################################################################
###
### Running command:
###
### /Library/Frameworks/R.framework/Resources/bin/R CMD INSTALL cn.mops
###
##############################################################################
##############################################################################
* installing to library ‘/Library/Frameworks/R.framework/Versions/4.2/Resources/library’
* installing *source* package ‘cn.mops’ ...
** using staged installation
** libs
clang -mmacosx-version-min=10.13 -I"/Library/Frameworks/R.framework/Resources/include" -DNDEBUG -I/usr/local/include -fPIC -Wall -g -O2 -c R_init_cnmops.c -o R_init_cnmops.o
clang++ -mmacosx-version-min=10.13 -std=gnu++14 -I"/Library/Frameworks/R.framework/Resources/include" -DNDEBUG -I/usr/local/include -fPIC -Wall -g -O2 -c cnmops.cpp -o cnmops.o
clang++ -mmacosx-version-min=10.13 -std=gnu++14 -I"/Library/Frameworks/R.framework/Resources/include" -DNDEBUG -I/usr/local/include -fPIC -Wall -g -O2 -c segment.cpp -o segment.o
segment.cpp:60:9: warning: variable 'oldStatistic' set but not used [-Wunused-but-set-variable]
double oldStatistic, meanLeft,meanRight,varLeft,varRight;
^
segment.cpp:62:40: warning: variable 'maxIdx' set but not used [-Wunused-but-set-variable]
double newPValue, maxPValue,oldPValue,maxIdx;
^
segment.cpp:64:9: warning: unused variable 'Rf_beta' [-Wunused-variable]
double beta,nn;
^
/Library/Frameworks/R.framework/Resources/include/Rmath.h:210:15: note: expanded from macro 'beta'
#define beta Rf_beta
^
segment.cpp:61:31: warning: variable 'maxStatistic' set but not used [-Wunused-but-set-variable]
double newStatistic,meanDiff,maxStatistic,DOF,a,b,eps1;
^
segment.cpp:59:20: warning: variable 'globalSd' set but not used [-Wunused-but-set-variable]
double globalMean,globalSd,diff,M2,globalVariance;
^
5 warnings generated.
clang++ -mmacosx-version-min=10.13 -std=gnu++14 -dynamiclib -Wl,-headerpad_max_install_names -undefined dynamic_lookup -single_module -multiply_defined suppress -L/Library/Frameworks/R.framework/Resources/lib -L/usr/local/lib -o cn.mops.so R_init_cnmops.o cnmops.o segment.o -F/Library/Frameworks/R.framework/.. -framework R -Wl,-framework -Wl,CoreFoundation
installing to /Library/Frameworks/R.framework/Versions/4.2/Resources/library/00LOCK-cn.mops/00new/cn.mops/libs
** R
** data
** inst
** byte-compile and prepare package for lazy loading
** help
*** installing help indices
** building package indices
** installing vignettes
** testing if installed package can be loaded from temporary location
** checking absolute paths in shared objects and dynamic libraries
** testing if installed package can be loaded from final location
** testing if installed package keeps a record of temporary installation path
* DONE (cn.mops)
cn.mops.Rcheck/cn.mops-Ex.timings
| name | user | system | elapsed | |
| CNVDetectionResult | 0.001 | 0.001 | 0.002 | |
| calcFractionalCopyNumbers-CNVDetectionResult-method | 5.045 | 0.044 | 5.117 | |
| calcFractionalCopyNumbers | 5.190 | 0.058 | 5.301 | |
| calcIntegerCopyNumbers-CNVDetectionResult-method | 0.391 | 0.007 | 0.405 | |
| calcIntegerCopyNumbers | 0.356 | 0.004 | 0.363 | |
| cn.mops | 5.798 | 0.179 | 17.845 | |
| cnvr-CNVDetectionResult-method | 0.210 | 0.004 | 0.215 | |
| cnvr | 0.223 | 0.006 | 0.230 | |
| cnvs-CNVDetectionResult-method | 0.225 | 0.007 | 0.233 | |
| cnvs | 0.177 | 0.003 | 0.181 | |
| exomecn.mops | 2.242 | 0.024 | 2.280 | |
| getReadCountsFromBAM | 0.432 | 0.015 | 5.200 | |
| getSegmentReadCountsFromBAM | 0.240 | 0.013 | 4.797 | |
| gr-CNVDetectionResult-method | 0.229 | 0.005 | 0.237 | |
| gr | 0.214 | 0.002 | 0.219 | |
| haplocn.mops | 1.018 | 0.029 | 11.114 | |
| individualCall-CNVDetectionResult-method | 0.219 | 0.003 | 0.223 | |
| individualCall | 0.180 | 0.002 | 0.185 | |
| iniCall-CNVDetectionResult-method | 0.222 | 0.003 | 0.227 | |
| iniCall | 0.200 | 0.004 | 0.204 | |
| integerCopyNumber-CNVDetectionResult-method | 0.180 | 0.003 | 0.185 | |
| integerCopyNumber | 0.216 | 0.003 | 0.222 | |
| localAssessments-CNVDetectionResult-method | 0.264 | 0.014 | 0.282 | |
| localAssessments | 0.209 | 0.003 | 0.213 | |
| makeRobustCNVR | 0.391 | 0.010 | 0.406 | |
| normalizeChromosomes | 0.163 | 0.008 | 0.175 | |
| normalizeGenome | 0.500 | 0.022 | 0.528 | |
| normalizedData-CNVDetectionResult-method | 0.218 | 0.004 | 0.223 | |
| normalizedData | 0.196 | 0.004 | 0.201 | |
| params-CNVDetectionResult-method | 0.173 | 0.014 | 0.187 | |
| params | 0.154 | 0.009 | 0.163 | |
| posteriorProbs-CNVDetectionResult-method | 0.164 | 0.003 | 0.168 | |
| posteriorProbs | 0.197 | 0.006 | 0.205 | |
| referencecn.mops | 6.278 | 0.060 | 15.990 | |
| sampleNames-CNVDetectionResult-method | 0.192 | 0.004 | 0.195 | |
| sampleNames | 0.224 | 0.003 | 0.228 | |
| segment | 0.02 | 0.00 | 0.02 | |
| segmentation-CNVDetectionResult-method | 0.203 | 0.004 | 0.208 | |
| segmentation | 0.203 | 0.002 | 0.206 | |
| segplot-CNVDetectionResult-method | 0.763 | 0.005 | 0.772 | |
| segplot | 0.834 | 0.006 | 0.846 | |
| singlecn.mops | 0.553 | 0.006 | 0.565 | |