| Back to Multiple platform build/check report for BioC 3.16: simplified long |
|
This page was generated on 2023-04-12 11:05:00 -0400 (Wed, 12 Apr 2023).
| Hostname | OS | Arch (*) | R version | Installed pkgs |
|---|---|---|---|---|
| nebbiolo2 | Linux (Ubuntu 20.04.5 LTS) | x86_64 | 4.2.3 (2023-03-15) -- "Shortstop Beagle" | 4502 |
| palomino4 | Windows Server 2022 Datacenter | x64 | 4.2.3 (2023-03-15 ucrt) -- "Shortstop Beagle" | 4282 |
| lconway | macOS 12.5.1 Monterey | x86_64 | 4.2.3 (2023-03-15) -- "Shortstop Beagle" | 4310 |
| Click on any hostname to see more info about the system (e.g. compilers) (*) as reported by 'uname -p', except on Windows and Mac OS X | ||||
|
To the developers/maintainers of the cellmigRation package: - Please allow up to 24 hours (and sometimes 48 hours) for your latest push to git@git.bioconductor.org:packages/cellmigRation.git to reflect on this report. See How and When does the builder pull? When will my changes propagate? for more information. - Make sure to use the following settings in order to reproduce any error or warning you see on this page. |
| Package 280/2183 | Hostname | OS / Arch | INSTALL | BUILD | CHECK | BUILD BIN | ||||||||
| cellmigRation 1.6.0 (landing page) Waldir Leoncio
| nebbiolo2 | Linux (Ubuntu 20.04.5 LTS) / x86_64 | OK | OK | OK | |||||||||
| palomino4 | Windows Server 2022 Datacenter / x64 | OK | OK | OK | OK | |||||||||
| lconway | macOS 12.5.1 Monterey / x86_64 | OK | OK | OK | OK | |||||||||
| Package: cellmigRation |
| Version: 1.6.0 |
| Command: /home/biocbuild/bbs-3.16-bioc/R/bin/R CMD check --install=check:cellmigRation.install-out.txt --library=/home/biocbuild/bbs-3.16-bioc/R/site-library --timings cellmigRation_1.6.0.tar.gz |
| StartedAt: 2023-04-10 19:35:31 -0400 (Mon, 10 Apr 2023) |
| EndedAt: 2023-04-10 19:39:17 -0400 (Mon, 10 Apr 2023) |
| EllapsedTime: 226.7 seconds |
| RetCode: 0 |
| Status: OK |
| CheckDir: cellmigRation.Rcheck |
| Warnings: 0 |
############################################################################## ############################################################################## ### ### Running command: ### ### /home/biocbuild/bbs-3.16-bioc/R/bin/R CMD check --install=check:cellmigRation.install-out.txt --library=/home/biocbuild/bbs-3.16-bioc/R/site-library --timings cellmigRation_1.6.0.tar.gz ### ############################################################################## ############################################################################## * using log directory ‘/home/biocbuild/bbs-3.16-bioc/meat/cellmigRation.Rcheck’ * using R version 4.2.3 (2023-03-15) * using platform: x86_64-pc-linux-gnu (64-bit) * using session charset: UTF-8 * checking for file ‘cellmigRation/DESCRIPTION’ ... OK * checking extension type ... Package * this is package ‘cellmigRation’ version ‘1.6.0’ * package encoding: UTF-8 * checking package namespace information ... OK * checking package dependencies ... OK * checking if this is a source package ... OK * checking if there is a namespace ... OK * checking for hidden files and directories ... OK * checking for portable file names ... OK * checking for sufficient/correct file permissions ... OK * checking whether package ‘cellmigRation’ can be installed ... OK * checking installed package size ... OK * checking package directory ... OK * checking ‘build’ directory ... OK * checking DESCRIPTION meta-information ... OK * checking top-level files ... OK * checking for left-over files ... OK * checking index information ... OK * checking package subdirectories ... OK * checking R files for non-ASCII characters ... OK * checking R files for syntax errors ... OK * checking whether the package can be loaded ... OK * checking whether the package can be loaded with stated dependencies ... OK * checking whether the package can be unloaded cleanly ... OK * checking whether the namespace can be loaded with stated dependencies ... OK * checking whether the namespace can be unloaded cleanly ... OK * checking loading without being on the library search path ... OK * checking dependencies in R code ... OK * checking S3 generic/method consistency ... OK * checking replacement functions ... OK * checking foreign function calls ... OK * checking R code for possible problems ... OK * checking Rd files ... OK * checking Rd metadata ... OK * checking Rd cross-references ... OK * checking for missing documentation entries ... OK * checking for code/documentation mismatches ... OK * checking Rd \usage sections ... OK * checking Rd contents ... OK * checking for unstated dependencies in examples ... OK * checking contents of ‘data’ directory ... OK * checking data for non-ASCII characters ... OK * checking data for ASCII and uncompressed saves ... OK * checking files in ‘vignettes’ ... OK * checking examples ... OK * checking for unstated dependencies in ‘tests’ ... OK * checking tests ... Running ‘runTests.R’ OK * checking for unstated dependencies in vignettes ... OK * checking package vignettes in ‘inst/doc’ ... OK * checking running R code from vignettes ... ‘cellmigRation.Rmd’ using ‘UTF-8’... OK NONE * checking re-building of vignette outputs ... OK * checking PDF version of manual ... OK * DONE Status: OK
cellmigRation.Rcheck/00install.out
############################################################################## ############################################################################## ### ### Running command: ### ### /home/biocbuild/bbs-3.16-bioc/R/bin/R CMD INSTALL cellmigRation ### ############################################################################## ############################################################################## * installing to library ‘/home/biocbuild/bbs-3.16-bioc/R/site-library’ * installing *source* package ‘cellmigRation’ ... ** using staged installation ** R ** data ** inst ** byte-compile and prepare package for lazy loading ** help *** installing help indices ** building package indices ** installing vignettes ** testing if installed package can be loaded from temporary location ** testing if installed package can be loaded from final location ** testing if installed package keeps a record of temporary installation path * DONE (cellmigRation)
cellmigRation.Rcheck/tests/runTests.Rout
R version 4.2.3 (2023-03-15) -- "Shortstop Beagle"
Copyright (C) 2023 The R Foundation for Statistical Computing
Platform: x86_64-pc-linux-gnu (64-bit)
R is free software and comes with ABSOLUTELY NO WARRANTY.
You are welcome to redistribute it under certain conditions.
Type 'license()' or 'licence()' for distribution details.
R is a collaborative project with many contributors.
Type 'contributors()' for more information and
'citation()' on how to cite R or R packages in publications.
Type 'demo()' for some demos, 'help()' for on-line help, or
'help.start()' for an HTML browser interface to help.
Type 'q()' to quit R.
> BiocGenerics:::testPackage("cellmigRation")
RUNIT TEST PROTOCOL -- Mon Apr 10 19:37:23 2023
***********************************************
Number of test functions: 7
Number of errors: 0
Number of failures: 0
1 Test Suite :
cellmigRation RUnit Tests - 7 test functions, 0 errors, 0 failures
Number of test functions: 7
Number of errors: 0
Number of failures: 0
>
> proc.time()
user system elapsed
2.943 0.167 3.096
cellmigRation.Rcheck/cellmigRation-Ex.timings
| name | user | system | elapsed | |
| AddDimension | 0.002 | 0.000 | 0.002 | |
| CellMig-class | 0.028 | 0.000 | 0.027 | |
| CellMigPCA | 1.455 | 0.048 | 1.504 | |
| CellMigPCAclust | 0.008 | 0.000 | 0.008 | |
| CellMigPCAclustALL | 0.722 | 0.000 | 0.722 | |
| CellTracker | 0.012 | 0.008 | 0.020 | |
| CellTrackerMainLoop | 0.011 | 0.004 | 0.031 | |
| CentroidArray | 0.023 | 0.004 | 0.027 | |
| CentroidValidation | 0.501 | 0.000 | 0.500 | |
| ComputeTracksStats | 0.028 | 0.000 | 0.028 | |
| DetectRadii | 0.002 | 0.000 | 0.003 | |
| DiAutoCor | 1.515 | 0.019 | 1.536 | |
| DiRatio | 0.019 | 0.001 | 0.018 | |
| DiRatioPlot | 0.025 | 0.015 | 0.040 | |
| EstimateDiameterRange | 0.018 | 0.001 | 0.018 | |
| FMI | 0.513 | 0.015 | 0.528 | |
| FianlizeOptiParams | 0.001 | 0.000 | 0.000 | |
| FilterTrackedCells | 0.003 | 0.001 | 0.002 | |
| FinRes | 0.688 | 0.006 | 0.695 | |
| ForwardMigration | 1.074 | 0.001 | 1.074 | |
| GenAllCombos | 0.003 | 0.000 | 0.003 | |
| LinearConv2 | 0.021 | 0.000 | 0.021 | |
| LoadTiff | 0.001 | 0.000 | 0.001 | |
| MSD | 1.738 | 0.083 | 1.823 | |
| MakeHypercube | 0.001 | 0.000 | 0.001 | |
| MigrationStats | 0.001 | 0.001 | 0.000 | |
| NextOdd | 0.001 | 0.000 | 0.000 | |
| NonParallel4OptimizeParams | 0.001 | 0.000 | 0.001 | |
| NonParallelTrackLoop | 0 | 0 | 0 | |
| OptimizeParams | 0.017 | 0.000 | 0.018 | |
| OptimizeParamsMainLoop | 0.007 | 0.005 | 0.030 | |
| Parallel4OptimizeParams | 0.001 | 0.000 | 0.001 | |
| ParallelTrackLoop | 0.000 | 0.001 | 0.001 | |
| PerAndSpeed | 0.297 | 0.009 | 0.308 | |
| PlotTracksSeparately | 0.009 | 0.000 | 0.009 | |
| PostProcessTracking | 0 | 0 | 0 | |
| Prep4OptimizeParams | 0.090 | 0.004 | 0.094 | |
| ThreeConditions | 0.012 | 0.004 | 0.015 | |
| TrackCellsDataset | 0.011 | 0.012 | 0.023 | |
| TrajectoryDataset | 0.018 | 0.004 | 0.022 | |
| ValidateTrackingArgs | 0.000 | 0.000 | 0.001 | |
| VeAutoCor | 1.040 | 0.028 | 1.068 | |
| VisualizeCntr | 0.003 | 0.000 | 0.003 | |
| VisualizeImg | 0.005 | 0.000 | 0.005 | |
| VisualizeStackCentroids | 0.062 | 0.004 | 0.066 | |
| WSADataset | 0.006 | 0.000 | 0.007 | |
| aggregateFR | 0.6 | 0.0 | 0.6 | |
| aggregateTrackedCells | 0.022 | 0.000 | 0.023 | |
| bpass | 0.058 | 0.000 | 0.058 | |
| circshift | 0.001 | 0.000 | 0.001 | |
| cntrd | 0.661 | 0.008 | 0.669 | |
| fixDA | 0.001 | 0.000 | 0.001 | |
| fixExpName | 0.001 | 0.000 | 0.000 | |
| fixFM1 | 0 | 0 | 0 | |
| fixFM2 | 0.000 | 0.000 | 0.001 | |
| fixFM3 | 0 | 0 | 0 | |
| fixFM4 | 0.000 | 0.000 | 0.001 | |
| fixFM5 | 0 | 0 | 0 | |
| fixFM6 | 0 | 0 | 0 | |
| fixID1 | 0.001 | 0.000 | 0.001 | |
| fixMSD | 0.001 | 0.000 | 0.000 | |
| fixPER1 | 0 | 0 | 0 | |
| fixPER2 | 0.001 | 0.000 | 0.000 | |
| fixPER3 | 0 | 0 | 0 | |
| getAvailableAggrMetrics | 0.892 | 0.012 | 0.904 | |
| getCellImages | 0.209 | 0.224 | 0.433 | |
| getCellMigSlot | 0.260 | 0.124 | 0.385 | |
| getCellTrackMeta | 0.013 | 0.004 | 0.017 | |
| getCellTrackStats | 0.017 | 0.004 | 0.020 | |
| getCellTracks | 0.010 | 0.008 | 0.018 | |
| getCellsMeta | 0.017 | 0.000 | 0.017 | |
| getCellsStats | 0.019 | 0.000 | 0.019 | |
| getDACtable | 1.809 | 0.008 | 1.817 | |
| getDiRatio | 0.019 | 0.000 | 0.019 | |
| getFMItable | 0.438 | 0.016 | 0.455 | |
| getForMigtable | 0.528 | 0.000 | 0.528 | |
| getImageCentroids | 0.023 | 0.000 | 0.023 | |
| getImageStacks | 0.062 | 0.004 | 0.066 | |
| getMSDtable | 3.358 | 0.048 | 3.406 | |
| getOptimizedParameters | 0.018 | 0.000 | 0.018 | |
| getOptimizedParams | 0.019 | 0.000 | 0.019 | |
| getPerAndSpeed | 0.286 | 0.012 | 0.298 | |
| getPopulationStats | 0.024 | 0.004 | 0.028 | |
| getProcessedImages | 0.209 | 0.208 | 0.417 | |
| getProcessingStatus | 0.008 | 0.008 | 0.017 | |
| getResults | 0.593 | 0.000 | 0.594 | |
| getTracks | 0.018 | 0.000 | 0.018 | |
| getVACtable | 0.983 | 0.000 | 0.983 | |
| initializeTrackParams | 0 | 0 | 0 | |
| innerBondRaster | 0.001 | 0.000 | 0.001 | |
| internalPermutation | 0.001 | 0.000 | 0.001 | |
| matfix | 0.001 | 0.000 | 0.001 | |
| nontrivialBondTracking | 0.001 | 0.000 | 0.001 | |
| pkfnd | 0.651 | 0.000 | 0.650 | |
| plot3DAllTracks | 0.094 | 0.048 | 0.143 | |
| plot3DTracks | 0.010 | 0.006 | 0.016 | |
| plotAllTracks | 0.021 | 0.000 | 0.021 | |
| plotSampleTracks | 0.016 | 0.000 | 0.017 | |
| preProcCellMig | 0.004 | 0.004 | 0.008 | |
| rmPreProcessing | 0.092 | 0.000 | 0.093 | |
| runTrackingPermutation | 0.003 | 0.000 | 0.002 | |
| setAnalyticParams | 0.018 | 0.000 | 0.018 | |
| setCellMigSlot | 0.022 | 0.000 | 0.021 | |
| setCellTracks | 0.015 | 0.004 | 0.019 | |
| setCellsMeta | 0.013 | 0.004 | 0.017 | |
| setExpName | 0.019 | 0.004 | 0.022 | |
| setOptimizedParams | 0.014 | 0.004 | 0.018 | |
| setProcessedImages | 0.050 | 0.024 | 0.074 | |
| setProcessingStatus | 0.013 | 0.004 | 0.017 | |
| setTrackedCellsMeta | 0.017 | 0.001 | 0.017 | |
| setTrackedCentroids | 0.009 | 0.007 | 0.017 | |
| setTrackedPositions | 0.017 | 0.000 | 0.017 | |
| setTrackingStats | 0.009 | 0.008 | 0.017 | |
| sinkAway | 0.001 | 0.000 | 0.001 | |
| subNetworkTracking | 0.002 | 0.000 | 0.002 | |
| track | 0.006 | 0.003 | 0.010 | |
| trackHypercubeBuild | 0.000 | 0.000 | 0.001 | |
| trackSlideProcessing | 0.001 | 0.000 | 0.000 | |
| trackSlideWrapUp | 0 | 0 | 0 | |
| trivialBondRaster | 0.001 | 0.000 | 0.001 | |
| trivialBondTracking | 0 | 0 | 0 | |
| visualizeCellTracks | 0.067 | 0.000 | 0.067 | |
| visualizeTrcks | 0.025 | 0.000 | 0.025 | |
| warnMessage | 0.001 | 0.000 | 0.001 | |
| wsaPreProcessing | 0.051 | 0.004 | 0.055 | |