| Back to Multiple platform build/check report for BioC 3.16: simplified long |
|
This page was generated on 2023-04-12 11:05:00 -0400 (Wed, 12 Apr 2023).
| Hostname | OS | Arch (*) | R version | Installed pkgs |
|---|---|---|---|---|
| nebbiolo2 | Linux (Ubuntu 20.04.5 LTS) | x86_64 | 4.2.3 (2023-03-15) -- "Shortstop Beagle" | 4502 |
| palomino4 | Windows Server 2022 Datacenter | x64 | 4.2.3 (2023-03-15 ucrt) -- "Shortstop Beagle" | 4282 |
| lconway | macOS 12.5.1 Monterey | x86_64 | 4.2.3 (2023-03-15) -- "Shortstop Beagle" | 4310 |
| Click on any hostname to see more info about the system (e.g. compilers) (*) as reported by 'uname -p', except on Windows and Mac OS X | ||||
|
To the developers/maintainers of the cardelino package: - Please allow up to 24 hours (and sometimes 48 hours) for your latest push to git@git.bioconductor.org:packages/cardelino.git to reflect on this report. See How and When does the builder pull? When will my changes propagate? for more information. - Make sure to use the following settings in order to reproduce any error or warning you see on this page. |
| Package 253/2183 | Hostname | OS / Arch | INSTALL | BUILD | CHECK | BUILD BIN | ||||||||
| cardelino 1.0.0 (landing page) Jeffrey Pullin
| nebbiolo2 | Linux (Ubuntu 20.04.5 LTS) / x86_64 | OK | OK | OK | |||||||||
| palomino4 | Windows Server 2022 Datacenter / x64 | OK | OK | OK | OK | |||||||||
| lconway | macOS 12.5.1 Monterey / x86_64 | OK | OK | OK | OK | |||||||||
| Package: cardelino |
| Version: 1.0.0 |
| Command: /home/biocbuild/bbs-3.16-bioc/R/bin/R CMD check --install=check:cardelino.install-out.txt --library=/home/biocbuild/bbs-3.16-bioc/R/site-library --timings cardelino_1.0.0.tar.gz |
| StartedAt: 2023-04-10 19:30:03 -0400 (Mon, 10 Apr 2023) |
| EndedAt: 2023-04-10 19:37:21 -0400 (Mon, 10 Apr 2023) |
| EllapsedTime: 438.0 seconds |
| RetCode: 0 |
| Status: OK |
| CheckDir: cardelino.Rcheck |
| Warnings: 0 |
##############################################################################
##############################################################################
###
### Running command:
###
### /home/biocbuild/bbs-3.16-bioc/R/bin/R CMD check --install=check:cardelino.install-out.txt --library=/home/biocbuild/bbs-3.16-bioc/R/site-library --timings cardelino_1.0.0.tar.gz
###
##############################################################################
##############################################################################
* using log directory ‘/home/biocbuild/bbs-3.16-bioc/meat/cardelino.Rcheck’
* using R version 4.2.3 (2023-03-15)
* using platform: x86_64-pc-linux-gnu (64-bit)
* using session charset: UTF-8
* checking for file ‘cardelino/DESCRIPTION’ ... OK
* checking extension type ... Package
* this is package ‘cardelino’ version ‘1.0.0’
* package encoding: UTF-8
* checking package namespace information ... OK
* checking package dependencies ... OK
* checking if this is a source package ... OK
* checking if there is a namespace ... OK
* checking for hidden files and directories ... OK
* checking for portable file names ... OK
* checking for sufficient/correct file permissions ... OK
* checking whether package ‘cardelino’ can be installed ... OK
* checking installed package size ... OK
* checking package directory ... OK
* checking ‘build’ directory ... OK
* checking DESCRIPTION meta-information ... OK
* checking top-level files ... OK
* checking for left-over files ... OK
* checking index information ... OK
* checking package subdirectories ... OK
* checking R files for non-ASCII characters ... OK
* checking R files for syntax errors ... OK
* checking whether the package can be loaded ... OK
* checking whether the package can be loaded with stated dependencies ... OK
* checking whether the package can be unloaded cleanly ... OK
* checking whether the namespace can be loaded with stated dependencies ... OK
* checking whether the namespace can be unloaded cleanly ... OK
* checking loading without being on the library search path ... OK
* checking dependencies in R code ... OK
* checking S3 generic/method consistency ... OK
* checking replacement functions ... OK
* checking foreign function calls ... OK
* checking R code for possible problems ... OK
* checking Rd files ... OK
* checking Rd metadata ... OK
* checking Rd cross-references ... OK
* checking for missing documentation entries ... OK
* checking for code/documentation mismatches ... OK
* checking Rd \usage sections ... OK
* checking Rd contents ... OK
* checking for unstated dependencies in examples ... OK
* checking contents of ‘data’ directory ... OK
* checking data for non-ASCII characters ... OK
* checking data for ASCII and uncompressed saves ... OK
* checking files in ‘vignettes’ ... OK
* checking examples ... OK
Examples with CPU (user + system) or elapsed time > 5s
user system elapsed
vc_heatmap 63.275 0.859 64.136
get_snp_matrices 13.821 1.024 14.846
clone_id 12.802 0.308 13.111
* checking for unstated dependencies in ‘tests’ ... OK
* checking tests ...
Running ‘testthat.R’
OK
* checking for unstated dependencies in vignettes ... OK
* checking package vignettes in ‘inst/doc’ ... OK
* checking running R code from vignettes ...
‘vignette-cloneid.Rmd’ using ‘UTF-8’... OK
NONE
* checking re-building of vignette outputs ... OK
* checking PDF version of manual ... OK
* DONE
Status: OK
cardelino.Rcheck/00install.out
############################################################################## ############################################################################## ### ### Running command: ### ### /home/biocbuild/bbs-3.16-bioc/R/bin/R CMD INSTALL cardelino ### ############################################################################## ############################################################################## * installing to library ‘/home/biocbuild/bbs-3.16-bioc/R/site-library’ * installing *source* package ‘cardelino’ ... ** using staged installation ** R ** data ** inst ** byte-compile and prepare package for lazy loading ** help *** installing help indices ** building package indices ** installing vignettes ** testing if installed package can be loaded from temporary location ** testing if installed package can be loaded from final location ** testing if installed package keeps a record of temporary installation path * DONE (cardelino)
cardelino.Rcheck/tests/testthat.Rout
R version 4.2.3 (2023-03-15) -- "Shortstop Beagle"
Copyright (C) 2023 The R Foundation for Statistical Computing
Platform: x86_64-pc-linux-gnu (64-bit)
R is free software and comes with ABSOLUTELY NO WARRANTY.
You are welcome to redistribute it under certain conditions.
Type 'license()' or 'licence()' for distribution details.
R is a collaborative project with many contributors.
Type 'contributors()' for more information and
'citation()' on how to cite R or R packages in publications.
Type 'demo()' for some demos, 'help()' for on-line help, or
'help.start()' for an HTML browser interface to help.
Type 'q()' to quit R.
> Sys.setenv("R_TESTS" = "")
> library(testthat)
> library(cardelino)
>
> test_check("cardelino")
[1] "Total iterations: 11"
99.2% converged.
98.5% converged.
97% converged.
97.5% converged.
[1] "Converged in 500 iterations."
DIC: 2866.88 D_mean: 2440.01 D_post: 2361.58 logLik_var: 126.33
[,1] [,2] [,3] [,4]
[1,] 1 2 3 4
[1] "59 samples have multiple labels."
Scanning file to determine attributes.
File attributes:
meta lines: 37
header_line: 38
variant count: 112
column count: 86
Meta line 37 read in.
All meta lines processed.
gt matrix initialized.
Character matrix gt created.
Character matrix gt rows: 112
Character matrix gt cols: 86
skip: 0
nrows: 112
row_num: 0
Processed variant: 112
All variants processed
[1] "112 out of 112 SNPs passed."
Scanning file to determine attributes.
File attributes:
meta lines: 37
header_line: 38
variant count: 112
column count: 86
Meta line 37 read in.
All meta lines processed.
gt matrix initialized.
Character matrix gt created.
Character matrix gt rows: 112
Character matrix gt cols: 86
skip: 0
nrows: 112
row_num: 0
Processed variant: 112
All variants processed
[ FAIL 0 | WARN 2 | SKIP 0 | PASS 20 ]
[ FAIL 0 | WARN 2 | SKIP 0 | PASS 20 ]
>
> # check test coverage with covr in Rstudio
> # covr::package_coverage()
>
> proc.time()
user system elapsed
23.818 1.588 25.390
cardelino.Rcheck/cardelino-Ex.timings
| name | user | system | elapsed | |
| assign_cells_to_clones | 0.061 | 0.024 | 0.085 | |
| binaryPRC | 0.007 | 0.000 | 0.007 | |
| binaryROC | 0.007 | 0.000 | 0.007 | |
| clone_id | 12.802 | 0.308 | 13.111 | |
| colMatch | 0.001 | 0.000 | 0.000 | |
| get_snp_matrices | 13.821 | 1.024 | 14.846 | |
| get_tree | 0.293 | 0.008 | 0.301 | |
| heat_matrix | 0.538 | 0.004 | 0.542 | |
| load_GT_vcf | 0.205 | 0.003 | 0.211 | |
| load_cellSNP_vcf | 0.016 | 0.000 | 0.016 | |
| mixBinom | 0.009 | 0.000 | 0.009 | |
| mtx_to_df | 0.001 | 0.000 | 0.001 | |
| plot_config_diffs | 0.127 | 0.000 | 0.127 | |
| plot_tree | 1.369 | 0.000 | 1.368 | |
| predMixBinom | 0.009 | 0.000 | 0.009 | |
| prob_heatmap | 0.075 | 0.000 | 0.074 | |
| pub.theme | 0.028 | 0.000 | 0.028 | |
| read_vcf | 2.766 | 0.603 | 3.370 | |
| rowArgmax | 0 | 0 | 0 | |
| rowMax | 0.001 | 0.000 | 0.000 | |
| sample_seq_depth | 0.012 | 0.000 | 0.011 | |
| sample_tree_SNV | 0.001 | 0.003 | 0.004 | |
| sim_read_count | 1.374 | 0.009 | 1.382 | |
| vc_heatmap | 63.275 | 0.859 | 64.136 | |