| Back to Multiple platform build/check report for BioC 3.16: simplified long |
|
This page was generated on 2023-04-12 11:05:00 -0400 (Wed, 12 Apr 2023).
| Hostname | OS | Arch (*) | R version | Installed pkgs |
|---|---|---|---|---|
| nebbiolo2 | Linux (Ubuntu 20.04.5 LTS) | x86_64 | 4.2.3 (2023-03-15) -- "Shortstop Beagle" | 4502 |
| palomino4 | Windows Server 2022 Datacenter | x64 | 4.2.3 (2023-03-15 ucrt) -- "Shortstop Beagle" | 4282 |
| lconway | macOS 12.5.1 Monterey | x86_64 | 4.2.3 (2023-03-15) -- "Shortstop Beagle" | 4310 |
| Click on any hostname to see more info about the system (e.g. compilers) (*) as reported by 'uname -p', except on Windows and Mac OS X | ||||
|
To the developers/maintainers of the canceR package: - Please allow up to 24 hours (and sometimes 48 hours) for your latest push to git@git.bioconductor.org:packages/canceR.git to reflect on this report. See How and When does the builder pull? When will my changes propagate? for more information. - Make sure to use the following settings in order to reproduce any error or warning you see on this page. |
| Package 249/2183 | Hostname | OS / Arch | INSTALL | BUILD | CHECK | BUILD BIN | ||||||||
| canceR 1.32.0 (landing page) Karim Mezhoud
| nebbiolo2 | Linux (Ubuntu 20.04.5 LTS) / x86_64 | OK | OK | OK | |||||||||
| palomino4 | Windows Server 2022 Datacenter / x64 | OK | OK | OK | OK | |||||||||
| lconway | macOS 12.5.1 Monterey / x86_64 | OK | OK | OK | OK | |||||||||
| Package: canceR |
| Version: 1.32.0 |
| Command: /home/biocbuild/bbs-3.16-bioc/R/bin/R CMD check --install=check:canceR.install-out.txt --library=/home/biocbuild/bbs-3.16-bioc/R/site-library --timings canceR_1.32.0.tar.gz |
| StartedAt: 2023-04-10 19:29:29 -0400 (Mon, 10 Apr 2023) |
| EndedAt: 2023-04-10 19:33:55 -0400 (Mon, 10 Apr 2023) |
| EllapsedTime: 266.4 seconds |
| RetCode: 0 |
| Status: OK |
| CheckDir: canceR.Rcheck |
| Warnings: 0 |
############################################################################## ############################################################################## ### ### Running command: ### ### /home/biocbuild/bbs-3.16-bioc/R/bin/R CMD check --install=check:canceR.install-out.txt --library=/home/biocbuild/bbs-3.16-bioc/R/site-library --timings canceR_1.32.0.tar.gz ### ############################################################################## ############################################################################## * using log directory ‘/home/biocbuild/bbs-3.16-bioc/meat/canceR.Rcheck’ * using R version 4.2.3 (2023-03-15) * using platform: x86_64-pc-linux-gnu (64-bit) * using session charset: UTF-8 * checking for file ‘canceR/DESCRIPTION’ ... OK * checking extension type ... Package * this is package ‘canceR’ version ‘1.32.0’ * package encoding: UTF-8 * checking package namespace information ... OK * checking package dependencies ... OK * checking if this is a source package ... OK * checking if there is a namespace ... OK * checking for hidden files and directories ... OK * checking for portable file names ... OK * checking for sufficient/correct file permissions ... OK * checking whether package ‘canceR’ can be installed ... OK * checking installed package size ... OK * checking package directory ... OK * checking ‘build’ directory ... OK * checking DESCRIPTION meta-information ... OK * checking top-level files ... OK * checking for left-over files ... OK * checking index information ... OK * checking package subdirectories ... OK * checking R files for non-ASCII characters ... OK * checking R files for syntax errors ... OK * checking whether the package can be loaded ... OK * checking whether the package can be loaded with stated dependencies ... OK * checking whether the package can be unloaded cleanly ... OK * checking whether the namespace can be loaded with stated dependencies ... OK * checking whether the namespace can be unloaded cleanly ... OK * checking loading without being on the library search path ... OK * checking dependencies in R code ... NOTE Namespace in Imports field not imported from: ‘R.methodsS3’ All declared Imports should be used. * checking S3 generic/method consistency ... OK * checking replacement functions ... OK * checking foreign function calls ... OK * checking R code for possible problems ... OK * checking Rd files ... OK * checking Rd metadata ... OK * checking Rd cross-references ... OK * checking for missing documentation entries ... OK * checking for code/documentation mismatches ... OK * checking Rd \usage sections ... OK * checking Rd contents ... OK * checking for unstated dependencies in examples ... OK * checking files in ‘vignettes’ ... OK * checking examples ... OK * checking for unstated dependencies in ‘tests’ ... OK * checking tests ... Running ‘testthat.R’ OK * checking for unstated dependencies in vignettes ... OK * checking package vignettes in ‘inst/doc’ ... OK * checking running R code from vignettes ... ‘canceR.Rmd’ using ‘UTF-8’... OK NONE * checking re-building of vignette outputs ... OK * checking PDF version of manual ... OK * DONE Status: 1 NOTE See ‘/home/biocbuild/bbs-3.16-bioc/meat/canceR.Rcheck/00check.log’ for details.
canceR.Rcheck/00install.out
############################################################################## ############################################################################## ### ### Running command: ### ### /home/biocbuild/bbs-3.16-bioc/R/bin/R CMD INSTALL canceR ### ############################################################################## ############################################################################## * installing to library ‘/home/biocbuild/bbs-3.16-bioc/R/site-library’ * installing *source* package ‘canceR’ ... ** using staged installation ** R ** inst ** byte-compile and prepare package for lazy loading ** help *** installing help indices ** building package indices ** installing vignettes ** testing if installed package can be loaded from temporary location ** testing if installed package can be loaded from final location ** testing if installed package keeps a record of temporary installation path * DONE (canceR)
canceR.Rcheck/tests/testthat.Rout
R version 4.2.3 (2023-03-15) -- "Shortstop Beagle"
Copyright (C) 2023 The R Foundation for Statistical Computing
Platform: x86_64-pc-linux-gnu (64-bit)
R is free software and comes with ABSOLUTELY NO WARRANTY.
You are welcome to redistribute it under certain conditions.
Type 'license()' or 'licence()' for distribution details.
R is a collaborative project with many contributors.
Type 'contributors()' for more information and
'citation()' on how to cite R or R packages in publications.
Type 'demo()' for some demos, 'help()' for on-line help, or
'help.start()' for an HTML browser interface to help.
Type 'q()' to quit R.
> library(testthat)
> library(canceR)
Loading required package: tcltk
>
> test_check("canceR")
getCancerStudies... OK
getCaseLists (1/2) ... OK
getCaseLists (2/2) ... OK
getGeneticProfiles (1/2) ... OK
getGeneticProfiles (2/2) ... OK
getClinicalData (1/1) ... OK
getProfileData (1/6) ... OK
getProfileData (2/6) ... OK
getProfileData (3/6) ... OK
getProfileData (4/6) ... OK
getProfileData (5/6) ... OK
getProfileData (6/6) ... OK
[ FAIL 0 | WARN 0 | SKIP 1 | PASS 0 ]
══ Skipped tests ═══════════════════════════════════════════════════════════════
• empty test (1)
[ FAIL 0 | WARN 0 | SKIP 1 | PASS 0 ]
>
> proc.time()
user system elapsed
12.002 2.927 14.743
canceR.Rcheck/canceR-Ex.timings
| name | user | system | elapsed | |
| GSEA.Analyze.Sets | 0.001 | 0.000 | 0.000 | |
| GSEA.ConsPlot | 0 | 0 | 0 | |
| GSEA.EnrichmentScore | 0 | 0 | 0 | |
| GSEA.EnrichmentScore2 | 0 | 0 | 0 | |
| GSEA.Gct2Frame | 0.000 | 0.000 | 0.001 | |
| GSEA.Gct2Frame2 | 0 | 0 | 0 | |
| GSEA.GeneRanking | 0.000 | 0.000 | 0.001 | |
| GSEA.HeatMapPlot | 0.001 | 0.000 | 0.000 | |
| GSEA.HeatMapPlot2 | 0 | 0 | 0 | |
| GSEA.NormalizeCols | 0.001 | 0.000 | 0.001 | |
| GSEA.NormalizeRows | 0 | 0 | 0 | |
| GSEA | 0 | 0 | 0 | |
| GSEA.ReadClsFile | 0.000 | 0.000 | 0.001 | |
| GSEA.Res2Frame | 0.001 | 0.000 | 0.001 | |
| GSEA.Threshold | 0.001 | 0.000 | 0.000 | |
| GSEA.VarFilter | 0.001 | 0.000 | 0.000 | |
| GSEA.write.gct | 0.001 | 0.000 | 0.000 | |
| Match_GeneList_MSigDB | 0 | 0 | 0 | |
| OLD.GSEA.EnrichmentScore | 0 | 0 | 0 | |
| Run.GSEA | 0.000 | 0.000 | 0.001 | |
| about | 0 | 0 | 0 | |
| canceR | 0 | 0 | 0 | |
| canceR_Issue | 0 | 0 | 0 | |
| canceR_Vignette | 0 | 0 | 0 | |
| cbind.na | 0 | 0 | 0 | |
| dialogGeneClassifier | 0.000 | 0.000 | 0.001 | |
| dialogMetOption | 0.000 | 0.001 | 0.001 | |
| dialogMut | 0.000 | 0.001 | 0.001 | |
| dialogOptionCircos | 0.000 | 0.000 | 0.001 | |
| dialogOptionGSEAlm | 0 | 0 | 0 | |
| dialogOptionPhenoTest | 0 | 0 | 0 | |
| dialogPlotOption_SkinCor | 0 | 0 | 0 | |
| dialogSamplingGSEA | 0 | 0 | 0 | |
| dialogSelectFiles_GSEA | 0.001 | 0.000 | 0.000 | |
| dialogSpecificMut | 0.001 | 0.000 | 0.000 | |
| dialogSummary_GSEA | 0.001 | 0.000 | 0.000 | |
| dialoggetGeneListMSigDB | 0.000 | 0.000 | 0.001 | |
| displayInTable | 0.001 | 0.000 | 0.000 | |
| getCases | 0.000 | 0.000 | 0.001 | |
| getCasesGenProfs | 0.001 | 0.000 | 0.001 | |
| getCircos | 0.001 | 0.000 | 0.000 | |
| getClinicData_MultipleCases | 0.001 | 0.000 | 0.000 | |
| getClinicalDataMatrix | 0 | 0 | 0 | |
| getCor_ExpCNAMet | 0.000 | 0.000 | 0.001 | |
| getGCTCLSExample | 0.001 | 0.000 | 0.000 | |
| getGCT_CLSfiles | 0 | 0 | 0 | |
| getGSEAlm_Diseases | 0 | 0 | 0 | |
| getGSEAlm_Variables | 0 | 0 | 0 | |
| getGenProfs | 0 | 0 | 0 | |
| getGeneList | 0 | 0 | 0 | |
| getGeneListExample | 0 | 0 | 0 | |
| getGeneListFromMSigDB | 0 | 0 | 0 | |
| getGenesClassifier | 0.000 | 0.000 | 0.001 | |
| getGenesTree_MultipleCases | 0 | 0 | 0 | |
| getGenesTree_SingleCase | 0 | 0 | 0 | |
| getInTable | 0 | 0 | 0 | |
| getListProfData | 0 | 0 | 0 | |
| getMSigDB | 0.000 | 0.001 | 0.000 | |
| getMSigDBExample | 0 | 0 | 0 | |
| getMSigDBfile | 0 | 0 | 0 | |
| getMegaProfData | 0.000 | 0.001 | 0.001 | |
| getMetDataMultipleGenes | 0.000 | 0.001 | 0.000 | |
| getMutData | 0 | 0 | 0 | |
| getPhenoTest | 0 | 0 | 0 | |
| getProfilesDataMultipleGenes | 0.000 | 0.001 | 0.001 | |
| getProfilesDataSingleGene | 0.000 | 0.001 | 0.000 | |
| getSpecificMut | 0 | 0 | 0 | |
| getSummaryGSEA | 0 | 0 | 0 | |
| getSurvival | 0.000 | 0.000 | 0.001 | |
| getTextWin | 0.001 | 0.000 | 0.000 | |
| geteSet | 0 | 0 | 0 | |
| modalDialog | 0.001 | 0.000 | 0.000 | |
| myGlobalEnv | 0 | 0 | 0 | |
| plotModel | 0.001 | 0.000 | 0.000 | |
| plot_1Gene_2GenProfs | 0 | 0 | 0 | |
| plot_2Genes_1GenProf | 0.000 | 0.001 | 0.001 | |
| rbind.na | 0 | 0 | 0 | |
| setWorkspace | 0 | 0 | 0 | |
| testCheckedCaseGenProf | 0 | 0 | 0 | |