| Back to Multiple platform build/check report for BioC 3.16: simplified long |
|
This page was generated on 2023-04-12 11:04:59 -0400 (Wed, 12 Apr 2023).
| Hostname | OS | Arch (*) | R version | Installed pkgs |
|---|---|---|---|---|
| nebbiolo2 | Linux (Ubuntu 20.04.5 LTS) | x86_64 | 4.2.3 (2023-03-15) -- "Shortstop Beagle" | 4502 |
| palomino4 | Windows Server 2022 Datacenter | x64 | 4.2.3 (2023-03-15 ucrt) -- "Shortstop Beagle" | 4282 |
| lconway | macOS 12.5.1 Monterey | x86_64 | 4.2.3 (2023-03-15) -- "Shortstop Beagle" | 4310 |
| Click on any hostname to see more info about the system (e.g. compilers) (*) as reported by 'uname -p', except on Windows and Mac OS X | ||||
|
To the developers/maintainers of the biocthis package: - Please allow up to 24 hours (and sometimes 48 hours) for your latest push to git@git.bioconductor.org:packages/biocthis.git to reflect on this report. See How and When does the builder pull? When will my changes propagate? for more information. - Make sure to use the following settings in order to reproduce any error or warning you see on this page. |
| Package 175/2183 | Hostname | OS / Arch | INSTALL | BUILD | CHECK | BUILD BIN | ||||||||
| biocthis 1.8.3 (landing page) Leonardo Collado-Torres
| nebbiolo2 | Linux (Ubuntu 20.04.5 LTS) / x86_64 | OK | OK | OK | |||||||||
| palomino4 | Windows Server 2022 Datacenter / x64 | OK | OK | OK | OK | |||||||||
| lconway | macOS 12.5.1 Monterey / x86_64 | OK | OK | OK | OK | |||||||||
| Package: biocthis |
| Version: 1.8.3 |
| Command: /home/biocbuild/bbs-3.16-bioc/R/bin/R CMD check --install=check:biocthis.install-out.txt --library=/home/biocbuild/bbs-3.16-bioc/R/site-library --timings biocthis_1.8.3.tar.gz |
| StartedAt: 2023-04-10 19:17:55 -0400 (Mon, 10 Apr 2023) |
| EndedAt: 2023-04-10 19:18:34 -0400 (Mon, 10 Apr 2023) |
| EllapsedTime: 38.7 seconds |
| RetCode: 0 |
| Status: OK |
| CheckDir: biocthis.Rcheck |
| Warnings: 0 |
##############################################################################
##############################################################################
###
### Running command:
###
### /home/biocbuild/bbs-3.16-bioc/R/bin/R CMD check --install=check:biocthis.install-out.txt --library=/home/biocbuild/bbs-3.16-bioc/R/site-library --timings biocthis_1.8.3.tar.gz
###
##############################################################################
##############################################################################
* using log directory ‘/home/biocbuild/bbs-3.16-bioc/meat/biocthis.Rcheck’
* using R version 4.2.3 (2023-03-15)
* using platform: x86_64-pc-linux-gnu (64-bit)
* using session charset: UTF-8
* checking for file ‘biocthis/DESCRIPTION’ ... OK
* this is package ‘biocthis’ version ‘1.8.3’
* package encoding: UTF-8
* checking package namespace information ... OK
* checking package dependencies ... OK
* checking if this is a source package ... OK
* checking if there is a namespace ... OK
* checking for hidden files and directories ... OK
* checking for portable file names ... OK
* checking for sufficient/correct file permissions ... OK
* checking whether package ‘biocthis’ can be installed ... OK
* checking installed package size ... OK
* checking package directory ... OK
* checking ‘build’ directory ... OK
* checking DESCRIPTION meta-information ... OK
* checking top-level files ... OK
* checking for left-over files ... OK
* checking index information ... OK
* checking package subdirectories ... OK
* checking R files for non-ASCII characters ... OK
* checking R files for syntax errors ... OK
* checking whether the package can be loaded ... OK
* checking whether the package can be loaded with stated dependencies ... OK
* checking whether the package can be unloaded cleanly ... OK
* checking whether the namespace can be loaded with stated dependencies ... OK
* checking whether the namespace can be unloaded cleanly ... OK
* checking loading without being on the library search path ... OK
* checking dependencies in R code ... NOTE
Unexported objects imported by ':::' calls:
‘BiocManager:::.version_map_get_online’ ‘BiocManager:::isDevel’
‘usethis:::asciify’ ‘usethis:::check_installed’
‘usethis:::check_is_package’ ‘usethis:::check_vignette_name’
‘usethis:::create_directory’ ‘usethis:::get_active_r_file’
‘usethis:::is_package’ ‘usethis:::package_data’
‘usethis:::project_name’ ‘usethis:::render_template’
‘usethis:::target_repo_spec’ ‘usethis:::use_description_field’
‘usethis:::use_dot_github’ ‘usethis:::uses_git’
See the note in ?`:::` about the use of this operator.
* checking S3 generic/method consistency ... OK
* checking replacement functions ... OK
* checking foreign function calls ... OK
* checking R code for possible problems ... NOTE
use_bioc_github_action: no visible global function definition for
‘browseURL’
Undefined global functions or variables:
browseURL
Consider adding
importFrom("utils", "browseURL")
to your NAMESPACE file.
* checking Rd files ... OK
* checking Rd metadata ... OK
* checking Rd cross-references ... OK
* checking for missing documentation entries ... OK
* checking for code/documentation mismatches ... OK
* checking Rd \usage sections ... OK
* checking Rd contents ... OK
* checking for unstated dependencies in examples ... OK
* checking files in ‘vignettes’ ... OK
* checking examples ... OK
* checking for unstated dependencies in ‘tests’ ... OK
* checking tests ...
Running ‘testthat.R’
OK
* checking for unstated dependencies in vignettes ... OK
* checking package vignettes in ‘inst/doc’ ... OK
* checking running R code from vignettes ...
‘biocthis.Rmd’ using ‘UTF-8’... OK
‘biocthis_dev_notes.Rmd’ using ‘UTF-8’... OK
NONE
* checking re-building of vignette outputs ... OK
* checking PDF version of manual ... OK
* DONE
Status: 2 NOTEs
See
‘/home/biocbuild/bbs-3.16-bioc/meat/biocthis.Rcheck/00check.log’
for details.
biocthis.Rcheck/00install.out
############################################################################## ############################################################################## ### ### Running command: ### ### /home/biocbuild/bbs-3.16-bioc/R/bin/R CMD INSTALL biocthis ### ############################################################################## ############################################################################## * installing to library ‘/home/biocbuild/bbs-3.16-bioc/R/site-library’ * installing *source* package ‘biocthis’ ... ** using staged installation ** R ** inst ** byte-compile and prepare package for lazy loading ** help *** installing help indices ** building package indices ** installing vignettes ** testing if installed package can be loaded from temporary location ** testing if installed package can be loaded from final location ** testing if installed package keeps a record of temporary installation path * DONE (biocthis)
biocthis.Rcheck/tests/testthat.Rout
R version 4.2.3 (2023-03-15) -- "Shortstop Beagle"
Copyright (C) 2023 The R Foundation for Statistical Computing
Platform: x86_64-pc-linux-gnu (64-bit)
R is free software and comes with ABSOLUTELY NO WARRANTY.
You are welcome to redistribute it under certain conditions.
Type 'license()' or 'licence()' for distribution details.
R is a collaborative project with many contributors.
Type 'contributors()' for more information and
'citation()' on how to cite R or R packages in publications.
Type 'demo()' for some demos, 'help()' for on-line help, or
'help.start()' for an HTML browser interface to help.
Type 'q()' to quit R.
> library(testthat)
> library(biocthis)
>
> test_check("biocthis")
[ FAIL 0 | WARN 0 | SKIP 0 | PASS 4 ]
>
> proc.time()
user system elapsed
1.055 0.076 1.823
biocthis.Rcheck/biocthis-Ex.timings
| name | user | system | elapsed | |
| bioc_badges | 0 | 0 | 0 | |
| bioc_style | 0.49 | 0.02 | 0.51 | |
| biocthis_example_pkg | 0.043 | 0.000 | 0.043 | |
| use_bioc_citation | 0.147 | 0.028 | 0.194 | |
| use_bioc_coc | 0.116 | 0.004 | 0.119 | |
| use_bioc_description | 0.125 | 0.000 | 0.125 | |
| use_bioc_feature_request_template | 0.076 | 0.004 | 0.080 | |
| use_bioc_github_action | 0.000 | 0.000 | 0.001 | |
| use_bioc_issue_template | 0.076 | 0.004 | 0.080 | |
| use_bioc_news_md | 0.065 | 0.000 | 0.065 | |
| use_bioc_pkg_templates | 0.170 | 0.016 | 0.186 | |
| use_bioc_pkgdown_css | 0.073 | 0.004 | 0.077 | |
| use_bioc_readme_rmd | 0.228 | 0.000 | 0.232 | |
| use_bioc_support | 0.095 | 0.004 | 0.099 | |
| use_bioc_vignette | 0.809 | 0.010 | 0.829 | |