| Back to Multiple platform build/check report for BioC 3.16: simplified long |
|
This page was generated on 2023-04-12 11:04:58 -0400 (Wed, 12 Apr 2023).
| Hostname | OS | Arch (*) | R version | Installed pkgs |
|---|---|---|---|---|
| nebbiolo2 | Linux (Ubuntu 20.04.5 LTS) | x86_64 | 4.2.3 (2023-03-15) -- "Shortstop Beagle" | 4502 |
| palomino4 | Windows Server 2022 Datacenter | x64 | 4.2.3 (2023-03-15 ucrt) -- "Shortstop Beagle" | 4282 |
| lconway | macOS 12.5.1 Monterey | x86_64 | 4.2.3 (2023-03-15) -- "Shortstop Beagle" | 4310 |
| Click on any hostname to see more info about the system (e.g. compilers) (*) as reported by 'uname -p', except on Windows and Mac OS X | ||||
|
To the developers/maintainers of the beadarray package: - Please allow up to 24 hours (and sometimes 48 hours) for your latest push to git@git.bioconductor.org:packages/beadarray.git to reflect on this report. See How and When does the builder pull? When will my changes propagate? for more information. - Make sure to use the following settings in order to reproduce any error or warning you see on this page. |
| Package 134/2183 | Hostname | OS / Arch | INSTALL | BUILD | CHECK | BUILD BIN | ||||||||
| beadarray 2.48.0 (landing page) Mark Dunning
| nebbiolo2 | Linux (Ubuntu 20.04.5 LTS) / x86_64 | OK | OK | OK | |||||||||
| palomino4 | Windows Server 2022 Datacenter / x64 | OK | OK | OK | OK | |||||||||
| lconway | macOS 12.5.1 Monterey / x86_64 | OK | OK | OK | OK | |||||||||
| Package: beadarray |
| Version: 2.48.0 |
| Command: /home/biocbuild/bbs-3.16-bioc/R/bin/R CMD check --install=check:beadarray.install-out.txt --library=/home/biocbuild/bbs-3.16-bioc/R/site-library --timings beadarray_2.48.0.tar.gz |
| StartedAt: 2023-04-10 19:10:17 -0400 (Mon, 10 Apr 2023) |
| EndedAt: 2023-04-10 19:19:32 -0400 (Mon, 10 Apr 2023) |
| EllapsedTime: 554.8 seconds |
| RetCode: 0 |
| Status: OK |
| CheckDir: beadarray.Rcheck |
| Warnings: 0 |
##############################################################################
##############################################################################
###
### Running command:
###
### /home/biocbuild/bbs-3.16-bioc/R/bin/R CMD check --install=check:beadarray.install-out.txt --library=/home/biocbuild/bbs-3.16-bioc/R/site-library --timings beadarray_2.48.0.tar.gz
###
##############################################################################
##############################################################################
* using log directory ‘/home/biocbuild/bbs-3.16-bioc/meat/beadarray.Rcheck’
* using R version 4.2.3 (2023-03-15)
* using platform: x86_64-pc-linux-gnu (64-bit)
* using session charset: UTF-8
* checking for file ‘beadarray/DESCRIPTION’ ... OK
* this is package ‘beadarray’ version ‘2.48.0’
* checking package namespace information ... OK
* checking package dependencies ... OK
* checking if this is a source package ... OK
* checking if there is a namespace ... OK
* checking for hidden files and directories ... OK
* checking for portable file names ... OK
* checking for sufficient/correct file permissions ... OK
* checking whether package ‘beadarray’ can be installed ... OK
* checking installed package size ... OK
* checking package directory ... OK
* checking ‘build’ directory ... OK
* checking DESCRIPTION meta-information ... OK
* checking top-level files ... OK
* checking for left-over files ... OK
* checking index information ... OK
* checking package subdirectories ... OK
* checking R files for non-ASCII characters ... OK
* checking R files for syntax errors ... OK
* checking whether the package can be loaded ... OK
* checking whether the package can be loaded with stated dependencies ... OK
* checking whether the package can be unloaded cleanly ... OK
* checking whether the namespace can be loaded with stated dependencies ... OK
* checking whether the namespace can be unloaded cleanly ... OK
* checking loading without being on the library search path ... OK
* checking dependencies in R code ... NOTE
Package in Depends field not imported from: ‘hexbin’
These packages need to be imported from (in the NAMESPACE file)
for when this namespace is loaded but not attached.
Unexported objects imported by ':::' calls:
‘BeadDataPackR:::combineFiles’ ‘BeadDataPackR:::readHeader’
‘Biobase:::assayDataStorageMode’
See the note in ?`:::` about the use of this operator.
* checking S3 generic/method consistency ... OK
* checking replacement functions ... OK
* checking foreign function calls ... NOTE
Foreign function call to a different package:
.Call("roundLocsFileValues", ..., PACKAGE = "BeadDataPackR")
See chapter ‘System and foreign language interfaces’ in the ‘Writing R
Extensions’ manual.
* checking R code for possible problems ... NOTE
combinedControlPlot: no visible binding for global variable ‘Negative’
createGEOMeta: no visible binding for global variable ‘metaTemplate’
expressionQCPipeline: no visible global function definition for
‘openPage’
expressionQCPipeline: no visible global function definition for
‘hwrite’
expressionQCPipeline: no visible global function definition for
‘hwriteImage’
expressionQCPipeline: no visible global function definition for
‘closePage’
getPlatformSigs: no visible global function definition for
‘lumiHumanIDMapping_dbconn’
getPlatformSigs: no visible global function definition for
‘dbListTables’
getPlatformSigs: no visible global function definition for
‘dbListFields’
getPlatformSigs: no visible global function definition for ‘dbGetQuery’
getPlatformSigs: no visible global function definition for
‘lumiMouseIDMapping_dbconn’
getPlatformSigs: no visible global function definition for
‘lumiRatIDMapping_dbconn’
imageplot: no visible binding for global variable ‘Var1’
imageplot: no visible binding for global variable ‘Var2’
imageplot: no visible binding for global variable ‘value’
makeReport: no visible binding for global variable ‘Nozzle.R1’
makeReport: no visible binding for global variable ‘ggbio’
makeReport: no visible global function definition for ‘newCustomReport’
makeReport: no visible global function definition for ‘newSection’
makeReport: no visible global function definition for ‘newTable’
makeReport: no visible global function definition for ‘newParagraph’
makeReport: no visible global function definition for ‘addTo’
makeReport: no visible global function definition for ‘autoplot’
makeReport: no visible global function definition for ‘plotIdeogram’
makeReport: no visible global function definition for ‘tracks’
makeReport: no visible global function definition for ‘newFigure’
makeReport: no visible binding for global variable ‘IMAGE.TYPE.RASTER’
makeReport: no visible binding for global variable ‘PROTECTION.PUBLIC’
makeReport: no visible binding for global variable ‘value’
makeReport: no visible global function definition for ‘writeReport’
maplots: no visible binding for global variable ‘value.1’
maplots: no visible binding for global variable ‘value’
normaliseIllumina: no visible global function definition for ‘lumiT’
normaliseIllumina: no visible global function definition for
‘normalize.qspline’
normaliseIllumina: no visible global function definition for ‘vsn2’
plotBeadLocations2: no visible global function definition for ‘qplot’
plotBeadLocations2: no visible global function definition for ‘opts’
plotBeadLocations2: no visible global function definition for
‘theme_blank’
plotProbe: no visible global function definition for ‘autoplot’
plotProbe: no visible binding for global variable ‘genesymbol’
plotProbe: no visible global function definition for ‘tracks’
plotProbe: no visible binding for global variable ‘PROBEQUALITY’
rankInvariantNormalise: no visible global function definition for
‘normalize.invariantset’
suggestAnnotation: no visible binding for global variable
‘platformSigs’
suggestAnnotation_Vector: no visible binding for global variable
‘platformSigs’
[,ExpressionSetIllumina-ANY: no visible global function definition for
‘assayDataEnvLock’
boxplot,ExpressionSetIllumina: no visible binding for global variable
‘Var2’
boxplot,ExpressionSetIllumina: no visible binding for global variable
‘value’
plotMA,ExpressionSetIllumina: no visible binding for global variable
‘value.1’
plotMA,ExpressionSetIllumina: no visible binding for global variable
‘value’
Undefined global functions or variables:
IMAGE.TYPE.RASTER Negative Nozzle.R1 PROBEQUALITY PROTECTION.PUBLIC
Var1 Var2 addTo assayDataEnvLock autoplot closePage dbGetQuery
dbListFields dbListTables genesymbol ggbio hwrite hwriteImage
lumiHumanIDMapping_dbconn lumiMouseIDMapping_dbconn
lumiRatIDMapping_dbconn lumiT metaTemplate newCustomReport newFigure
newParagraph newSection newTable normalize.invariantset
normalize.qspline openPage opts platformSigs plotIdeogram qplot
theme_blank tracks value value.1 vsn2 writeReport
* checking Rd files ... OK
* checking Rd metadata ... OK
* checking Rd cross-references ... OK
* checking for missing documentation entries ... OK
* checking for code/documentation mismatches ... OK
* checking Rd \usage sections ... OK
* checking Rd contents ... OK
* checking for unstated dependencies in examples ... OK
* checking contents of ‘data’ directory ... OK
* checking data for non-ASCII characters ... OK
* checking LazyData ... OK
* checking data for ASCII and uncompressed saves ... OK
* checking line endings in C/C++/Fortran sources/headers ... OK
* checking compiled code ... NOTE
Note: information on .o files is not available
* checking files in ‘vignettes’ ... OK
* checking examples ... OK
Examples with CPU (user + system) or elapsed time > 5s
user system elapsed
squeezedVarOutlierMethod 54.183 0.228 54.413
summarize 22.432 0.734 23.167
calculateOutlierStats 14.250 0.860 15.109
limmaDE 14.177 0.088 14.265
normaliseIllumina 11.594 0.248 11.842
controlProbeDetection 11.056 0.240 11.296
identifyControlBeads 10.685 0.120 10.805
outlierplot 9.805 0.232 10.037
insertSectionData 9.514 0.304 9.817
calculateDetection 9.495 0.232 9.727
poscontPlot 9.401 0.216 9.617
makeQCTable 9.042 0.336 9.378
quickSummary 7.574 0.240 7.815
annotationInterface 7.239 0.520 7.759
addFeatureData 6.452 0.696 7.150
imageplot 5.879 0.184 6.063
showArrayMask 5.047 0.228 5.275
* checking for unstated dependencies in vignettes ... OK
* checking package vignettes in ‘inst/doc’ ... OK
* checking running R code from vignettes ...
‘ImageProcessing.rnw’... OK
‘beadarray.rnw’... OK
‘beadlevel.rnw’... OK
‘beadsummary.rnw’... OK
NONE
* checking re-building of vignette outputs ... OK
* checking PDF version of manual ... OK
* DONE
Status: 4 NOTEs
See
‘/home/biocbuild/bbs-3.16-bioc/meat/beadarray.Rcheck/00check.log’
for details.
beadarray.Rcheck/00install.out
##############################################################################
##############################################################################
###
### Running command:
###
### /home/biocbuild/bbs-3.16-bioc/R/bin/R CMD INSTALL beadarray
###
##############################################################################
##############################################################################
* installing to library ‘/home/biocbuild/bbs-3.16-bioc/R/site-library’
* installing *source* package ‘beadarray’ ...
** using staged installation
** libs
gcc -I"/home/biocbuild/bbs-3.16-bioc/R/include" -DNDEBUG -I/usr/local/include -fpic -g -O2 -Wall -c BASH.c -o BASH.o
gcc -I"/home/biocbuild/bbs-3.16-bioc/R/include" -DNDEBUG -I/usr/local/include -fpic -g -O2 -Wall -c HULK.c -o HULK.o
gcc -I"/home/biocbuild/bbs-3.16-bioc/R/include" -DNDEBUG -I/usr/local/include -fpic -g -O2 -Wall -c determiningGridPositions.c -o determiningGridPositions.o
gcc -I"/home/biocbuild/bbs-3.16-bioc/R/include" -DNDEBUG -I/usr/local/include -fpic -g -O2 -Wall -c findAllOutliers.c -o findAllOutliers.o
findAllOutliers.c: In function ‘findBeadStatus’:
findAllOutliers.c:196:29: warning: ‘ma’ may be used uninitialized in this function [-Wmaybe-uninitialized]
196 | if((inten[k] < (m + *nmads*ma)) && (inten[k] > (m - *nmads*ma))){
| ~~~~~~^~~
findAllOutliers.c:196:53: warning: ‘m’ may be used uninitialized in this function [-Wmaybe-uninitialized]
196 | if((inten[k] < (m + *nmads*ma)) && (inten[k] > (m - *nmads*ma))){
| ~~~^~~~~~~~~~~~
findAllOutliers.c: In function ‘findAllOutliers’:
findAllOutliers.c:226:20: warning: ‘status’ may be used uninitialized in this function [-Wmaybe-uninitialized]
226 | beadStatusStruct *status;
| ^~~~~~
gcc -I"/home/biocbuild/bbs-3.16-bioc/R/include" -DNDEBUG -I/usr/local/include -fpic -g -O2 -Wall -c imageProcessing.c -o imageProcessing.o
imageProcessing.c: In function ‘illuminaBackground’:
imageProcessing.c:88: warning: ignoring #pragma omp parallel [-Wunknown-pragmas]
88 | #pragma omp parallel shared(nthreads, nbeads, imageHeight, pixelMatrix, coords) private(tid, start, end)
|
imageProcessing.c: In function ‘medianBackground’:
imageProcessing.c:135: warning: ignoring #pragma omp parallel [-Wunknown-pragmas]
135 | #pragma omp parallel shared(nthreads, nbeads, imageHeight, pixelMatrix, coords) private(tid, start, end)
|
imageProcessing.c: In function ‘illuminaSharpen’:
imageProcessing.c:244: warning: ignoring #pragma omp parallel [-Wunknown-pragmas]
244 | #pragma omp parallel for private(i, j) shared(sharpened) num_threads(2)
|
imageProcessing.c:251: warning: ignoring #pragma omp parallel [-Wunknown-pragmas]
251 | #pragma omp parallel for private(i, j, sum) shared(sharpened) num_threads(2)
|
gcc -shared -L/home/biocbuild/bbs-3.16-bioc/R/lib -L/usr/local/lib -o beadarray.so BASH.o HULK.o determiningGridPositions.o findAllOutliers.o imageProcessing.o -L/home/biocbuild/bbs-3.16-bioc/R/lib -lR
installing to /home/biocbuild/bbs-3.16-bioc/R/site-library/00LOCK-beadarray/00new/beadarray/libs
** R
** data
*** moving datasets to lazyload DB
** inst
** byte-compile and prepare package for lazy loading
** help
*** installing help indices
** building package indices
** installing vignettes
** testing if installed package can be loaded from temporary location
** checking absolute paths in shared objects and dynamic libraries
** testing if installed package can be loaded from final location
** testing if installed package keeps a record of temporary installation path
* DONE (beadarray)
beadarray.Rcheck/beadarray-Ex.timings
| name | user | system | elapsed | |
| BASH | 0 | 0 | 0 | |
| BASHCompact | 0.000 | 0.000 | 0.001 | |
| BASHDiffuse | 0 | 0 | 0 | |
| BASHExtended | 0 | 0 | 0 | |
| GEO | 0.000 | 0.000 | 0.001 | |
| GEOtemplate | 0.000 | 0.002 | 0.003 | |
| HULK | 0 | 0 | 0 | |
| addFeatureData | 6.452 | 0.696 | 7.150 | |
| annotationInterface | 7.239 | 0.520 | 7.759 | |
| backgroundCorrectSingleSection | 0.000 | 0.001 | 0.001 | |
| beadarrayUsersGuide | 0.000 | 0.002 | 0.002 | |
| boxplot | 3.286 | 0.184 | 3.470 | |
| calculateDetection | 9.495 | 0.232 | 9.727 | |
| calculateOutlierStats | 14.250 | 0.860 | 15.109 | |
| class-beadLevelData | 2.707 | 0.104 | 2.811 | |
| class-illuminaChannel | 0.002 | 0.000 | 0.003 | |
| combine | 4.159 | 0.124 | 4.283 | |
| controlProbeDetection | 11.056 | 0.240 | 11.296 | |
| createTargetsFile | 0 | 0 | 0 | |
| expressionQCPipeline | 0.033 | 0.000 | 0.033 | |
| generateNeighbours | 0 | 0 | 0 | |
| getBeadData | 2.064 | 0.048 | 2.112 | |
| identifyControlBeads | 10.685 | 0.120 | 10.805 | |
| illuminaOutlierMethod | 2.520 | 0.048 | 2.568 | |
| imageplot | 5.879 | 0.184 | 6.063 | |
| insertBeadData | 2.805 | 0.068 | 2.873 | |
| insertSectionData | 9.514 | 0.304 | 9.817 | |
| limmaDE | 14.177 | 0.088 | 14.265 | |
| makeControlProfile | 0.316 | 0.004 | 0.319 | |
| makeQCTable | 9.042 | 0.336 | 9.378 | |
| maplots | 4.156 | 0.068 | 4.224 | |
| medianNormalise | 1.660 | 0.012 | 1.672 | |
| metrics | 2.400 | 0.028 | 2.428 | |
| noOutlierMethod | 1.836 | 0.024 | 1.859 | |
| normaliseIllumina | 11.594 | 0.248 | 11.842 | |
| numBeads | 1.681 | 0.060 | 1.740 | |
| outlierplot | 9.805 | 0.232 | 10.037 | |
| plotBeadIntensities | 3.333 | 0.192 | 3.524 | |
| plotBeadLocations | 3.133 | 0.036 | 3.170 | |
| plotChipLayout | 0 | 0 | 0 | |
| plotMAXY | 0 | 0 | 0 | |
| poscontPlot | 9.401 | 0.216 | 9.617 | |
| quickSummary | 7.574 | 0.240 | 7.815 | |
| readBeadSummaryData | 0 | 0 | 0 | |
| sectionNames | 1.762 | 0.040 | 1.802 | |
| showArrayMask | 5.047 | 0.228 | 5.275 | |
| squeezedVarOutlierMethod | 54.183 | 0.228 | 54.413 | |
| summarize | 22.432 | 0.734 | 23.167 | |
| transformationFunctions | 2.143 | 0.280 | 2.424 | |
| weightsOutlierMethod | 0 | 0 | 0 | |