| Back to Multiple platform build/check report for BioC 3.16: simplified long |
|
This page was generated on 2023-04-12 11:05:59 -0400 (Wed, 12 Apr 2023).
| Hostname | OS | Arch (*) | R version | Installed pkgs |
|---|---|---|---|---|
| nebbiolo2 | Linux (Ubuntu 20.04.5 LTS) | x86_64 | 4.2.3 (2023-03-15) -- "Shortstop Beagle" | 4502 |
| palomino4 | Windows Server 2022 Datacenter | x64 | 4.2.3 (2023-03-15 ucrt) -- "Shortstop Beagle" | 4282 |
| lconway | macOS 12.5.1 Monterey | x86_64 | 4.2.3 (2023-03-15) -- "Shortstop Beagle" | 4310 |
| Click on any hostname to see more info about the system (e.g. compilers) (*) as reported by 'uname -p', except on Windows and Mac OS X | ||||
|
To the developers/maintainers of the baySeq package: - Please allow up to 24 hours (and sometimes 48 hours) for your latest push to git@git.bioconductor.org:packages/baySeq.git to reflect on this report. See How and When does the builder pull? When will my changes propagate? for more information. - Make sure to use the following settings in order to reproduce any error or warning you see on this page. |
| Package 128/2183 | Hostname | OS / Arch | INSTALL | BUILD | CHECK | BUILD BIN | ||||||||
| baySeq 2.32.0 (landing page) Thomas J. Hardcastle
| nebbiolo2 | Linux (Ubuntu 20.04.5 LTS) / x86_64 | OK | OK | ERROR | |||||||||
| palomino4 | Windows Server 2022 Datacenter / x64 | OK | OK | OK | OK | |||||||||
| lconway | macOS 12.5.1 Monterey / x86_64 | OK | OK | OK | OK | |||||||||
| Package: baySeq |
| Version: 2.32.0 |
| Command: /Library/Frameworks/R.framework/Resources/bin/R CMD check --install=check:baySeq.install-out.txt --library=/Library/Frameworks/R.framework/Resources/library --no-vignettes --timings baySeq_2.32.0.tar.gz |
| StartedAt: 2023-04-10 18:55:49 -0400 (Mon, 10 Apr 2023) |
| EndedAt: 2023-04-10 18:58:30 -0400 (Mon, 10 Apr 2023) |
| EllapsedTime: 161.0 seconds |
| RetCode: 0 |
| Status: OK |
| CheckDir: baySeq.Rcheck |
| Warnings: 0 |
##############################################################################
##############################################################################
###
### Running command:
###
### /Library/Frameworks/R.framework/Resources/bin/R CMD check --install=check:baySeq.install-out.txt --library=/Library/Frameworks/R.framework/Resources/library --no-vignettes --timings baySeq_2.32.0.tar.gz
###
##############################################################################
##############################################################################
* using log directory ‘/Users/biocbuild/bbs-3.16-bioc/meat/baySeq.Rcheck’
* using R version 4.2.3 (2023-03-15)
* using platform: x86_64-apple-darwin17.0 (64-bit)
* using session charset: UTF-8
* using option ‘--no-vignettes’
* checking for file ‘baySeq/DESCRIPTION’ ... OK
* checking extension type ... Package
* this is package ‘baySeq’ version ‘2.32.0’
* checking package namespace information ... OK
* checking package dependencies ... OK
* checking if this is a source package ... OK
* checking if there is a namespace ... OK
* checking for hidden files and directories ... OK
* checking for portable file names ... OK
* checking for sufficient/correct file permissions ... OK
* checking whether package ‘baySeq’ can be installed ... OK
* checking installed package size ... OK
* checking package directory ... OK
* checking ‘build’ directory ... OK
* checking DESCRIPTION meta-information ... OK
* checking top-level files ... OK
* checking for left-over files ... OK
* checking index information ... OK
* checking package subdirectories ... OK
* checking R files for non-ASCII characters ... OK
* checking R files for syntax errors ... OK
* checking whether the package can be loaded ... OK
* checking whether the package can be loaded with stated dependencies ... OK
* checking whether the package can be unloaded cleanly ... OK
* checking whether the namespace can be loaded with stated dependencies ... OK
* checking whether the namespace can be unloaded cleanly ... OK
* checking dependencies in R code ... OK
* checking S3 generic/method consistency ... OK
* checking replacement functions ... OK
* checking foreign function calls ... OK
* checking R code for possible problems ... OK
* checking Rd files ... OK
* checking Rd metadata ... OK
* checking Rd cross-references ... OK
* checking for missing documentation entries ... OK
* checking for code/documentation mismatches ... OK
* checking Rd \usage sections ... OK
* checking Rd contents ... OK
* checking for unstated dependencies in examples ... OK
* checking contents of ‘data’ directory ... OK
* checking data for non-ASCII characters ... OK
* checking data for ASCII and uncompressed saves ... OK
* checking sizes of PDF files under ‘inst/doc’ ... OK
* checking files in ‘vignettes’ ... OK
* checking examples ... OK
Examples with CPU (user + system) or elapsed time > 5s
user system elapsed
baySeq-package 27.980 0.877 28.940
getPriors 20.931 0.103 21.081
getLikelihoods 7.713 0.747 8.504
* checking for unstated dependencies in vignettes ... OK
* checking package vignettes in ‘inst/doc’ ... OK
* checking running R code from vignettes ... SKIPPED
* checking re-building of vignette outputs ... SKIPPED
* checking PDF version of manual ... OK
* DONE
Status: OK
baySeq.Rcheck/00install.out
############################################################################## ############################################################################## ### ### Running command: ### ### /Library/Frameworks/R.framework/Resources/bin/R CMD INSTALL baySeq ### ############################################################################## ############################################################################## * installing to library ‘/Library/Frameworks/R.framework/Versions/4.2/Resources/library’ * installing *source* package ‘baySeq’ ... ** using staged installation ** R ** data ** byte-compile and prepare package for lazy loading ** help *** installing help indices ** building package indices ** installing vignettes ** testing if installed package can be loaded from temporary location ** testing if installed package can be loaded from final location ** testing if installed package keeps a record of temporary installation path * DONE (baySeq)
baySeq.Rcheck/baySeq-Ex.timings
| name | user | system | elapsed | |
| allModels | 0.226 | 0.005 | 0.231 | |
| baySeq-classes | 0.088 | 0.003 | 0.092 | |
| baySeq-package | 27.980 | 0.877 | 28.940 | |
| bimodalSep | 0.001 | 0.000 | 0.001 | |
| densityFunction | 0.001 | 0.001 | 0.001 | |
| getLibsizes | 0.005 | 0.001 | 0.006 | |
| getLikelihoods | 7.713 | 0.747 | 8.504 | |
| getPosteriors | 0.006 | 0.001 | 0.007 | |
| getPriors | 20.931 | 0.103 | 21.081 | |
| getTPs | 0.005 | 0.006 | 0.011 | |
| makeOrderings | 0.044 | 0.003 | 0.047 | |
| marginaliseEqual | 0.189 | 0.006 | 0.195 | |
| marginalisePairwise | 0.194 | 0.003 | 0.196 | |
| plotMA.CD | 0.018 | 0.004 | 0.023 | |
| plotPosteriors | 0.040 | 0.004 | 0.044 | |
| plotPriors | 0.032 | 0.003 | 0.035 | |
| selectTop | 0.015 | 0.004 | 0.018 | |
| summarisePosteriors | 0.005 | 0.002 | 0.006 | |
| topCounts | 0.020 | 0.004 | 0.024 | |