| Back to Multiple platform build/check report for BioC 3.16: simplified long |
|
This page was generated on 2023-04-12 11:05:24 -0400 (Wed, 12 Apr 2023).
| Hostname | OS | Arch (*) | R version | Installed pkgs |
|---|---|---|---|---|
| nebbiolo2 | Linux (Ubuntu 20.04.5 LTS) | x86_64 | 4.2.3 (2023-03-15) -- "Shortstop Beagle" | 4502 |
| palomino4 | Windows Server 2022 Datacenter | x64 | 4.2.3 (2023-03-15 ucrt) -- "Shortstop Beagle" | 4282 |
| lconway | macOS 12.5.1 Monterey | x86_64 | 4.2.3 (2023-03-15) -- "Shortstop Beagle" | 4310 |
| Click on any hostname to see more info about the system (e.g. compilers) (*) as reported by 'uname -p', except on Windows and Mac OS X | ||||
|
To the developers/maintainers of the apComplex package: - Please allow up to 24 hours (and sometimes 48 hours) for your latest push to git@git.bioconductor.org:packages/apComplex.git to reflect on this report. See How and When does the builder pull? When will my changes propagate? for more information. - Make sure to use the following settings in order to reproduce any error or warning you see on this page. |
| Package 70/2183 | Hostname | OS / Arch | INSTALL | BUILD | CHECK | BUILD BIN | ||||||||
| apComplex 2.64.0 (landing page) Denise Scholtens
| nebbiolo2 | Linux (Ubuntu 20.04.5 LTS) / x86_64 | OK | OK | OK | |||||||||
| palomino4 | Windows Server 2022 Datacenter / x64 | OK | OK | OK | OK | |||||||||
| lconway | macOS 12.5.1 Monterey / x86_64 | OK | OK | OK | OK | |||||||||
| Package: apComplex |
| Version: 2.64.0 |
| Command: F:\biocbuild\bbs-3.16-bioc\R\bin\R.exe CMD check --no-multiarch --install=check:apComplex.install-out.txt --library=F:\biocbuild\bbs-3.16-bioc\R\library --no-vignettes --timings apComplex_2.64.0.tar.gz |
| StartedAt: 2023-04-10 22:52:24 -0400 (Mon, 10 Apr 2023) |
| EndedAt: 2023-04-10 22:54:21 -0400 (Mon, 10 Apr 2023) |
| EllapsedTime: 117.8 seconds |
| RetCode: 0 |
| Status: OK |
| CheckDir: apComplex.Rcheck |
| Warnings: 0 |
##############################################################################
##############################################################################
###
### Running command:
###
### F:\biocbuild\bbs-3.16-bioc\R\bin\R.exe CMD check --no-multiarch --install=check:apComplex.install-out.txt --library=F:\biocbuild\bbs-3.16-bioc\R\library --no-vignettes --timings apComplex_2.64.0.tar.gz
###
##############################################################################
##############################################################################
* using log directory 'F:/biocbuild/bbs-3.16-bioc/meat/apComplex.Rcheck'
* using R version 4.2.3 (2023-03-15 ucrt)
* using platform: x86_64-w64-mingw32 (64-bit)
* using session charset: UTF-8
* using option '--no-vignettes'
* checking for file 'apComplex/DESCRIPTION' ... OK
* this is package 'apComplex' version '2.64.0'
* checking package namespace information ... OK
* checking package dependencies ... OK
* checking if this is a source package ... OK
* checking if there is a namespace ... OK
* checking for hidden files and directories ... OK
* checking for portable file names ... OK
* checking whether package 'apComplex' can be installed ... OK
* checking installed package size ... OK
* checking package directory ... OK
* checking 'build' directory ... OK
* checking DESCRIPTION meta-information ... OK
* checking top-level files ... OK
* checking for left-over files ... OK
* checking index information ... OK
* checking package subdirectories ... OK
* checking R files for non-ASCII characters ... OK
* checking R files for syntax errors ... OK
* checking whether the package can be loaded ... OK
* checking whether the package can be loaded with stated dependencies ... OK
* checking whether the package can be unloaded cleanly ... OK
* checking whether the namespace can be loaded with stated dependencies ... OK
* checking whether the namespace can be unloaded cleanly ... OK
* checking dependencies in R code ... NOTE
Packages in Depends field not imported from:
'RBGL' 'graph'
These packages need to be imported from (in the NAMESPACE file)
for when this namespace is loaded but not attached.
* checking S3 generic/method consistency ... OK
* checking replacement functions ... OK
* checking foreign function calls ... OK
* checking R code for possible problems ... NOTE
plotComplex: warning in mget(complexMembers, env = org.Sc.sgdGENENAME,
ifnotfound = NA): partial argument match of 'env' to 'envir'
bhmaxSubgraph: no visible global function definition for 'as'
bhmaxSubgraph: no visible global function definition for 'ugraph'
bhmaxSubgraph: no visible global function definition for 'maxClique'
plotComplex: no visible global function definition for 'subGraph'
plotComplex: no visible global function definition for
'removeSelfLoops'
plotComplex: no visible global function definition for 'edgeNames'
plotComplex: no visible global function definition for 'numEdges'
plotComplex: no visible global function definition for 'degree'
Undefined global functions or variables:
as degree edgeNames maxClique numEdges removeSelfLoops subGraph
ugraph
Consider adding
importFrom("methods", "as")
to your NAMESPACE file (and ensure that your DESCRIPTION Imports field
contains 'methods').
* checking Rd files ... OK
* checking Rd metadata ... OK
* checking Rd cross-references ... OK
* checking for missing documentation entries ... OK
* checking for code/documentation mismatches ... OK
* checking Rd \usage sections ... OK
* checking Rd contents ... OK
* checking for unstated dependencies in examples ... OK
* checking contents of 'data' directory ... OK
* checking data for non-ASCII characters ... OK
* checking data for ASCII and uncompressed saves ... OK
* checking sizes of PDF files under 'inst/doc' ... OK
* checking files in 'vignettes' ... OK
* checking examples ... OK
* checking for unstated dependencies in vignettes ... OK
* checking package vignettes in 'inst/doc' ... OK
* checking running R code from vignettes ... SKIPPED
* checking re-building of vignette outputs ... SKIPPED
* checking PDF version of manual ... OK
* DONE
Status: 2 NOTEs
See
'F:/biocbuild/bbs-3.16-bioc/meat/apComplex.Rcheck/00check.log'
for details.
apComplex.Rcheck/00install.out
############################################################################## ############################################################################## ### ### Running command: ### ### F:\biocbuild\bbs-3.16-bioc\R\bin\R.exe CMD INSTALL apComplex ### ############################################################################## ############################################################################## * installing to library 'F:/biocbuild/bbs-3.16-bioc/R/library' * installing *source* package 'apComplex' ... ** using staged installation ** R ** data ** byte-compile and prepare package for lazy loading ** help *** installing help indices ** building package indices ** installing vignettes ** testing if installed package can be loaded from temporary location ** testing if installed package can be loaded from final location ** testing if installed package keeps a record of temporary installation path * DONE (apComplex)
apComplex.Rcheck/apComplex-Ex.timings
| name | user | system | elapsed | |
| FilteredEstimates | 0.05 | 0.00 | 0.05 | |
| HMSPCI | 0.04 | 0.00 | 0.04 | |
| Krogan | 0.00 | 0.01 | 0.01 | |
| LCjoin | 0.55 | 0.00 | 0.55 | |
| MBMEcHMSPCI | 0 | 0 | 0 | |
| MBMEcKrogan | 0.00 | 0.02 | 0.02 | |
| MBMEcTAP | 0 | 0 | 0 | |
| TAP | 0.01 | 0.02 | 0.03 | |
| apEX | 0.00 | 0.01 | 0.01 | |
| bhmaxSubgraph | 0.05 | 0.00 | 0.05 | |
| findComplexes | 0.03 | 0.00 | 0.03 | |
| gavinBP2006 | 0.08 | 0.00 | 0.08 | |
| kroganBPMat2006 | 0.19 | 0.02 | 0.20 | |
| mergeComplexes | 0.37 | 0.00 | 0.38 | |
| plotComplex | 0.09 | 0.00 | 0.09 | |
| sortComplexes | 0.04 | 0.00 | 0.03 | |
| yNameTAP | 0.01 | 0.00 | 0.02 | |
| yTAP | 0 | 0 | 0 | |