| Back to Multiple platform build/check report for BioC 3.16: simplified long |
|
This page was generated on 2023-04-12 11:05:24 -0400 (Wed, 12 Apr 2023).
| Hostname | OS | Arch (*) | R version | Installed pkgs |
|---|---|---|---|---|
| nebbiolo2 | Linux (Ubuntu 20.04.5 LTS) | x86_64 | 4.2.3 (2023-03-15) -- "Shortstop Beagle" | 4502 |
| palomino4 | Windows Server 2022 Datacenter | x64 | 4.2.3 (2023-03-15 ucrt) -- "Shortstop Beagle" | 4282 |
| lconway | macOS 12.5.1 Monterey | x86_64 | 4.2.3 (2023-03-15) -- "Shortstop Beagle" | 4310 |
| Click on any hostname to see more info about the system (e.g. compilers) (*) as reported by 'uname -p', except on Windows and Mac OS X | ||||
|
To the developers/maintainers of the affyContam package: - Please allow up to 24 hours (and sometimes 48 hours) for your latest push to git@git.bioconductor.org:packages/affyContam.git to reflect on this report. See How and When does the builder pull? When will my changes propagate? for more information. - Make sure to use the following settings in order to reproduce any error or warning you see on this page. |
| Package 25/2183 | Hostname | OS / Arch | INSTALL | BUILD | CHECK | BUILD BIN | ||||||||
| affyContam 1.56.0 (landing page) V. Carey
| nebbiolo2 | Linux (Ubuntu 20.04.5 LTS) / x86_64 | OK | OK | OK | |||||||||
| palomino4 | Windows Server 2022 Datacenter / x64 | OK | OK | OK | OK | |||||||||
| lconway | macOS 12.5.1 Monterey / x86_64 | OK | OK | OK | OK | |||||||||
| Package: affyContam |
| Version: 1.56.0 |
| Command: rm -rf affyContam.buildbin-libdir && mkdir affyContam.buildbin-libdir && F:\biocbuild\bbs-3.16-bioc\R\bin\R.exe CMD INSTALL --build --library=affyContam.buildbin-libdir affyContam_1.56.0.tar.gz |
| StartedAt: 2023-04-11 07:31:54 -0400 (Tue, 11 Apr 2023) |
| EndedAt: 2023-04-11 07:31:59 -0400 (Tue, 11 Apr 2023) |
| EllapsedTime: 5.8 seconds |
| RetCode: 0 |
| Status: OK |
| PackageFile: affyContam_1.56.0.zip |
| PackageFileSize: 216.2 KiB |
##############################################################################
##############################################################################
###
### Running command:
###
### rm -rf affyContam.buildbin-libdir && mkdir affyContam.buildbin-libdir && F:\biocbuild\bbs-3.16-bioc\R\bin\R.exe CMD INSTALL --build --library=affyContam.buildbin-libdir affyContam_1.56.0.tar.gz
###
##############################################################################
##############################################################################
* installing *source* package 'affyContam' ...
** using staged installation
** R
** inst
** byte-compile and prepare package for lazy loading
Package LibPath Item
[1,] "affydata" "F:/biocbuild/bbs-3.16-bioc/R/library" "Dilution"
Title
[1,] "AffyBatch instance Dilution"
** help
*** installing help indices
** building package indices
** installing vignettes
** testing if installed package can be loaded from temporary location
Package LibPath Item
[1,] "affydata" "F:/biocbuild/bbs-3.16-bioc/R/library" "Dilution"
Title
[1,] "AffyBatch instance Dilution"
** testing if installed package can be loaded from final location
Package LibPath Item
[1,] "affydata" "F:/biocbuild/bbs-3.16-bioc/R/library" "Dilution"
Title
[1,] "AffyBatch instance Dilution"
** testing if installed package keeps a record of temporary installation path
* MD5 sums
packaged installation of 'affyContam' as affyContam_1.56.0.zip
* DONE (affyContam)