| Back to Multiple platform build/check report for BioC 3.16: simplified long |
|
This page was generated on 2023-04-12 11:05:58 -0400 (Wed, 12 Apr 2023).
| Hostname | OS | Arch (*) | R version | Installed pkgs |
|---|---|---|---|---|
| nebbiolo2 | Linux (Ubuntu 20.04.5 LTS) | x86_64 | 4.2.3 (2023-03-15) -- "Shortstop Beagle" | 4502 |
| palomino4 | Windows Server 2022 Datacenter | x64 | 4.2.3 (2023-03-15 ucrt) -- "Shortstop Beagle" | 4282 |
| lconway | macOS 12.5.1 Monterey | x86_64 | 4.2.3 (2023-03-15) -- "Shortstop Beagle" | 4310 |
| Click on any hostname to see more info about the system (e.g. compilers) (*) as reported by 'uname -p', except on Windows and Mac OS X | ||||
|
To the developers/maintainers of the a4Reporting package: - Please allow up to 24 hours (and sometimes 48 hours) for your latest push to git@git.bioconductor.org:packages/a4Reporting.git to reflect on this report. See How and When does the builder pull? When will my changes propagate? for more information. - Make sure to use the following settings in order to reproduce any error or warning you see on this page. |
| Package 6/2183 | Hostname | OS / Arch | INSTALL | BUILD | CHECK | BUILD BIN | ||||||||
| a4Reporting 1.46.0 (landing page) Laure Cougnaud
| nebbiolo2 | Linux (Ubuntu 20.04.5 LTS) / x86_64 | OK | OK | OK | |||||||||
| palomino4 | Windows Server 2022 Datacenter / x64 | OK | OK | OK | OK | |||||||||
| lconway | macOS 12.5.1 Monterey / x86_64 | OK | OK | OK | OK | |||||||||
| Package: a4Reporting |
| Version: 1.46.0 |
| Command: /Library/Frameworks/R.framework/Resources/bin/R CMD check --install=check:a4Reporting.install-out.txt --library=/Library/Frameworks/R.framework/Resources/library --no-vignettes --timings a4Reporting_1.46.0.tar.gz |
| StartedAt: 2023-04-10 18:44:06 -0400 (Mon, 10 Apr 2023) |
| EndedAt: 2023-04-10 18:44:38 -0400 (Mon, 10 Apr 2023) |
| EllapsedTime: 31.4 seconds |
| RetCode: 0 |
| Status: OK |
| CheckDir: a4Reporting.Rcheck |
| Warnings: 0 |
############################################################################## ############################################################################## ### ### Running command: ### ### /Library/Frameworks/R.framework/Resources/bin/R CMD check --install=check:a4Reporting.install-out.txt --library=/Library/Frameworks/R.framework/Resources/library --no-vignettes --timings a4Reporting_1.46.0.tar.gz ### ############################################################################## ############################################################################## * using log directory ‘/Users/biocbuild/bbs-3.16-bioc/meat/a4Reporting.Rcheck’ * using R version 4.2.3 (2023-03-15) * using platform: x86_64-apple-darwin17.0 (64-bit) * using session charset: UTF-8 * using option ‘--no-vignettes’ * checking for file ‘a4Reporting/DESCRIPTION’ ... OK * checking extension type ... Package * this is package ‘a4Reporting’ version ‘1.46.0’ * checking package namespace information ... OK * checking package dependencies ... OK * checking if this is a source package ... OK * checking if there is a namespace ... OK * checking for hidden files and directories ... OK * checking for portable file names ... OK * checking for sufficient/correct file permissions ... OK * checking whether package ‘a4Reporting’ can be installed ... OK * checking installed package size ... OK * checking package directory ... OK * checking ‘build’ directory ... OK * checking DESCRIPTION meta-information ... OK * checking top-level files ... OK * checking for left-over files ... OK * checking index information ... OK * checking package subdirectories ... OK * checking R files for non-ASCII characters ... OK * checking R files for syntax errors ... OK * checking whether the package can be loaded ... OK * checking whether the package can be loaded with stated dependencies ... OK * checking whether the package can be unloaded cleanly ... OK * checking whether the namespace can be loaded with stated dependencies ... OK * checking whether the namespace can be unloaded cleanly ... OK * checking dependencies in R code ... OK * checking S3 generic/method consistency ... OK * checking replacement functions ... OK * checking foreign function calls ... OK * checking R code for possible problems ... OK * checking Rd files ... OK * checking Rd metadata ... OK * checking Rd cross-references ... OK * checking for missing documentation entries ... OK * checking for code/documentation mismatches ... OK * checking Rd \usage sections ... OK * checking Rd contents ... OK * checking for unstated dependencies in examples ... OK * checking files in ‘vignettes’ ... OK * checking examples ... OK * checking for unstated dependencies in ‘tests’ ... OK * checking tests ... Running ‘test.annotationTable.R’ OK * checking for unstated dependencies in vignettes ... OK * checking package vignettes in ‘inst/doc’ ... OK * checking running R code from vignettes ... SKIPPED * checking re-building of vignette outputs ... SKIPPED * checking PDF version of manual ... OK * DONE Status: OK
a4Reporting.Rcheck/00install.out
############################################################################## ############################################################################## ### ### Running command: ### ### /Library/Frameworks/R.framework/Resources/bin/R CMD INSTALL a4Reporting ### ############################################################################## ############################################################################## * installing to library ‘/Library/Frameworks/R.framework/Versions/4.2/Resources/library’ * installing *source* package ‘a4Reporting’ ... ** using staged installation ** R ** inst ** byte-compile and prepare package for lazy loading ** help *** installing help indices ** building package indices ** installing vignettes ** testing if installed package can be loaded from temporary location ** testing if installed package can be loaded from final location ** testing if installed package keeps a record of temporary installation path * DONE (a4Reporting)
a4Reporting.Rcheck/tests/test.annotationTable.Rout
R version 4.2.3 (2023-03-15) -- "Shortstop Beagle"
Copyright (C) 2023 The R Foundation for Statistical Computing
Platform: x86_64-apple-darwin17.0 (64-bit)
R is free software and comes with ABSOLUTELY NO WARRANTY.
You are welcome to redistribute it under certain conditions.
Type 'license()' or 'licence()' for distribution details.
R is a collaborative project with many contributors.
Type 'contributors()' for more information and
'citation()' on how to cite R or R packages in publications.
Type 'demo()' for some demos, 'help()' for on-line help, or
'help.start()' for an HTML browser interface to help.
Type 'q()' to quit R.
> # test annotationTable functionality
>
> library(a4Reporting)
>
> ## some dummy data
> set.seed(123)
> dData <- data.frame(someSymbol = LETTERS[1:5],
+ accessionNumber =
+ c("X83928", "V00540", "U21090", "L38487", "M34057"),
+ floats = rnorm(5))
>
> at <- annotationTable(displayData = dData,
+ displayCols = list(accessionNumber = "EntrezId"))
>
> at
annotationTable with hyperlink annotation for columns:
someSymbol, accessionNumber, floats
someSymbol accessionNumber floats
1 A X83928 -0.56047565
2 B V00540 -0.23017749
3 C U21090 1.55870831
4 D L38487 0.07050839
5 E M34057 0.12928774
>
> xat <- xtable(at, caption = "Example LaTeX table with Hyperlinks", digits = 3)
>
> print(xat, include.rownames = FALSE) # OK
% latex table generated in R 4.2.3 by xtable 1.8-4 package
% Mon Apr 10 18:44:29 2023
\begin{table}[ht]
\centering
\begin{tabular}{llr}
\hline
someSymbol & accessionNumber & floats \\
\hline
A & \href{http://www.ncbi.nlm.nih.gov/gene/X83928}{X83928} & -0.560 \\
B & \href{http://www.ncbi.nlm.nih.gov/gene/V00540}{V00540} & -0.230 \\
C & \href{http://www.ncbi.nlm.nih.gov/gene/U21090}{U21090} & 1.559 \\
D & \href{http://www.ncbi.nlm.nih.gov/gene/L38487}{L38487} & 0.071 \\
E & \href{http://www.ncbi.nlm.nih.gov/gene/M34057}{M34057} & 0.129 \\
\hline
\end{tabular}
\caption{Example LaTeX table with Hyperlinks}
\end{table}
>
>
> proc.time()
user system elapsed
0.273 0.080 0.347
a4Reporting.Rcheck/a4Reporting-Ex.timings
| name | user | system | elapsed | |
| annotationTable-class | 0.001 | 0.001 | 0.001 | |
| annotationTable | 0.005 | 0.001 | 0.006 | |
| generateEntrezIdLinks | 0.000 | 0.001 | 0.000 | |
| xtable-methods | 0.015 | 0.001 | 0.016 | |