| Back to Multiple platform build/check report for BioC 3.16: simplified long |
|
This page was generated on 2023-04-12 11:05:24 -0400 (Wed, 12 Apr 2023).
| Hostname | OS | Arch (*) | R version | Installed pkgs |
|---|---|---|---|---|
| nebbiolo2 | Linux (Ubuntu 20.04.5 LTS) | x86_64 | 4.2.3 (2023-03-15) -- "Shortstop Beagle" | 4502 |
| palomino4 | Windows Server 2022 Datacenter | x64 | 4.2.3 (2023-03-15 ucrt) -- "Shortstop Beagle" | 4282 |
| lconway | macOS 12.5.1 Monterey | x86_64 | 4.2.3 (2023-03-15) -- "Shortstop Beagle" | 4310 |
| Click on any hostname to see more info about the system (e.g. compilers) (*) as reported by 'uname -p', except on Windows and Mac OS X | ||||
|
To the developers/maintainers of the a4Base package: - Please allow up to 24 hours (and sometimes 48 hours) for your latest push to git@git.bioconductor.org:packages/a4Base.git to reflect on this report. See How and When does the builder pull? When will my changes propagate? for more information. - Make sure to use the following settings in order to reproduce any error or warning you see on this page. |
| Package 2/2183 | Hostname | OS / Arch | INSTALL | BUILD | CHECK | BUILD BIN | ||||||||
| a4Base 1.46.0 (landing page) Laure Cougnaud
| nebbiolo2 | Linux (Ubuntu 20.04.5 LTS) / x86_64 | OK | OK | OK | |||||||||
| palomino4 | Windows Server 2022 Datacenter / x64 | OK | OK | OK | OK | |||||||||
| lconway | macOS 12.5.1 Monterey / x86_64 | OK | OK | OK | OK | |||||||||
| Package: a4Base |
| Version: 1.46.0 |
| Command: F:\biocbuild\bbs-3.16-bioc\R\bin\R.exe CMD check --no-multiarch --install=check:a4Base.install-out.txt --library=F:\biocbuild\bbs-3.16-bioc\R\library --no-vignettes --timings a4Base_1.46.0.tar.gz |
| StartedAt: 2023-04-10 22:42:47 -0400 (Mon, 10 Apr 2023) |
| EndedAt: 2023-04-10 22:46:03 -0400 (Mon, 10 Apr 2023) |
| EllapsedTime: 196.5 seconds |
| RetCode: 0 |
| Status: OK |
| CheckDir: a4Base.Rcheck |
| Warnings: 0 |
##############################################################################
##############################################################################
###
### Running command:
###
### F:\biocbuild\bbs-3.16-bioc\R\bin\R.exe CMD check --no-multiarch --install=check:a4Base.install-out.txt --library=F:\biocbuild\bbs-3.16-bioc\R\library --no-vignettes --timings a4Base_1.46.0.tar.gz
###
##############################################################################
##############################################################################
* using log directory 'F:/biocbuild/bbs-3.16-bioc/meat/a4Base.Rcheck'
* using R version 4.2.3 (2023-03-15 ucrt)
* using platform: x86_64-w64-mingw32 (64-bit)
* using session charset: UTF-8
* using option '--no-vignettes'
* checking for file 'a4Base/DESCRIPTION' ... OK
* checking extension type ... Package
* this is package 'a4Base' version '1.46.0'
* checking package namespace information ... OK
* checking package dependencies ... NOTE
Package which this enhances but not available for checking: 'JavaGD'
* checking if this is a source package ... OK
* checking if there is a namespace ... OK
* checking for hidden files and directories ... OK
* checking for portable file names ... OK
* checking whether package 'a4Base' can be installed ... OK
* checking installed package size ... OK
* checking package directory ... OK
* checking DESCRIPTION meta-information ... OK
* checking top-level files ... OK
* checking for left-over files ... OK
* checking index information ... OK
* checking package subdirectories ... OK
* checking R files for non-ASCII characters ... OK
* checking R files for syntax errors ... OK
* checking whether the package can be loaded ... OK
* checking whether the package can be loaded with stated dependencies ... OK
* checking whether the package can be unloaded cleanly ... OK
* checking whether the namespace can be loaded with stated dependencies ... OK
* checking whether the namespace can be unloaded cleanly ... OK
* checking dependencies in R code ... OK
* checking S3 generic/method consistency ... OK
* checking replacement functions ... OK
* checking foreign function calls ... OK
* checking R code for possible problems ... OK
* checking Rd files ... OK
* checking Rd metadata ... OK
* checking Rd cross-references ... OK
* checking for missing documentation entries ... OK
* checking for code/documentation mismatches ... OK
* checking Rd \usage sections ... OK
* checking Rd contents ... OK
* checking for unstated dependencies in examples ... OK
* checking contents of 'data' directory ... OK
* checking data for non-ASCII characters ... OK
* checking data for ASCII and uncompressed saves ... OK
* checking examples ... OK
Examples with CPU (user + system) or elapsed time > 5s
user system elapsed
spectralMap 8.96 0.21 9.17
computeLogRatio 5.01 0.19 5.20
* checking PDF version of manual ... OK
* DONE
Status: 1 NOTE
See
'F:/biocbuild/bbs-3.16-bioc/meat/a4Base.Rcheck/00check.log'
for details.
a4Base.Rcheck/00install.out
############################################################################## ############################################################################## ### ### Running command: ### ### F:\biocbuild\bbs-3.16-bioc\R\bin\R.exe CMD INSTALL a4Base ### ############################################################################## ############################################################################## * installing to library 'F:/biocbuild/bbs-3.16-bioc/R/library' * installing *source* package 'a4Base' ... ** using staged installation ** R ** data ** inst ** byte-compile and prepare package for lazy loading ** help *** installing help indices ** building package indices ** testing if installed package can be loaded from temporary location ** testing if installed package can be loaded from final location ** testing if installed package keeps a record of temporary installation path * DONE (a4Base)
a4Base.Rcheck/a4Base-Ex.timings
| name | user | system | elapsed | |
| a4palette | 0.05 | 0.00 | 0.04 | |
| addQuantilesColors | 2.16 | 0.09 | 2.25 | |
| boxPlot | 1.74 | 0.06 | 1.80 | |
| combineTwoExpressionSet | 0 | 0 | 0 | |
| computeLogRatio | 5.01 | 0.19 | 5.20 | |
| createExpressionSet | 0.03 | 0.00 | 0.03 | |
| filterVarInt | 1.99 | 0.06 | 2.05 | |
| heatmap.expressionSet | 0 | 0 | 0 | |
| histPvalue | 1.51 | 0.06 | 1.91 | |
| histpvalueplotter | 1.53 | 0.05 | 1.57 | |
| lassoReg | 1.63 | 0.09 | 1.72 | |
| logReg | 0 | 0 | 0 | |
| nlcvTT | 0 | 0 | 0 | |
| plot1gene | 1.45 | 0.05 | 1.50 | |
| plotComb2Samples | 2.08 | 0.03 | 2.11 | |
| plotCombMultSamples | 2.18 | 0.08 | 2.27 | |
| plotCombination2genes | 2.33 | 0.06 | 2.39 | |
| plotLogRatio | 4.24 | 0.14 | 4.39 | |
| probabilitiesPlot | 0 | 0 | 0 | |
| probe2gene | 1.29 | 0.03 | 1.33 | |
| profilesPlot | 1.47 | 0.03 | 1.50 | |
| propdegenescalculation | 1.51 | 0.04 | 1.55 | |
| replicates | 0 | 0 | 0 | |
| spectralMap | 8.96 | 0.21 | 9.17 | |
| tTest | 1.88 | 0.10 | 1.97 | |
| volcanoPlot | 1.86 | 0.06 | 1.92 | |