| Back to Multiple platform build/check report for BioC 3.16: simplified long |
|
This page was generated on 2023-04-12 11:05:23 -0400 (Wed, 12 Apr 2023).
| Hostname | OS | Arch (*) | R version | Installed pkgs |
|---|---|---|---|---|
| nebbiolo2 | Linux (Ubuntu 20.04.5 LTS) | x86_64 | 4.2.3 (2023-03-15) -- "Shortstop Beagle" | 4502 |
| palomino4 | Windows Server 2022 Datacenter | x64 | 4.2.3 (2023-03-15 ucrt) -- "Shortstop Beagle" | 4282 |
| lconway | macOS 12.5.1 Monterey | x86_64 | 4.2.3 (2023-03-15) -- "Shortstop Beagle" | 4310 |
| Click on any hostname to see more info about the system (e.g. compilers) (*) as reported by 'uname -p', except on Windows and Mac OS X | ||||
|
To the developers/maintainers of the Voyager package: - Please allow up to 24 hours (and sometimes 48 hours) for your latest push to git@git.bioconductor.org:packages/Voyager.git to reflect on this report. See How and When does the builder pull? When will my changes propagate? for more information. - Make sure to use the following settings in order to reproduce any error or warning you see on this page. |
| Package 2150/2183 | Hostname | OS / Arch | INSTALL | BUILD | CHECK | BUILD BIN | ||||||||
| Voyager 1.0.10 (landing page) Lambda Moses
| nebbiolo2 | Linux (Ubuntu 20.04.5 LTS) / x86_64 | OK | OK | OK | |||||||||
| palomino4 | Windows Server 2022 Datacenter / x64 | OK | OK | OK | OK | |||||||||
| lconway | macOS 12.5.1 Monterey / x86_64 | OK | OK | OK | OK | |||||||||
| Package: Voyager |
| Version: 1.0.10 |
| Command: /home/biocbuild/bbs-3.16-bioc/R/bin/R CMD check --install=check:Voyager.install-out.txt --library=/home/biocbuild/bbs-3.16-bioc/R/site-library --timings Voyager_1.0.10.tar.gz |
| StartedAt: 2023-04-11 00:49:07 -0400 (Tue, 11 Apr 2023) |
| EndedAt: 2023-04-11 00:55:41 -0400 (Tue, 11 Apr 2023) |
| EllapsedTime: 393.4 seconds |
| RetCode: 0 |
| Status: OK |
| CheckDir: Voyager.Rcheck |
| Warnings: 0 |
##############################################################################
##############################################################################
###
### Running command:
###
### /home/biocbuild/bbs-3.16-bioc/R/bin/R CMD check --install=check:Voyager.install-out.txt --library=/home/biocbuild/bbs-3.16-bioc/R/site-library --timings Voyager_1.0.10.tar.gz
###
##############################################################################
##############################################################################
* using log directory ‘/home/biocbuild/bbs-3.16-bioc/meat/Voyager.Rcheck’
* using R version 4.2.3 (2023-03-15)
* using platform: x86_64-pc-linux-gnu (64-bit)
* using session charset: UTF-8
* checking for file ‘Voyager/DESCRIPTION’ ... OK
* checking extension type ... Package
* this is package ‘Voyager’ version ‘1.0.10’
* package encoding: UTF-8
* checking package namespace information ... OK
* checking package dependencies ... OK
* checking if this is a source package ... OK
* checking if there is a namespace ... OK
* checking for hidden files and directories ... OK
* checking for portable file names ... OK
* checking for sufficient/correct file permissions ... OK
* checking whether package ‘Voyager’ can be installed ... OK
* checking installed package size ... OK
* checking package directory ... OK
* checking ‘build’ directory ... OK
* checking DESCRIPTION meta-information ... OK
* checking top-level files ... OK
* checking for left-over files ... OK
* checking index information ... OK
* checking package subdirectories ... OK
* checking R files for non-ASCII characters ... OK
* checking R files for syntax errors ... OK
* checking whether the package can be loaded ... OK
* checking whether the package can be loaded with stated dependencies ... OK
* checking whether the package can be unloaded cleanly ... OK
* checking whether the namespace can be loaded with stated dependencies ... OK
* checking whether the namespace can be unloaded cleanly ... OK
* checking loading without being on the library search path ... OK
* checking dependencies in R code ... OK
* checking S3 generic/method consistency ... OK
* checking replacement functions ... OK
* checking foreign function calls ... OK
* checking R code for possible problems ... OK
* checking Rd files ... OK
* checking Rd metadata ... OK
* checking Rd cross-references ... OK
* checking for missing documentation entries ... OK
* checking for code/documentation mismatches ... OK
* checking Rd \usage sections ... OK
* checking Rd contents ... OK
* checking for unstated dependencies in examples ... OK
* checking contents of ‘data’ directory ... OK
* checking data for non-ASCII characters ... OK
* checking data for ASCII and uncompressed saves ... OK
* checking R/sysdata.rda ... OK
* checking files in ‘vignettes’ ... OK
* checking examples ... OK
Examples with CPU (user + system) or elapsed time > 5s
user system elapsed
moranPlot 7.920 0.471 8.757
ElbowPlot 6.403 0.576 7.505
plotCellBin2D 5.607 0.516 6.527
plotCorrelogram 5.317 0.196 5.881
* checking for unstated dependencies in ‘tests’ ... OK
* checking tests ...
Running ‘testthat.R’
OK
* checking for unstated dependencies in vignettes ... OK
* checking package vignettes in ‘inst/doc’ ... OK
* checking running R code from vignettes ...
‘overview.Rmd’ using ‘UTF-8’... OK
NONE
* checking re-building of vignette outputs ... OK
* checking PDF version of manual ... OK
* DONE
Status: OK
Voyager.Rcheck/00install.out
############################################################################## ############################################################################## ### ### Running command: ### ### /home/biocbuild/bbs-3.16-bioc/R/bin/R CMD INSTALL Voyager ### ############################################################################## ############################################################################## * installing to library ‘/home/biocbuild/bbs-3.16-bioc/R/site-library’ * installing *source* package ‘Voyager’ ... ** using staged installation ** R ** data ** inst ** byte-compile and prepare package for lazy loading ** help *** installing help indices ** building package indices ** installing vignettes ** testing if installed package can be loaded from temporary location ** testing if installed package can be loaded from final location ** testing if installed package keeps a record of temporary installation path * DONE (Voyager)
Voyager.Rcheck/tests/testthat.Rout
R version 4.2.3 (2023-03-15) -- "Shortstop Beagle"
Copyright (C) 2023 The R Foundation for Statistical Computing
Platform: x86_64-pc-linux-gnu (64-bit)
R is free software and comes with ABSOLUTELY NO WARRANTY.
You are welcome to redistribute it under certain conditions.
Type 'license()' or 'licence()' for distribution details.
R is a collaborative project with many contributors.
Type 'contributors()' for more information and
'citation()' on how to cite R or R packages in publications.
Type 'demo()' for some demos, 'help()' for on-line help, or
'help.start()' for an HTML browser interface to help.
Type 'q()' to quit R.
> library(testthat)
> library(Voyager)
>
> test_check("Voyager")
Loading required package: SingleCellExperiment
Loading required package: SummarizedExperiment
Loading required package: MatrixGenerics
Loading required package: matrixStats
Attaching package: 'MatrixGenerics'
The following objects are masked from 'package:matrixStats':
colAlls, colAnyNAs, colAnys, colAvgsPerRowSet, colCollapse,
colCounts, colCummaxs, colCummins, colCumprods, colCumsums,
colDiffs, colIQRDiffs, colIQRs, colLogSumExps, colMadDiffs,
colMads, colMaxs, colMeans2, colMedians, colMins, colOrderStats,
colProds, colQuantiles, colRanges, colRanks, colSdDiffs, colSds,
colSums2, colTabulates, colVarDiffs, colVars, colWeightedMads,
colWeightedMeans, colWeightedMedians, colWeightedSds,
colWeightedVars, rowAlls, rowAnyNAs, rowAnys, rowAvgsPerColSet,
rowCollapse, rowCounts, rowCummaxs, rowCummins, rowCumprods,
rowCumsums, rowDiffs, rowIQRDiffs, rowIQRs, rowLogSumExps,
rowMadDiffs, rowMads, rowMaxs, rowMeans2, rowMedians, rowMins,
rowOrderStats, rowProds, rowQuantiles, rowRanges, rowRanks,
rowSdDiffs, rowSds, rowSums2, rowTabulates, rowVarDiffs, rowVars,
rowWeightedMads, rowWeightedMeans, rowWeightedMedians,
rowWeightedSds, rowWeightedVars
Loading required package: GenomicRanges
Loading required package: stats4
Loading required package: BiocGenerics
Attaching package: 'BiocGenerics'
The following objects are masked from 'package:stats':
IQR, mad, sd, var, xtabs
The following objects are masked from 'package:base':
Filter, Find, Map, Position, Reduce, anyDuplicated, aperm, append,
as.data.frame, basename, cbind, colnames, dirname, do.call,
duplicated, eval, evalq, get, grep, grepl, intersect, is.unsorted,
lapply, mapply, match, mget, order, paste, pmax, pmax.int, pmin,
pmin.int, rank, rbind, rownames, sapply, setdiff, sort, table,
tapply, union, unique, unsplit, which.max, which.min
Loading required package: S4Vectors
Attaching package: 'S4Vectors'
The following objects are masked from 'package:base':
I, expand.grid, unname
Loading required package: IRanges
Loading required package: GenomeInfoDb
Loading required package: Biobase
Welcome to Bioconductor
Vignettes contain introductory material; view with
'browseVignettes()'. To cite Bioconductor, see
'citation("Biobase")', and for packages 'citation("pkgname")'.
Attaching package: 'Biobase'
The following object is masked from 'package:MatrixGenerics':
rowMedians
The following objects are masked from 'package:matrixStats':
anyMissing, rowMedians
Loading required package: scuttle
Loading required package: ggplot2
Attaching package: 'Matrix'
The following object is masked from 'package:S4Vectors':
expand
snapshotDate(): 2022-10-31
see ?SFEData and browseVignettes('SFEData') for documentation
loading from cache
Linking to GEOS 3.8.0, GDAL 3.0.4, PROJ 6.3.1; sf_use_s2() is TRUE
snapshotDate(): 2022-10-31
see ?SFEData and browseVignettes('SFEData') for documentation
loading from cache
snapshotDate(): 2022-10-31
see ?SFEData and browseVignettes('SFEData') for documentation
loading from cache
snapshotDate(): 2022-10-31
see ?SFEData and browseVignettes('SFEData') for documentation
loading from cache
snapshotDate(): 2022-10-31
see ?SFEData and browseVignettes('SFEData') for documentation
loading from cache
[ FAIL 0 | WARN 0 | SKIP 20 | PASS 101 ]
══ Skipped tests ═══════════════════════════════════════════════════════════════
• On CRAN (20)
[ FAIL 0 | WARN 0 | SKIP 20 | PASS 101 ]
Deleting unused snapshots:
• plot/also-plot-annotgeometry.svg
• plot/cell-density-hex.svg
• plot/change-the-number-of-columns.svg
• plot/coldata-bin2d-with-hexbin.svg
• plot/coldata-freqpoly-multiple-variables.svg
• plot/coldata-histogram-multiple-variables.svg
• plot/discrete-represented-as-color.svg
• plot/discrete-represented-as-point-shapes.svg
• plot/divergent-scale-annot-also-on-divergent-scale.svg
• plot/divergent-scale-annot-not-on-divergent-scale.svg
• plot/divergent-scale-with-scattermore.svg
• plot/divergent-scale.svg
• plot/elbowplot-more-pcs-than-available.svg
• plot/elbowplot-with-10-of-the-20-pcs.svg
• plot/gene-expression.svg
• plot/moran-plot-don-t-plot-influential.svg
• plot/moran-plot-hex-bin.svg
• plot/moranplot-not-filled-coldata.svg
• plot/multiple-variables-color-by.svg
• plot/multiple-variables-fill-by.svg
• plot/one-variable-color-by.svg
• plot/one-variable-fill-by.svg
• plot/plot-2-features.svg
• plot/plot-a-categorical-attribute.svg
• plot/plot-a-type-in-annotgeometry-but-not-assay-or-coldata.svg
• plot/plot-another-column.svg
• plot/plot-coldata.svg
• plot/plot-colgeometry.svg
• plot/plot-ii-for-annotgeometry-alone.svg
• plot/plot-ii-for-gene-on-top-of-an-annotation.svg
• plot/plot-multiple-coldata-columns.svg
• plot/plot-with-annotgeometry-colored-outlines-of-polygons.svg
• plot/plot-with-annotgeometry-with-new-fill-scale.svg
• plot/plot-with-annotgeometry.svg
• plot/plotcorrelogram-categorical-color-by.svg
• plot/plotcorrelogram-coldata-i.svg
• plot/plotcorrelogram-continuous-color-by.svg
• plot/plotcorrelogram-one-gene-c.svg
• plot/plotcorrelogram-one-gene-corr.svg
• plot/plotcorrelogram-specify-gene-and-coldata-i.svg
• plot/plotdimloadings-not-balanced.svg
• plot/plotlocalresult-with-illegal-gene-name.svg
• plot/rowdata-bin2d-with-subset-and-default-legend.svg
• plot/rowdata-bin2d-with-subset.svg
• plot/rowdata-bin2d.svg
• plot/with-subset-freqpoly.svg
• plot/with-subset.svg
>
> proc.time()
user system elapsed
61.352 2.610 65.949
Voyager.Rcheck/Voyager-Ex.timings
| name | user | system | elapsed | |
| ElbowPlot | 6.403 | 0.576 | 7.505 | |
| calculateUnivariate | 3.743 | 0.296 | 4.418 | |
| clusterCorrelograms | 2.234 | 0.168 | 2.768 | |
| clusterMoranPlot | 2.475 | 0.156 | 3.001 | |
| colFeatureData | 2.098 | 0.144 | 2.608 | |
| getDivergeRange | 0 | 0 | 0 | |
| moranPlot | 7.920 | 0.471 | 8.757 | |
| plotCellBin2D | 5.607 | 0.516 | 6.527 | |
| plotColDataBin2D | 4.297 | 0.257 | 4.976 | |
| plotColDataFreqpoly | 3.729 | 0.140 | 4.231 | |
| plotColDataHistogram | 3.639 | 0.172 | 4.176 | |
| plotColGraph | 3.096 | 0.088 | 3.560 | |
| plotCorrelogram | 5.317 | 0.196 | 5.881 | |
| plotDimLoadings | 2.768 | 0.108 | 3.245 | |
| plotLocalResult | 4.269 | 0.157 | 4.795 | |
| plotMoranMC | 2.101 | 0.095 | 2.588 | |
| plotSpatialFeature | 3.218 | 0.056 | 3.640 | |
| spatialReducedDim | 2.884 | 0.112 | 3.360 | |