| Back to Multiple platform build/check report for BioC 3.16: simplified long |
|
This page was generated on 2023-04-12 11:06:31 -0400 (Wed, 12 Apr 2023).
| Hostname | OS | Arch (*) | R version | Installed pkgs |
|---|---|---|---|---|
| nebbiolo2 | Linux (Ubuntu 20.04.5 LTS) | x86_64 | 4.2.3 (2023-03-15) -- "Shortstop Beagle" | 4502 |
| palomino4 | Windows Server 2022 Datacenter | x64 | 4.2.3 (2023-03-15 ucrt) -- "Shortstop Beagle" | 4282 |
| lconway | macOS 12.5.1 Monterey | x86_64 | 4.2.3 (2023-03-15) -- "Shortstop Beagle" | 4310 |
| Click on any hostname to see more info about the system (e.g. compilers) (*) as reported by 'uname -p', except on Windows and Mac OS X | ||||
|
To the developers/maintainers of the VDJdive package: - Please allow up to 24 hours (and sometimes 48 hours) for your latest push to git@git.bioconductor.org:packages/VDJdive.git to reflect on this report. See How and When does the builder pull? When will my changes propagate? for more information. - Make sure to use the following settings in order to reproduce any error or warning you see on this page. |
| Package 2140/2183 | Hostname | OS / Arch | INSTALL | BUILD | CHECK | BUILD BIN | ||||||||
| VDJdive 1.0.0 (landing page) Kelly Street
| nebbiolo2 | Linux (Ubuntu 20.04.5 LTS) / x86_64 | OK | OK | OK | |||||||||
| palomino4 | Windows Server 2022 Datacenter / x64 | OK | OK | OK | OK | |||||||||
| lconway | macOS 12.5.1 Monterey / x86_64 | OK | OK | OK | OK | |||||||||
| Package: VDJdive |
| Version: 1.0.0 |
| Command: /Library/Frameworks/R.framework/Resources/bin/R CMD check --install=check:VDJdive.install-out.txt --library=/Library/Frameworks/R.framework/Resources/library --no-vignettes --timings VDJdive_1.0.0.tar.gz |
| StartedAt: 2023-04-10 23:16:37 -0400 (Mon, 10 Apr 2023) |
| EndedAt: 2023-04-10 23:20:02 -0400 (Mon, 10 Apr 2023) |
| EllapsedTime: 205.4 seconds |
| RetCode: 0 |
| Status: OK |
| CheckDir: VDJdive.Rcheck |
| Warnings: 0 |
##############################################################################
##############################################################################
###
### Running command:
###
### /Library/Frameworks/R.framework/Resources/bin/R CMD check --install=check:VDJdive.install-out.txt --library=/Library/Frameworks/R.framework/Resources/library --no-vignettes --timings VDJdive_1.0.0.tar.gz
###
##############################################################################
##############################################################################
* using log directory ‘/Users/biocbuild/bbs-3.16-bioc/meat/VDJdive.Rcheck’
* using R version 4.2.3 (2023-03-15)
* using platform: x86_64-apple-darwin17.0 (64-bit)
* using session charset: UTF-8
* using option ‘--no-vignettes’
* checking for file ‘VDJdive/DESCRIPTION’ ... OK
* this is package ‘VDJdive’ version ‘1.0.0’
* package encoding: UTF-8
* checking package namespace information ... OK
* checking package dependencies ... OK
* checking if this is a source package ... OK
* checking if there is a namespace ... OK
* checking for hidden files and directories ... OK
* checking for portable file names ... OK
* checking for sufficient/correct file permissions ... OK
* checking whether package ‘VDJdive’ can be installed ... NOTE
Found the following notes/warnings:
Non-staged installation was used
See ‘/Users/biocbuild/bbs-3.16-bioc/meat/VDJdive.Rcheck/00install.out’ for details.
* checking installed package size ... OK
* checking package directory ... OK
* checking ‘build’ directory ... OK
* checking DESCRIPTION meta-information ... OK
* checking top-level files ... OK
* checking for left-over files ... OK
* checking index information ... OK
* checking package subdirectories ... OK
* checking R files for non-ASCII characters ... OK
* checking R files for syntax errors ... OK
* checking whether the package can be loaded ... OK
* checking whether the package can be loaded with stated dependencies ... OK
* checking whether the package can be unloaded cleanly ... OK
* checking whether the namespace can be loaded with stated dependencies ... OK
* checking whether the namespace can be unloaded cleanly ... OK
* checking dependencies in R code ... OK
* checking S3 generic/method consistency ... OK
* checking replacement functions ... OK
* checking foreign function calls ... OK
* checking R code for possible problems ... NOTE
abundanceVDJ,clonoStats: no visible binding for global variable ‘count’
abundanceVDJ,clonoStats: no visible binding for global variable ‘y’
barVDJ,Matrix: no visible binding for global variable ‘count’
boxVDJ,matrix: no visible binding for global variable ‘group’
boxVDJ,matrix: no visible binding for global variable ‘Diversity’
pieVDJ,Matrix: no visible binding for global variable ‘count’
scatterVDJ,matrix: no visible binding for global variable ‘clono’
scatterVDJ,matrix: no visible binding for global variable ‘normentropy’
scatterVDJ,matrix: no visible binding for global variable ‘sampleType’
Undefined global functions or variables:
Diversity clono count group normentropy sampleType y
* checking Rd files ... OK
* checking Rd metadata ... OK
* checking Rd cross-references ... OK
* checking for missing documentation entries ... OK
* checking for code/documentation mismatches ... OK
* checking Rd \usage sections ... OK
* checking Rd contents ... OK
* checking for unstated dependencies in examples ... OK
* checking contents of ‘data’ directory ... OK
* checking data for non-ASCII characters ... OK
* checking data for ASCII and uncompressed saves ... OK
* checking line endings in shell scripts ... OK
* checking files in ‘vignettes’ ... OK
* checking examples ... OK
Examples with CPU (user + system) or elapsed time > 5s
user system elapsed
abundanceVDJ 4.471 1.159 6.042
* checking for unstated dependencies in ‘tests’ ... OK
* checking tests ...
Running ‘testthat.R’
OK
* checking for unstated dependencies in vignettes ... OK
* checking package vignettes in ‘inst/doc’ ... OK
* checking running R code from vignettes ... SKIPPED
* checking re-building of vignette outputs ... SKIPPED
* checking PDF version of manual ... OK
* DONE
Status: 2 NOTEs
See
‘/Users/biocbuild/bbs-3.16-bioc/meat/VDJdive.Rcheck/00check.log’
for details.
VDJdive.Rcheck/00install.out
############################################################################## ############################################################################## ### ### Running command: ### ### /Library/Frameworks/R.framework/Resources/bin/R CMD INSTALL VDJdive ### ############################################################################## ############################################################################## * installing to library ‘/Library/Frameworks/R.framework/Versions/4.2/Resources/library’ * installing *source* package ‘VDJdive’ ... ** using non-staged installation via StagedInstall field ** R ** data ** inst ** byte-compile and prepare package for lazy loading ** help *** installing help indices *** copying figures ** building package indices ** installing vignettes ** testing if installed package can be loaded * DONE (VDJdive)
VDJdive.Rcheck/tests/testthat.Rout
R version 4.2.3 (2023-03-15) -- "Shortstop Beagle"
Copyright (C) 2023 The R Foundation for Statistical Computing
Platform: x86_64-apple-darwin17.0 (64-bit)
R is free software and comes with ABSOLUTELY NO WARRANTY.
You are welcome to redistribute it under certain conditions.
Type 'license()' or 'licence()' for distribution details.
R is a collaborative project with many contributors.
Type 'contributors()' for more information and
'citation()' on how to cite R or R packages in publications.
Type 'demo()' for some demos, 'help()' for on-line help, or
'help.start()' for an HTML browser interface to help.
Type 'q()' to quit R.
> library(testthat)
> library(VDJdive)
>
> test_check("VDJdive")
An object of class "clonoStats"
clonotypes: 7
cells: 24
groups(2): sample1 sample2
has assignment: FALSEAn object of class "clonoStats"
clonotypes: 7
cells: 24
groups(2): sample1 sample2
has assignment: TRUE[ FAIL 0 | WARN 0 | SKIP 0 | PASS 125 ]
>
> proc.time()
user system elapsed
31.843 1.903 34.051
VDJdive.Rcheck/VDJdive-Ex.timings
| name | user | system | elapsed | |
| abundanceVDJ | 4.471 | 1.159 | 6.042 | |
| addVDJtoSCE | 0.305 | 0.019 | 0.338 | |
| barVDJ | 0.766 | 0.077 | 0.852 | |
| boxVDJ | 0.756 | 0.010 | 0.768 | |
| calculateDiversity | 0.587 | 0.009 | 0.597 | |
| clonoStats-class | 0.509 | 0.011 | 0.523 | |
| clonoStats | 0.552 | 0.009 | 0.562 | |
| contigs | 0.579 | 0.010 | 0.589 | |
| pieVDJ | 0.943 | 0.013 | 0.958 | |
| readVDJcontigs | 0.076 | 0.005 | 0.082 | |
| runBreakaway | 2.989 | 0.112 | 3.118 | |
| runVDJPCA | 0.823 | 0.014 | 0.837 | |
| scatterVDJ | 1.320 | 0.027 | 1.350 | |
| splitClonotypes | 0.748 | 0.019 | 0.769 | |
| summarizeClonotypes | 0.679 | 0.014 | 0.694 | |
| writeVDJcontigs | 0.085 | 0.003 | 0.088 | |