| Back to Multiple platform build/check report for BioC 3.16: simplified long |
|
This page was generated on 2023-04-12 11:06:31 -0400 (Wed, 12 Apr 2023).
| Hostname | OS | Arch (*) | R version | Installed pkgs |
|---|---|---|---|---|
| nebbiolo2 | Linux (Ubuntu 20.04.5 LTS) | x86_64 | 4.2.3 (2023-03-15) -- "Shortstop Beagle" | 4502 |
| palomino4 | Windows Server 2022 Datacenter | x64 | 4.2.3 (2023-03-15 ucrt) -- "Shortstop Beagle" | 4282 |
| lconway | macOS 12.5.1 Monterey | x86_64 | 4.2.3 (2023-03-15) -- "Shortstop Beagle" | 4310 |
| Click on any hostname to see more info about the system (e.g. compilers) (*) as reported by 'uname -p', except on Windows and Mac OS X | ||||
|
To the developers/maintainers of the TurboNorm package: - Please allow up to 24 hours (and sometimes 48 hours) for your latest push to git@git.bioconductor.org:packages/TurboNorm.git to reflect on this report. See How and When does the builder pull? When will my changes propagate? for more information. - Make sure to use the following settings in order to reproduce any error or warning you see on this page. |
| Package 2109/2183 | Hostname | OS / Arch | INSTALL | BUILD | CHECK | BUILD BIN | ||||||||
| TurboNorm 1.46.0 (landing page) Maarten van Iterson
| nebbiolo2 | Linux (Ubuntu 20.04.5 LTS) / x86_64 | OK | OK | OK | |||||||||
| palomino4 | Windows Server 2022 Datacenter / x64 | OK | OK | OK | OK | |||||||||
| lconway | macOS 12.5.1 Monterey / x86_64 | OK | OK | OK | OK | |||||||||
| Package: TurboNorm |
| Version: 1.46.0 |
| Command: rm -rf TurboNorm.buildbin-libdir && mkdir TurboNorm.buildbin-libdir && /Users/biocbuild/BBS/utils/build-universal.sh TurboNorm_1.46.0.tar.gz /Library/Frameworks/R.framework/Resources/bin/R TurboNorm.buildbin-libdir |
| StartedAt: 2023-04-11 00:09:45 -0400 (Tue, 11 Apr 2023) |
| EndedAt: 2023-04-11 00:09:53 -0400 (Tue, 11 Apr 2023) |
| EllapsedTime: 8.0 seconds |
| RetCode: 0 |
| Status: OK |
| PackageFile: TurboNorm_1.46.0.tgz |
| PackageFileSize: 2.048 MiB |
##############################################################################
##############################################################################
###
### Running command:
###
### rm -rf TurboNorm.buildbin-libdir && mkdir TurboNorm.buildbin-libdir && /Users/biocbuild/BBS/utils/build-universal.sh TurboNorm_1.46.0.tar.gz /Library/Frameworks/R.framework/Resources/bin/R TurboNorm.buildbin-libdir
###
##############################################################################
##############################################################################
>>>>>>>
>>>>>>> INSTALLATION WITH 'R CMD INSTALL --preclean --no-multiarch --library=TurboNorm.buildbin-libdir TurboNorm_1.46.0.tar.gz'
>>>>>>>
* installing *source* package ‘TurboNorm’ ...
** using staged installation
** libs
clang -mmacosx-version-min=10.13 -I"/Library/Frameworks/R.framework/Resources/include" -DNDEBUG -I/usr/local/include -fPIC -Wall -g -O2 -c Rinit.c -o Rinit.o
Rinit.c:11:3: warning: suggest braces around initialization of subobject [-Wmissing-braces]
NULL
^~~~
{ }
/Library/Developer/CommandLineTools/usr/lib/clang/13.1.6/include/stddef.h:89:16: note: expanded from macro 'NULL'
# define NULL ((void*)0)
^~~~~~~~~~
1 warning generated.
clang -mmacosx-version-min=10.13 -I"/Library/Frameworks/R.framework/Resources/include" -DNDEBUG -I/usr/local/include -fPIC -Wall -g -O2 -c binners.c -o binners.o
clang -mmacosx-version-min=10.13 -dynamiclib -Wl,-headerpad_max_install_names -undefined dynamic_lookup -single_module -multiply_defined suppress -L/Library/Frameworks/R.framework/Resources/lib -L/usr/local/lib -o TurboNorm.so Rinit.o binners.o -F/Library/Frameworks/R.framework/.. -framework R -Wl,-framework -Wl,CoreFoundation
installing to /Users/biocbuild/bbs-3.16-bioc/meat/TurboNorm.buildbin-libdir/00LOCK-TurboNorm/00new/TurboNorm/libs
** R
** data
** inst
** byte-compile and prepare package for lazy loading
** help
*** installing help indices
** building package indices
** installing vignettes
** testing if installed package can be loaded from temporary location
** checking absolute paths in shared objects and dynamic libraries
** testing if installed package can be loaded from final location
** testing if installed package keeps a record of temporary installation path
* DONE (TurboNorm)
>>>>>>>
>>>>>>> FIXING LINKS FOR TurboNorm.buildbin-libdir/TurboNorm/libs/TurboNorm.so
>>>>>>>
install_name_tool -change "/usr/local/lib/libgcc_s.1.dylib" "/Library/Frameworks/R.framework/Versions/4.2/Resources/lib/libgcc_s.1.dylib" "TurboNorm.buildbin-libdir/TurboNorm/libs/TurboNorm.so"
install_name_tool -change "/usr/local/lib/libgfortran.5.dylib" "/Library/Frameworks/R.framework/Versions/4.2/Resources/lib/libgfortran.5.dylib" "TurboNorm.buildbin-libdir/TurboNorm/libs/TurboNorm.so"
install_name_tool -change "/usr/local/lib/libquadmath.0.dylib" "/Library/Frameworks/R.framework/Versions/4.2/Resources/lib/libquadmath.0.dylib" "TurboNorm.buildbin-libdir/TurboNorm/libs/TurboNorm.so"