| Back to Multiple platform build/check report for BioC 3.16: simplified long |
|
This page was generated on 2023-04-12 11:05:22 -0400 (Wed, 12 Apr 2023).
| Hostname | OS | Arch (*) | R version | Installed pkgs |
|---|---|---|---|---|
| nebbiolo2 | Linux (Ubuntu 20.04.5 LTS) | x86_64 | 4.2.3 (2023-03-15) -- "Shortstop Beagle" | 4502 |
| palomino4 | Windows Server 2022 Datacenter | x64 | 4.2.3 (2023-03-15 ucrt) -- "Shortstop Beagle" | 4282 |
| lconway | macOS 12.5.1 Monterey | x86_64 | 4.2.3 (2023-03-15) -- "Shortstop Beagle" | 4310 |
| Click on any hostname to see more info about the system (e.g. compilers) (*) as reported by 'uname -p', except on Windows and Mac OS X | ||||
|
To the developers/maintainers of the TransView package: - Please allow up to 24 hours (and sometimes 48 hours) for your latest push to git@git.bioconductor.org:packages/TransView.git to reflect on this report. See How and When does the builder pull? When will my changes propagate? for more information. - Make sure to use the following settings in order to reproduce any error or warning you see on this page. |
| Package 2082/2183 | Hostname | OS / Arch | INSTALL | BUILD | CHECK | BUILD BIN | ||||||||
| TransView 1.42.0 (landing page) Julius Muller
| nebbiolo2 | Linux (Ubuntu 20.04.5 LTS) / x86_64 | OK | OK | OK | |||||||||
| palomino4 | Windows Server 2022 Datacenter / x64 | OK | OK | OK | OK | |||||||||
| lconway | macOS 12.5.1 Monterey / x86_64 | OK | OK | OK | OK | |||||||||
| Package: TransView |
| Version: 1.42.0 |
| Command: /home/biocbuild/bbs-3.16-bioc/R/bin/R CMD INSTALL TransView |
| StartedAt: 2023-04-10 15:12:20 -0400 (Mon, 10 Apr 2023) |
| EndedAt: 2023-04-10 15:12:36 -0400 (Mon, 10 Apr 2023) |
| EllapsedTime: 16.1 seconds |
| RetCode: 0 |
| Status: OK |
##############################################################################
##############################################################################
###
### Running command:
###
### /home/biocbuild/bbs-3.16-bioc/R/bin/R CMD INSTALL TransView
###
##############################################################################
##############################################################################
* installing to library ‘/home/biocbuild/bbs-3.16-bioc/R/site-library’
* installing *source* package ‘TransView’ ...
** using staged installation
** libs
gcc -I"/home/biocbuild/bbs-3.16-bioc/R/include" -DNDEBUG -D_FILE_OFFSET_BITS=64 -I'/home/biocbuild/bbs-3.16-bioc/R/site-library/Rhtslib/include' -I/usr/local/include -fpic -g -O2 -Wall -c R_init_TransView.c -o R_init_TransView.o
gcc -I"/home/biocbuild/bbs-3.16-bioc/R/include" -DNDEBUG -D_FILE_OFFSET_BITS=64 -I'/home/biocbuild/bbs-3.16-bioc/R/site-library/Rhtslib/include' -I/usr/local/include -fpic -g -O2 -Wall -c bam_plbuf.c -o bam_plbuf.o
gcc -I"/home/biocbuild/bbs-3.16-bioc/R/include" -DNDEBUG -D_FILE_OFFSET_BITS=64 -I'/home/biocbuild/bbs-3.16-bioc/R/site-library/Rhtslib/include' -I/usr/local/include -fpic -g -O2 -Wall -c bin_density.c -o bin_density.o
gcc -I"/home/biocbuild/bbs-3.16-bioc/R/include" -DNDEBUG -D_FILE_OFFSET_BITS=64 -I'/home/biocbuild/bbs-3.16-bioc/R/site-library/Rhtslib/include' -I/usr/local/include -fpic -g -O2 -Wall -c construct_dc.c -o construct_dc.o
In file included from /home/biocbuild/bbs-3.16-bioc/R/site-library/Rhtslib/include/htslib/hts.h:36,
from /home/biocbuild/bbs-3.16-bioc/R/site-library/Rhtslib/include/htslib/sam.h:33,
from /home/biocbuild/bbs-3.16-bioc/R/site-library/Rhtslib/include/samtools-1.7-compat.h:5,
from parse_sam.h:4,
from construct_dc.c:23:
/home/biocbuild/bbs-3.16-bioc/R/site-library/Rhtslib/include/htslib/hts_log.h:75:1: warning: ‘Rprintf’ is an unrecognized format function type [-Wformat=]
75 | HTS_FORMAT(HTS_PRINTF_FMT, 3, 4);
| ^~~~~~~~~~
gcc -I"/home/biocbuild/bbs-3.16-bioc/R/include" -DNDEBUG -D_FILE_OFFSET_BITS=64 -I'/home/biocbuild/bbs-3.16-bioc/R/site-library/Rhtslib/include' -I/usr/local/include -fpic -g -O2 -Wall -c parse_sam.c -o parse_sam.o
gcc -I"/home/biocbuild/bbs-3.16-bioc/R/include" -DNDEBUG -D_FILE_OFFSET_BITS=64 -I'/home/biocbuild/bbs-3.16-bioc/R/site-library/Rhtslib/include' -I/usr/local/include -fpic -g -O2 -Wall -c slice_dc.c -o slice_dc.o
slice_dc.c: In function ‘slice_dc’:
slice_dc.c:179:5: warning: ‘slicep’ may be used uninitialized in this function [-Wmaybe-uninitialized]
179 | shrink(slicep,new_vecp,rebuildc,wsize,summarizep);
| ^~~~~~~~~~~~~~~~~~~~~~~~~~~~~~~~~~~~~~~~~~~~~~~~~
gcc -I"/home/biocbuild/bbs-3.16-bioc/R/include" -DNDEBUG -D_FILE_OFFSET_BITS=64 -I'/home/biocbuild/bbs-3.16-bioc/R/site-library/Rhtslib/include' -I/usr/local/include -fpic -g -O2 -Wall -c visuals.c -o visuals.o
gcc -shared -L/home/biocbuild/bbs-3.16-bioc/R/lib -L/usr/local/lib -o TransView.so R_init_TransView.o bam_plbuf.o bin_density.o construct_dc.o parse_sam.o slice_dc.o visuals.o /home/biocbuild/bbs-3.16-bioc/R/site-library/Rhtslib/usrlib/libhts.a -lcurl -L/home/biocbuild/bbs-3.16-bioc/R/lib -lR
installing to /home/biocbuild/bbs-3.16-bioc/R/site-library/00LOCK-TransView/00new/TransView/libs
** R
** inst
** byte-compile and prepare package for lazy loading
** help
*** installing help indices
** building package indices
** installing vignettes
** testing if installed package can be loaded from temporary location
** checking absolute paths in shared objects and dynamic libraries
** testing if installed package can be loaded from final location
** testing if installed package keeps a record of temporary installation path
* DONE (TransView)