| Back to Multiple platform build/check report for BioC 3.16: simplified long |
|
This page was generated on 2023-04-12 11:05:56 -0400 (Wed, 12 Apr 2023).
| Hostname | OS | Arch (*) | R version | Installed pkgs |
|---|---|---|---|---|
| nebbiolo2 | Linux (Ubuntu 20.04.5 LTS) | x86_64 | 4.2.3 (2023-03-15) -- "Shortstop Beagle" | 4502 |
| palomino4 | Windows Server 2022 Datacenter | x64 | 4.2.3 (2023-03-15 ucrt) -- "Shortstop Beagle" | 4282 |
| lconway | macOS 12.5.1 Monterey | x86_64 | 4.2.3 (2023-03-15) -- "Shortstop Beagle" | 4310 |
| Click on any hostname to see more info about the system (e.g. compilers) (*) as reported by 'uname -p', except on Windows and Mac OS X | ||||
|
To the developers/maintainers of the TrajectoryGeometry package: - Please allow up to 24 hours (and sometimes 48 hours) for your latest push to git@git.bioconductor.org:packages/TrajectoryGeometry.git to reflect on this report. See How and When does the builder pull? When will my changes propagate? for more information. - Make sure to use the following settings in order to reproduce any error or warning you see on this page. |
| Package 2074/2183 | Hostname | OS / Arch | INSTALL | BUILD | CHECK | BUILD BIN | ||||||||
| TrajectoryGeometry 1.6.0 (landing page) Michael Shapiro
| nebbiolo2 | Linux (Ubuntu 20.04.5 LTS) / x86_64 | OK | OK | OK | |||||||||
| palomino4 | Windows Server 2022 Datacenter / x64 | OK | OK | OK | OK | |||||||||
| lconway | macOS 12.5.1 Monterey / x86_64 | OK | OK | OK | OK | |||||||||
| Package: TrajectoryGeometry |
| Version: 1.6.0 |
| Command: F:\biocbuild\bbs-3.16-bioc\R\bin\R.exe CMD check --no-multiarch --install=check:TrajectoryGeometry.install-out.txt --library=F:\biocbuild\bbs-3.16-bioc\R\library --no-vignettes --timings TrajectoryGeometry_1.6.0.tar.gz |
| StartedAt: 2023-04-11 06:52:33 -0400 (Tue, 11 Apr 2023) |
| EndedAt: 2023-04-11 06:53:49 -0400 (Tue, 11 Apr 2023) |
| EllapsedTime: 75.5 seconds |
| RetCode: 0 |
| Status: OK |
| CheckDir: TrajectoryGeometry.Rcheck |
| Warnings: 0 |
##############################################################################
##############################################################################
###
### Running command:
###
### F:\biocbuild\bbs-3.16-bioc\R\bin\R.exe CMD check --no-multiarch --install=check:TrajectoryGeometry.install-out.txt --library=F:\biocbuild\bbs-3.16-bioc\R\library --no-vignettes --timings TrajectoryGeometry_1.6.0.tar.gz
###
##############################################################################
##############################################################################
* using log directory 'F:/biocbuild/bbs-3.16-bioc/meat/TrajectoryGeometry.Rcheck'
* using R version 4.2.3 (2023-03-15 ucrt)
* using platform: x86_64-w64-mingw32 (64-bit)
* using session charset: UTF-8
* using option '--no-vignettes'
* checking for file 'TrajectoryGeometry/DESCRIPTION' ... OK
* this is package 'TrajectoryGeometry' version '1.6.0'
* package encoding: UTF-8
* checking package namespace information ... OK
* checking package dependencies ... OK
* checking if this is a source package ... OK
* checking if there is a namespace ... OK
* checking for hidden files and directories ... OK
* checking for portable file names ... OK
* checking whether package 'TrajectoryGeometry' can be installed ... OK
* checking installed package size ... OK
* checking package directory ... OK
* checking 'build' directory ... OK
* checking DESCRIPTION meta-information ... OK
* checking top-level files ... OK
* checking for left-over files ... OK
* checking index information ... OK
* checking package subdirectories ... OK
* checking R files for non-ASCII characters ... OK
* checking R files for syntax errors ... OK
* checking whether the package can be loaded ... OK
* checking whether the package can be loaded with stated dependencies ... OK
* checking whether the package can be unloaded cleanly ... OK
* checking whether the namespace can be loaded with stated dependencies ... OK
* checking whether the namespace can be unloaded cleanly ... OK
* checking dependencies in R code ... OK
* checking S3 generic/method consistency ... OK
* checking replacement functions ... OK
* checking foreign function calls ... OK
* checking R code for possible problems ... NOTE
visualiseBranchPointStats: no visible binding for global variable
'value'
visualiseBranchPointStats: no visible binding for global variable
'logPValue'
visualiseTrajectoryStats: no visible binding for global variable 'type'
visualiseTrajectoryStats: no visible binding for global variable
'value'
Undefined global functions or variables:
logPValue type value
* checking Rd files ... OK
* checking Rd metadata ... OK
* checking Rd cross-references ... OK
* checking for missing documentation entries ... OK
* checking for code/documentation mismatches ... OK
* checking Rd \usage sections ... OK
* checking Rd contents ... OK
* checking for unstated dependencies in examples ... OK
* checking contents of 'data' directory ... OK
* checking data for non-ASCII characters ... OK
* checking LazyData ... OK
* checking data for ASCII and uncompressed saves ... OK
* checking files in 'vignettes' ... OK
* checking examples ... OK
Examples with CPU (user + system) or elapsed time > 5s
user system elapsed
testPathForDirectionality 10.91 0.30 11.21
analyseBranchPoint 10.39 0.31 10.70
* checking for unstated dependencies in vignettes ... OK
* checking package vignettes in 'inst/doc' ... OK
* checking running R code from vignettes ... SKIPPED
* checking re-building of vignette outputs ... SKIPPED
* checking PDF version of manual ... OK
* DONE
Status: 1 NOTE
See
'F:/biocbuild/bbs-3.16-bioc/meat/TrajectoryGeometry.Rcheck/00check.log'
for details.
TrajectoryGeometry.Rcheck/00install.out
############################################################################## ############################################################################## ### ### Running command: ### ### F:\biocbuild\bbs-3.16-bioc\R\bin\R.exe CMD INSTALL TrajectoryGeometry ### ############################################################################## ############################################################################## * installing to library 'F:/biocbuild/bbs-3.16-bioc/R/library' * installing *source* package 'TrajectoryGeometry' ... ** using staged installation ** R ** data *** moving datasets to lazyload DB ** inst ** byte-compile and prepare package for lazy loading ** help *** installing help indices ** building package indices ** installing vignettes ** testing if installed package can be loaded from temporary location ** testing if installed package can be loaded from final location ** testing if installed package keeps a record of temporary installation path * DONE (TrajectoryGeometry)
TrajectoryGeometry.Rcheck/TrajectoryGeometry-Ex.timings
| name | user | system | elapsed | |
| analyseBranchPoint | 10.39 | 0.31 | 10.70 | |
| analyseSingleCellTrajectory | 1.94 | 0.02 | 1.96 | |
| circleOnTheUnitSphere | 0 | 0 | 0 | |
| distanceBetweenTrajectories | 1.06 | 0.01 | 1.08 | |
| findSphereClusterCenter | 0.07 | 0.00 | 0.06 | |
| findSphericalDistance | 0 | 0 | 0 | |
| generateRandomPaths | 0 | 0 | 0 | |
| generateRandomUnitVector | 0 | 0 | 0 | |
| getDistanceDataForPaths | 0.31 | 0.00 | 0.31 | |
| getSphericalData | 0.05 | 0.00 | 0.05 | |
| getStepLengths | 0 | 0 | 0 | |
| orthonormalBasis | 0 | 0 | 0 | |
| pathProgression | 0.01 | 0.00 | 0.02 | |
| pathToSphericalData | 0.05 | 0.00 | 0.04 | |
| plotPathProjectionCenterAndCircle | 0.03 | 0.00 | 0.03 | |
| projectPathToSphere | 0 | 0 | 0 | |
| samplePath | 0 | 0 | 0 | |
| testPathForDirectionality | 10.91 | 0.30 | 11.21 | |
| visualiseBranchPointStats | 0.82 | 0.01 | 0.84 | |
| visualiseTrajectoryStats | 2.39 | 0.24 | 2.63 | |