| Back to Multiple platform build/check report for BioC 3.16: simplified long |
|
This page was generated on 2023-04-12 11:05:22 -0400 (Wed, 12 Apr 2023).
| Hostname | OS | Arch (*) | R version | Installed pkgs |
|---|---|---|---|---|
| nebbiolo2 | Linux (Ubuntu 20.04.5 LTS) | x86_64 | 4.2.3 (2023-03-15) -- "Shortstop Beagle" | 4502 |
| palomino4 | Windows Server 2022 Datacenter | x64 | 4.2.3 (2023-03-15 ucrt) -- "Shortstop Beagle" | 4282 |
| lconway | macOS 12.5.1 Monterey | x86_64 | 4.2.3 (2023-03-15) -- "Shortstop Beagle" | 4310 |
| Click on any hostname to see more info about the system (e.g. compilers) (*) as reported by 'uname -p', except on Windows and Mac OS X | ||||
|
To the developers/maintainers of the TimiRGeN package: - Please allow up to 24 hours (and sometimes 48 hours) for your latest push to git@git.bioconductor.org:packages/TimiRGeN.git to reflect on this report. See How and When does the builder pull? When will my changes propagate? for more information. - Make sure to use the following settings in order to reproduce any error or warning you see on this page. |
| Package 2053/2183 | Hostname | OS / Arch | INSTALL | BUILD | CHECK | BUILD BIN | ||||||||
| TimiRGeN 1.8.0 (landing page) Krutik Patel
| nebbiolo2 | Linux (Ubuntu 20.04.5 LTS) / x86_64 | OK | OK | OK | |||||||||
| palomino4 | Windows Server 2022 Datacenter / x64 | OK | OK | OK | OK | |||||||||
| lconway | macOS 12.5.1 Monterey / x86_64 | OK | OK | OK | OK | |||||||||
| Package: TimiRGeN |
| Version: 1.8.0 |
| Command: /home/biocbuild/bbs-3.16-bioc/R/bin/R CMD check --install=check:TimiRGeN.install-out.txt --library=/home/biocbuild/bbs-3.16-bioc/R/site-library --timings TimiRGeN_1.8.0.tar.gz |
| StartedAt: 2023-04-11 00:33:32 -0400 (Tue, 11 Apr 2023) |
| EndedAt: 2023-04-11 00:41:40 -0400 (Tue, 11 Apr 2023) |
| EllapsedTime: 488.1 seconds |
| RetCode: 0 |
| Status: OK |
| CheckDir: TimiRGeN.Rcheck |
| Warnings: 0 |
##############################################################################
##############################################################################
###
### Running command:
###
### /home/biocbuild/bbs-3.16-bioc/R/bin/R CMD check --install=check:TimiRGeN.install-out.txt --library=/home/biocbuild/bbs-3.16-bioc/R/site-library --timings TimiRGeN_1.8.0.tar.gz
###
##############################################################################
##############################################################################
* using log directory ‘/home/biocbuild/bbs-3.16-bioc/meat/TimiRGeN.Rcheck’
* using R version 4.2.3 (2023-03-15)
* using platform: x86_64-pc-linux-gnu (64-bit)
* using session charset: UTF-8
* checking for file ‘TimiRGeN/DESCRIPTION’ ... OK
* checking extension type ... Package
* this is package ‘TimiRGeN’ version ‘1.8.0’
* package encoding: UTF-8
* checking package namespace information ... OK
* checking package dependencies ... OK
* checking if this is a source package ... OK
* checking if there is a namespace ... OK
* checking for hidden files and directories ... OK
* checking for portable file names ... OK
* checking for sufficient/correct file permissions ... OK
* checking whether package ‘TimiRGeN’ can be installed ... OK
* checking installed package size ... OK
* checking package directory ... OK
* checking ‘build’ directory ... OK
* checking DESCRIPTION meta-information ... OK
* checking top-level files ... OK
* checking for left-over files ... OK
* checking index information ... OK
* checking package subdirectories ... OK
* checking R files for non-ASCII characters ... OK
* checking R files for syntax errors ... OK
* checking whether the package can be loaded ... OK
* checking whether the package can be loaded with stated dependencies ... OK
* checking whether the package can be unloaded cleanly ... OK
* checking whether the namespace can be loaded with stated dependencies ... OK
* checking whether the namespace can be unloaded cleanly ... OK
* checking loading without being on the library search path ... OK
* checking dependencies in R code ... OK
* checking S3 generic/method consistency ... OK
* checking replacement functions ... OK
* checking foreign function calls ... OK
* checking R code for possible problems ... OK
* checking Rd files ... OK
* checking Rd metadata ... OK
* checking Rd cross-references ... OK
* checking for missing documentation entries ... OK
* checking for code/documentation mismatches ... OK
* checking Rd \usage sections ... OK
* checking Rd contents ... OK
* checking for unstated dependencies in examples ... OK
* checking contents of ‘data’ directory ... OK
* checking data for non-ASCII characters ... NOTE
Note: found 3 marked UTF-8 strings
* checking LazyData ... OK
* checking data for ASCII and uncompressed saves ... OK
* checking files in ‘vignettes’ ... OK
* checking examples ... OK
Examples with CPU (user + system) or elapsed time > 5s
user system elapsed
quickTCPred 6.427 0.838 9.151
quickTC 5.170 0.634 9.283
linearRegr 4.528 1.253 6.466
clusterList 4.122 0.740 5.871
wikiMrna 3.567 0.588 5.128
* checking for unstated dependencies in ‘tests’ ... OK
* checking tests ...
Running ‘testthat.R’
OK
* checking for unstated dependencies in vignettes ... OK
* checking package vignettes in ‘inst/doc’ ... OK
* checking running R code from vignettes ...
‘TimiRGeN_tutorial.Rmd’ using ‘UTF-8’... OK
NONE
* checking re-building of vignette outputs ... OK
* checking PDF version of manual ... OK
* DONE
Status: 1 NOTE
See
‘/home/biocbuild/bbs-3.16-bioc/meat/TimiRGeN.Rcheck/00check.log’
for details.
TimiRGeN.Rcheck/00install.out
############################################################################## ############################################################################## ### ### Running command: ### ### /home/biocbuild/bbs-3.16-bioc/R/bin/R CMD INSTALL TimiRGeN ### ############################################################################## ############################################################################## * installing to library ‘/home/biocbuild/bbs-3.16-bioc/R/site-library’ * installing *source* package ‘TimiRGeN’ ... ** using staged installation ** R ** data *** moving datasets to lazyload DB ** inst ** byte-compile and prepare package for lazy loading ** help *** installing help indices ** building package indices ** installing vignettes ** testing if installed package can be loaded from temporary location ** testing if installed package can be loaded from final location ** testing if installed package keeps a record of temporary installation path * DONE (TimiRGeN)
TimiRGeN.Rcheck/tests/testthat.Rout
R version 4.2.3 (2023-03-15) -- "Shortstop Beagle"
Copyright (C) 2023 The R Foundation for Statistical Computing
Platform: x86_64-pc-linux-gnu (64-bit)
R is free software and comes with ABSOLUTELY NO WARRANTY.
You are welcome to redistribute it under certain conditions.
Type 'license()' or 'licence()' for distribution details.
R is a collaborative project with many contributors.
Type 'contributors()' for more information and
'citation()' on how to cite R or R packages in publications.
Type 'demo()' for some demos, 'help()' for on-line help, or
'help.start()' for an HTML browser interface to help.
Type 'q()' to quit R.
> #unit test check
> library(testthat)
> library(TimiRGeN)
Loading required package: Mfuzz
Loading required package: Biobase
Loading required package: BiocGenerics
Attaching package: 'BiocGenerics'
The following objects are masked from 'package:stats':
IQR, mad, sd, var, xtabs
The following objects are masked from 'package:base':
Filter, Find, Map, Position, Reduce, anyDuplicated, aperm, append,
as.data.frame, basename, cbind, colnames, dirname, do.call,
duplicated, eval, evalq, get, grep, grepl, intersect, is.unsorted,
lapply, mapply, match, mget, order, paste, pmax, pmax.int, pmin,
pmin.int, rank, rbind, rownames, sapply, setdiff, sort, table,
tapply, union, unique, unsplit, which.max, which.min
Welcome to Bioconductor
Vignettes contain introductory material; view with
'browseVignettes()'. To cite Bioconductor, see
'citation("Biobase")', and for packages 'citation("pkgname")'.
Loading required package: e1071
Attaching package: 'DynDoc'
The following object is masked from 'package:BiocGenerics':
path
Loading required package: MultiAssayExperiment
Loading required package: SummarizedExperiment
Loading required package: MatrixGenerics
Loading required package: matrixStats
Attaching package: 'matrixStats'
The following objects are masked from 'package:Biobase':
anyMissing, rowMedians
Attaching package: 'MatrixGenerics'
The following objects are masked from 'package:matrixStats':
colAlls, colAnyNAs, colAnys, colAvgsPerRowSet, colCollapse,
colCounts, colCummaxs, colCummins, colCumprods, colCumsums,
colDiffs, colIQRDiffs, colIQRs, colLogSumExps, colMadDiffs,
colMads, colMaxs, colMeans2, colMedians, colMins, colOrderStats,
colProds, colQuantiles, colRanges, colRanks, colSdDiffs, colSds,
colSums2, colTabulates, colVarDiffs, colVars, colWeightedMads,
colWeightedMeans, colWeightedMedians, colWeightedSds,
colWeightedVars, rowAlls, rowAnyNAs, rowAnys, rowAvgsPerColSet,
rowCollapse, rowCounts, rowCummaxs, rowCummins, rowCumprods,
rowCumsums, rowDiffs, rowIQRDiffs, rowIQRs, rowLogSumExps,
rowMadDiffs, rowMads, rowMaxs, rowMeans2, rowMedians, rowMins,
rowOrderStats, rowProds, rowQuantiles, rowRanges, rowRanks,
rowSdDiffs, rowSds, rowSums2, rowTabulates, rowVarDiffs, rowVars,
rowWeightedMads, rowWeightedMeans, rowWeightedMedians,
rowWeightedSds, rowWeightedVars
The following object is masked from 'package:Biobase':
rowMedians
Loading required package: GenomicRanges
Loading required package: stats4
Loading required package: S4Vectors
Attaching package: 'S4Vectors'
The following objects are masked from 'package:base':
I, expand.grid, unname
Loading required package: IRanges
Loading required package: GenomeInfoDb
> test_check(package = "TimiRGeN")
[ FAIL 0 | WARN 49 | SKIP 0 | PASS 124 ]
[ FAIL 0 | WARN 49 | SKIP 0 | PASS 124 ]
>
> proc.time()
user system elapsed
30.646 4.401 36.442
TimiRGeN.Rcheck/TimiRGeN-Ex.timings
| name | user | system | elapsed | |
| UUO_data | 0.004 | 0.000 | 0.005 | |
| addIds | 3.056 | 0.301 | 4.954 | |
| addPrefix | 0.497 | 0.101 | 0.576 | |
| clusterCheck | 0.725 | 0.234 | 1.704 | |
| clusterList | 4.122 | 0.740 | 5.871 | |
| combineGenes | 0.302 | 0.087 | 0.377 | |
| createClusters | 0.742 | 0.178 | 1.668 | |
| createClusters2 | 0.600 | 0.130 | 0.696 | |
| cytoMake | 0 | 0 | 0 | |
| diffExpressRes | 2.506 | 0.442 | 3.405 | |
| dloadGmt | 1.118 | 0.275 | 2.248 | |
| dloadMirdb | 0.000 | 0.000 | 0.001 | |
| dloadMirtarbase | 0.286 | 0.042 | 0.317 | |
| dloadTargetscan | 0.001 | 0.000 | 0.000 | |
| eNames | 2.458 | 0.490 | 3.451 | |
| e_list_mouse | 0.002 | 0.000 | 0.001 | |
| enrichWiki | 1.823 | 0.242 | 2.687 | |
| genesList | 0.651 | 0.142 | 0.759 | |
| getIdsMir | 0.731 | 0.124 | 0.832 | |
| getIdsMrna | 1.770 | 0.351 | 2.670 | |
| gmtEnsembl | 1.457 | 0.398 | 2.451 | |
| hs_mRNA | 0.000 | 0.004 | 0.004 | |
| hs_miR | 0.002 | 0.000 | 0.001 | |
| hs_probes | 0.001 | 0.000 | 0.002 | |
| linearRegr | 4.528 | 1.253 | 6.466 | |
| long_data | 0.002 | 0.002 | 0.004 | |
| makeDynamic | 2.903 | 0.630 | 4.031 | |
| makeMapp | 2.621 | 0.487 | 3.573 | |
| makeNet | 0.064 | 0.004 | 0.065 | |
| matrixFilter | 0.217 | 0.037 | 0.245 | |
| miRTarBase | 0.001 | 0.000 | 0.002 | |
| mirMrnaInt | 0.232 | 0.054 | 0.274 | |
| mm_mRNA | 0.001 | 0.000 | 0.002 | |
| mm_miR | 0.001 | 0.000 | 0.001 | |
| multiReg | 3.285 | 0.540 | 4.288 | |
| quickBar | 1.757 | 0.252 | 2.530 | |
| quickCrossCorr | 3.108 | 0.443 | 4.434 | |
| quickDMap | 3.240 | 0.490 | 4.189 | |
| quickDendro | 3.059 | 0.563 | 4.137 | |
| quickFuzz | 0.662 | 0.166 | 1.435 | |
| quickHClust | 3.202 | 0.604 | 4.250 | |
| quickMap | 0.257 | 0.044 | 0.291 | |
| quickNet | 0.117 | 0.025 | 0.136 | |
| quickPathwayTC | 3.057 | 0.594 | 4.109 | |
| quickReg | 3.235 | 0.588 | 4.261 | |
| quickTC | 5.170 | 0.634 | 9.283 | |
| quickTCPred | 6.427 | 0.838 | 9.151 | |
| reduceWiki | 0.846 | 0.083 | 0.921 | |
| returnCluster | 1.336 | 0.223 | 2.411 | |
| significantVals | 0.342 | 0.082 | 0.413 | |
| startObject | 0.129 | 0.025 | 0.148 | |
| turnPercent | 0.406 | 0.043 | 0.434 | |
| w_list_mouse | 0.000 | 0.001 | 0.001 | |
| wikiMatrix | 0.213 | 0.031 | 0.236 | |
| wikiMrna | 3.567 | 0.588 | 5.128 | |