| Back to Multiple platform build/check report for BioC 3.16: simplified long |
|
This page was generated on 2023-04-12 11:05:56 -0400 (Wed, 12 Apr 2023).
| Hostname | OS | Arch (*) | R version | Installed pkgs |
|---|---|---|---|---|
| nebbiolo2 | Linux (Ubuntu 20.04.5 LTS) | x86_64 | 4.2.3 (2023-03-15) -- "Shortstop Beagle" | 4502 |
| palomino4 | Windows Server 2022 Datacenter | x64 | 4.2.3 (2023-03-15 ucrt) -- "Shortstop Beagle" | 4282 |
| lconway | macOS 12.5.1 Monterey | x86_64 | 4.2.3 (2023-03-15) -- "Shortstop Beagle" | 4310 |
| Click on any hostname to see more info about the system (e.g. compilers) (*) as reported by 'uname -p', except on Windows and Mac OS X | ||||
|
To the developers/maintainers of the TPP2D package: - Please allow up to 24 hours (and sometimes 48 hours) for your latest push to git@git.bioconductor.org:packages/TPP2D.git to reflect on this report. See How and When does the builder pull? When will my changes propagate? for more information. - Make sure to use the following settings in order to reproduce any error or warning you see on this page. |
| Package 2070/2183 | Hostname | OS / Arch | INSTALL | BUILD | CHECK | BUILD BIN | ||||||||
| TPP2D 1.14.0 (landing page) Nils Kurzawa
| nebbiolo2 | Linux (Ubuntu 20.04.5 LTS) / x86_64 | OK | OK | OK | |||||||||
| palomino4 | Windows Server 2022 Datacenter / x64 | OK | OK | OK | OK | |||||||||
| lconway | macOS 12.5.1 Monterey / x86_64 | OK | OK | OK | OK | |||||||||
| Package: TPP2D |
| Version: 1.14.0 |
| Command: F:\biocbuild\bbs-3.16-bioc\R\bin\R.exe CMD check --no-multiarch --install=check:TPP2D.install-out.txt --library=F:\biocbuild\bbs-3.16-bioc\R\library --no-vignettes --timings TPP2D_1.14.0.tar.gz |
| StartedAt: 2023-04-11 06:51:06 -0400 (Tue, 11 Apr 2023) |
| EndedAt: 2023-04-11 06:53:05 -0400 (Tue, 11 Apr 2023) |
| EllapsedTime: 118.4 seconds |
| RetCode: 0 |
| Status: OK |
| CheckDir: TPP2D.Rcheck |
| Warnings: 0 |
##############################################################################
##############################################################################
###
### Running command:
###
### F:\biocbuild\bbs-3.16-bioc\R\bin\R.exe CMD check --no-multiarch --install=check:TPP2D.install-out.txt --library=F:\biocbuild\bbs-3.16-bioc\R\library --no-vignettes --timings TPP2D_1.14.0.tar.gz
###
##############################################################################
##############################################################################
* using log directory 'F:/biocbuild/bbs-3.16-bioc/meat/TPP2D.Rcheck'
* using R version 4.2.3 (2023-03-15 ucrt)
* using platform: x86_64-w64-mingw32 (64-bit)
* using session charset: UTF-8
* using option '--no-vignettes'
* checking for file 'TPP2D/DESCRIPTION' ... OK
* this is package 'TPP2D' version '1.14.0'
* package encoding: UTF-8
* checking package namespace information ... OK
* checking package dependencies ... OK
* checking if this is a source package ... OK
* checking if there is a namespace ... OK
* checking for hidden files and directories ... OK
* checking for portable file names ... OK
* checking whether package 'TPP2D' can be installed ... OK
* checking installed package size ... OK
* checking package directory ... OK
* checking 'build' directory ... OK
* checking DESCRIPTION meta-information ... OK
* checking top-level files ... OK
* checking for left-over files ... OK
* checking index information ... OK
* checking package subdirectories ... OK
* checking R files for non-ASCII characters ... OK
* checking R files for syntax errors ... OK
* checking whether the package can be loaded ... OK
* checking whether the package can be loaded with stated dependencies ... OK
* checking whether the package can be unloaded cleanly ... OK
* checking whether the namespace can be loaded with stated dependencies ... OK
* checking whether the namespace can be unloaded cleanly ... OK
* checking dependencies in R code ... OK
* checking S3 generic/method consistency ... OK
* checking replacement functions ... OK
* checking foreign function calls ... OK
* checking R code for possible problems ... OK
* checking Rd files ... OK
* checking Rd metadata ... OK
* checking Rd cross-references ... OK
* checking for missing documentation entries ... OK
* checking for code/documentation mismatches ... OK
* checking Rd \usage sections ... OK
* checking Rd contents ... OK
* checking for unstated dependencies in examples ... OK
* checking contents of 'data' directory ... OK
* checking data for non-ASCII characters ... OK
* checking data for ASCII and uncompressed saves ... OK
* checking R/sysdata.rda ... OK
* checking files in 'vignettes' ... OK
* checking examples ... OK
Examples with CPU (user + system) or elapsed time > 5s
user system elapsed
getModelParamsDf 5.59 0.14 5.73
fitAndEvalDataset 5.50 0.14 5.64
computeFStatFromParams 5.27 0.17 5.44
* checking for unstated dependencies in 'tests' ... OK
* checking tests ...
Running 'testthat.R'
OK
* checking for unstated dependencies in vignettes ... OK
* checking package vignettes in 'inst/doc' ... OK
* checking running R code from vignettes ... SKIPPED
* checking re-building of vignette outputs ... SKIPPED
* checking PDF version of manual ... OK
* DONE
Status: OK
TPP2D.Rcheck/00install.out
############################################################################## ############################################################################## ### ### Running command: ### ### F:\biocbuild\bbs-3.16-bioc\R\bin\R.exe CMD INSTALL TPP2D ### ############################################################################## ############################################################################## * installing to library 'F:/biocbuild/bbs-3.16-bioc/R/library' * installing *source* package 'TPP2D' ... ** using staged installation ** R ** data ** inst ** byte-compile and prepare package for lazy loading ** help *** installing help indices ** building package indices ** installing vignettes ** testing if installed package can be loaded from temporary location ** testing if installed package can be loaded from final location ** testing if installed package keeps a record of temporary installation path * DONE (TPP2D)
TPP2D.Rcheck/tests/testthat.Rout
R version 4.2.3 (2023-03-15 ucrt) -- "Shortstop Beagle"
Copyright (C) 2023 The R Foundation for Statistical Computing
Platform: x86_64-w64-mingw32/x64 (64-bit)
R is free software and comes with ABSOLUTELY NO WARRANTY.
You are welcome to redistribute it under certain conditions.
Type 'license()' or 'licence()' for distribution details.
R is a collaborative project with many contributors.
Type 'contributors()' for more information and
'citation()' on how to cite R or R packages in publications.
Type 'demo()' for some demos, 'help()' for on-line help, or
'help.start()' for an HTML browser interface to help.
Type 'q()' to quit R.
> Sys.setenv("R_TESTS" = "")
> library(testthat)
> library(TPP2D)
Loading required package: dplyr
Attaching package: 'dplyr'
The following object is masked from 'package:testthat':
matches
The following objects are masked from 'package:stats':
filter, lag
The following objects are masked from 'package:base':
intersect, setdiff, setequal, union
>
> test_check("TPP2D")
[1] "Warning: You have specificed B < 20, it is recommended to use at least B = 20 in order to obtain reliable results."
|
| | 0%
|
|======================================================================| 100%
[ FAIL 0 | WARN 2 | SKIP 0 | PASS 18 ]
[ FAIL 0 | WARN 2 | SKIP 0 | PASS 18 ]
>
> proc.time()
user system elapsed
6.34 0.39 6.71
TPP2D.Rcheck/TPP2D-Ex.timings
| name | user | system | elapsed | |
| TPP_importCheckConfigTable | 0.02 | 0.00 | 0.01 | |
| annotateDataList | 0.81 | 0.06 | 0.88 | |
| bootstrapNull | 0.04 | 0.01 | 1.83 | |
| bootstrapNullAlternativeModel | 1.66 | 0.03 | 1.69 | |
| competeModels | 2.45 | 0.08 | 2.53 | |
| computeFStatFromParams | 5.27 | 0.17 | 5.44 | |
| computeFstat | 4.08 | 0.08 | 4.15 | |
| configWide2Long | 0.01 | 0.00 | 0.02 | |
| filterOutContaminants | 0.05 | 0.00 | 0.05 | |
| findHits | 1.08 | 0.05 | 4.40 | |
| fitAndEvalDataset | 5.50 | 0.14 | 5.64 | |
| fitH0Model | 0.15 | 0.00 | 0.15 | |
| fitH1Model | 0.94 | 0.00 | 0.94 | |
| getFDR | 1.17 | 0.01 | 4.17 | |
| getModelParamsDf | 5.59 | 0.14 | 5.73 | |
| getPEC504Temperature | 0.39 | 0.03 | 0.43 | |
| getPvalues | 0.63 | 0.02 | 3.75 | |
| gg_qq | 0.06 | 0.00 | 0.06 | |
| import2dDataset | 0.58 | 0.05 | 0.62 | |
| import2dMain | 0.23 | 0.00 | 0.24 | |
| plot2dTppFcHeatmap | 0.24 | 0.01 | 0.25 | |
| plot2dTppFit | 0.28 | 0.02 | 0.29 | |
| plot2dTppProfile | 0.26 | 0.01 | 0.29 | |
| plot2dTppRelProfile | 0.27 | 0.02 | 0.28 | |
| plot2dTppVolcano | 4.11 | 0.11 | 4.22 | |
| recomputeSignalFromRatios | 0.05 | 0.01 | 0.06 | |
| renameColumns | 0.70 | 0.02 | 0.72 | |
| resolveAmbiguousProteinNames | 0.03 | 0.00 | 0.03 | |
| runTPP2D | 1.75 | 0.03 | 1.78 | |
| tpp2dExperiment-class | 0 | 0 | 0 | |