| Back to Multiple platform build/check report for BioC 3.16: simplified long |
|
This page was generated on 2023-04-12 11:05:55 -0400 (Wed, 12 Apr 2023).
| Hostname | OS | Arch (*) | R version | Installed pkgs |
|---|---|---|---|---|
| nebbiolo2 | Linux (Ubuntu 20.04.5 LTS) | x86_64 | 4.2.3 (2023-03-15) -- "Shortstop Beagle" | 4502 |
| palomino4 | Windows Server 2022 Datacenter | x64 | 4.2.3 (2023-03-15 ucrt) -- "Shortstop Beagle" | 4282 |
| lconway | macOS 12.5.1 Monterey | x86_64 | 4.2.3 (2023-03-15) -- "Shortstop Beagle" | 4310 |
| Click on any hostname to see more info about the system (e.g. compilers) (*) as reported by 'uname -p', except on Windows and Mac OS X | ||||
|
To the developers/maintainers of the SynExtend package: - Please allow up to 24 hours (and sometimes 48 hours) for your latest push to git@git.bioconductor.org:packages/SynExtend.git to reflect on this report. See How and When does the builder pull? When will my changes propagate? for more information. - Make sure to use the following settings in order to reproduce any error or warning you see on this page. |
| Package 2010/2183 | Hostname | OS / Arch | INSTALL | BUILD | CHECK | BUILD BIN | ||||||||
| SynExtend 1.10.2 (landing page) Nicholas Cooley
| nebbiolo2 | Linux (Ubuntu 20.04.5 LTS) / x86_64 | OK | OK | OK | |||||||||
| palomino4 | Windows Server 2022 Datacenter / x64 | OK | OK | OK | OK | |||||||||
| lconway | macOS 12.5.1 Monterey / x86_64 | OK | OK | OK | OK | |||||||||
| Package: SynExtend |
| Version: 1.10.2 |
| Command: F:\biocbuild\bbs-3.16-bioc\R\bin\R.exe CMD check --no-multiarch --install=check:SynExtend.install-out.txt --library=F:\biocbuild\bbs-3.16-bioc\R\library --no-vignettes --timings SynExtend_1.10.2.tar.gz |
| StartedAt: 2023-04-11 06:38:12 -0400 (Tue, 11 Apr 2023) |
| EndedAt: 2023-04-11 06:41:13 -0400 (Tue, 11 Apr 2023) |
| EllapsedTime: 180.7 seconds |
| RetCode: 0 |
| Status: OK |
| CheckDir: SynExtend.Rcheck |
| Warnings: 0 |
##############################################################################
##############################################################################
###
### Running command:
###
### F:\biocbuild\bbs-3.16-bioc\R\bin\R.exe CMD check --no-multiarch --install=check:SynExtend.install-out.txt --library=F:\biocbuild\bbs-3.16-bioc\R\library --no-vignettes --timings SynExtend_1.10.2.tar.gz
###
##############################################################################
##############################################################################
* using log directory 'F:/biocbuild/bbs-3.16-bioc/meat/SynExtend.Rcheck'
* using R version 4.2.3 (2023-03-15 ucrt)
* using platform: x86_64-w64-mingw32 (64-bit)
* using session charset: UTF-8
* using option '--no-vignettes'
* checking for file 'SynExtend/DESCRIPTION' ... OK
* checking extension type ... Package
* this is package 'SynExtend' version '1.10.2'
* package encoding: UTF-8
* checking package namespace information ... OK
* checking package dependencies ... OK
* checking if this is a source package ... OK
* checking if there is a namespace ... OK
* checking for hidden files and directories ... OK
* checking for portable file names ... OK
* checking whether package 'SynExtend' can be installed ... OK
* checking installed package size ... OK
* checking package directory ... OK
* checking 'build' directory ... OK
* checking DESCRIPTION meta-information ... OK
* checking top-level files ... OK
* checking for left-over files ... OK
* checking index information ... OK
* checking package subdirectories ... OK
* checking R files for non-ASCII characters ... OK
* checking R files for syntax errors ... OK
* checking whether the package can be loaded ... OK
* checking whether the package can be loaded with stated dependencies ... OK
* checking whether the package can be unloaded cleanly ... OK
* checking whether the namespace can be loaded with stated dependencies ... OK
* checking whether the namespace can be unloaded cleanly ... OK
* checking dependencies in R code ... OK
* checking S3 generic/method consistency ... OK
* checking replacement functions ... OK
* checking foreign function calls ... OK
* checking R code for possible problems ... OK
* checking Rd files ... OK
* checking Rd metadata ... OK
* checking Rd cross-references ... OK
* checking for missing documentation entries ... OK
* checking for code/documentation mismatches ... OK
* checking Rd \usage sections ... OK
* checking Rd contents ... OK
* checking for unstated dependencies in examples ... OK
* checking contents of 'data' directory ... OK
* checking data for non-ASCII characters ... OK
* checking data for ASCII and uncompressed saves ... OK
* checking line endings in C/C++/Fortran sources/headers ... OK
* checking compiled code ... NOTE
Note: information on .o files for x64 is not available
File 'F:/biocbuild/bbs-3.16-bioc/R/library/SynExtend/libs/x64/SynExtend.dll':
Found 'abort', possibly from 'abort' (C), 'runtime' (Fortran)
Compiled code should not call entry points which might terminate R nor
write to stdout/stderr instead of to the console, nor use Fortran I/O
nor system RNGs. The detected symbols are linked into the code but
might come from libraries and not actually be called.
See 'Writing portable packages' in the 'Writing R Extensions' manual.
* checking sizes of PDF files under 'inst/doc' ... OK
* checking files in 'vignettes' ... OK
* checking examples ... OK
Examples with CPU (user + system) or elapsed time > 5s
user system elapsed
BlockExpansion 11.53 1.37 12.94
BuiltInEnsembles 10.52 0.61 15.47
predict.ProtWeaver 10.59 0.36 15.31
gffToDataFrame 5.91 0.11 6.02
* checking for unstated dependencies in vignettes ... OK
* checking package vignettes in 'inst/doc' ... OK
* checking running R code from vignettes ... SKIPPED
* checking re-building of vignette outputs ... SKIPPED
* checking PDF version of manual ... OK
* DONE
Status: 1 NOTE
See
'F:/biocbuild/bbs-3.16-bioc/meat/SynExtend.Rcheck/00check.log'
for details.
SynExtend.Rcheck/00install.out
############################################################################## ############################################################################## ### ### Running command: ### ### F:\biocbuild\bbs-3.16-bioc\R\bin\R.exe CMD INSTALL SynExtend ### ############################################################################## ############################################################################## * installing to library 'F:/biocbuild/bbs-3.16-bioc/R/library' * installing *source* package 'SynExtend' ... ** using staged installation ** libs gcc -I"F:/biocbuild/bbs-3.16-bioc/R/include" -DNDEBUG -I"C:/rtools42/x86_64-w64-mingw32.static.posix/include" -O2 -Wall -std=gnu99 -mfpmath=sse -msse2 -mstackrealign -c CDend.c -o CDend.o gcc -I"F:/biocbuild/bbs-3.16-bioc/R/include" -DNDEBUG -I"C:/rtools42/x86_64-w64-mingw32.static.posix/include" -O2 -Wall -std=gnu99 -mfpmath=sse -msse2 -mstackrealign -c R_init_synextend.c -o R_init_synextend.o gcc -I"F:/biocbuild/bbs-3.16-bioc/R/include" -DNDEBUG -I"C:/rtools42/x86_64-w64-mingw32.static.posix/include" -O2 -Wall -std=gnu99 -mfpmath=sse -msse2 -mstackrealign -c SEutils.c -o SEutils.o gcc -I"F:/biocbuild/bbs-3.16-bioc/R/include" -DNDEBUG -I"C:/rtools42/x86_64-w64-mingw32.static.posix/include" -O2 -Wall -std=gnu99 -mfpmath=sse -msse2 -mstackrealign -c calcMIR2C.c -o calcMIR2C.o gcc -shared -s -static-libgcc -o SynExtend.dll tmp.def CDend.o R_init_synextend.o SEutils.o calcMIR2C.o -LC:/rtools42/x86_64-w64-mingw32.static.posix/lib/x64 -LC:/rtools42/x86_64-w64-mingw32.static.posix/lib -LF:/biocbuild/bbs-3.16-bioc/R/bin/x64 -lR installing to F:/biocbuild/bbs-3.16-bioc/R/library/00LOCK-SynExtend/00new/SynExtend/libs/x64 ** R ** data ** inst ** byte-compile and prepare package for lazy loading ** help *** installing help indices ** building package indices ** installing vignettes ** testing if installed package can be loaded from temporary location ** testing if installed package can be loaded from final location ** testing if installed package keeps a record of temporary installation path * DONE (SynExtend)
SynExtend.Rcheck/SynExtend-Ex.timings
| name | user | system | elapsed | |
| BlastSeqs | 0 | 0 | 0 | |
| BlockExpansion | 11.53 | 1.37 | 12.94 | |
| BlockReconciliation | 0.16 | 0.00 | 0.15 | |
| BuiltInEnsembles | 10.52 | 0.61 | 15.47 | |
| DPhyloStatistic | 0.03 | 0.00 | 0.03 | |
| DisjointSet | 0.03 | 0.00 | 0.03 | |
| Endosymbionts_GeneCalls | 0.01 | 0.00 | 0.02 | |
| Endosymbionts_LinkedFeatures | 0.02 | 0.00 | 0.02 | |
| Endosymbionts_Pairs01 | 0.01 | 0.00 | 0.01 | |
| Endosymbionts_Pairs02 | 0.02 | 0.00 | 0.02 | |
| Endosymbionts_Pairs03 | 0.02 | 0.00 | 0.01 | |
| Endosymbionts_Sets | 0.01 | 0.00 | 0.02 | |
| Endosymbionts_Synteny | 0 | 0 | 0 | |
| EstimRearrScen | 1.66 | 0.02 | 1.67 | |
| ExampleStreptomycesData | 1.64 | 0.05 | 1.69 | |
| ExtractBy | 0.28 | 0.04 | 0.33 | |
| FindSets | 0 | 0 | 0 | |
| GeneralizedRF | 0.02 | 0.00 | 0.01 | |
| Generic | 0 | 0 | 0 | |
| NucleotideOverlap | 0.26 | 0.00 | 0.26 | |
| PairSummaries | 1.75 | 0.00 | 1.75 | |
| ProtWeaver | 0 | 0 | 0 | |
| ProtWeb | 0.67 | 0.03 | 0.70 | |
| RFDist | 0.01 | 0.00 | 0.02 | |
| SelectByK | 0.08 | 0.00 | 0.08 | |
| SequenceSimilarity | 0.1 | 0.0 | 0.1 | |
| SubSetPairs | 0.03 | 0.00 | 0.04 | |
| SuperTree | 2.34 | 0.39 | 2.73 | |
| SuperTreeEx | 0.03 | 0.03 | 0.06 | |
| gffToDataFrame | 5.91 | 0.11 | 6.02 | |
| plot.ProtWeb | 1.3 | 0.0 | 1.3 | |
| predict.ProtWeaver | 10.59 | 0.36 | 15.31 | |
| simMat | 0.01 | 0.00 | 0.01 | |