| Back to Multiple platform build/check report for BioC 3.16: simplified long |
|
This page was generated on 2023-04-12 11:06:28 -0400 (Wed, 12 Apr 2023).
| Hostname | OS | Arch (*) | R version | Installed pkgs |
|---|---|---|---|---|
| nebbiolo2 | Linux (Ubuntu 20.04.5 LTS) | x86_64 | 4.2.3 (2023-03-15) -- "Shortstop Beagle" | 4502 |
| palomino4 | Windows Server 2022 Datacenter | x64 | 4.2.3 (2023-03-15 ucrt) -- "Shortstop Beagle" | 4282 |
| lconway | macOS 12.5.1 Monterey | x86_64 | 4.2.3 (2023-03-15) -- "Shortstop Beagle" | 4310 |
| Click on any hostname to see more info about the system (e.g. compilers) (*) as reported by 'uname -p', except on Windows and Mac OS X | ||||
|
To the developers/maintainers of the Streamer package: - Please allow up to 24 hours (and sometimes 48 hours) for your latest push to git@git.bioconductor.org:packages/Streamer.git to reflect on this report. See How and When does the builder pull? When will my changes propagate? for more information. - Make sure to use the following settings in order to reproduce any error or warning you see on this page. |
| Package 1981/2183 | Hostname | OS / Arch | INSTALL | BUILD | CHECK | BUILD BIN | ||||||||
| Streamer 1.44.0 (landing page) Martin Morgan
| nebbiolo2 | Linux (Ubuntu 20.04.5 LTS) / x86_64 | OK | OK | OK | |||||||||
| palomino4 | Windows Server 2022 Datacenter / x64 | OK | OK | OK | OK | |||||||||
| lconway | macOS 12.5.1 Monterey / x86_64 | OK | OK | OK | OK | |||||||||
| Package: Streamer |
| Version: 1.44.0 |
| Command: /Library/Frameworks/R.framework/Resources/bin/R CMD check --install=check:Streamer.install-out.txt --library=/Library/Frameworks/R.framework/Resources/library --no-vignettes --timings Streamer_1.44.0.tar.gz |
| StartedAt: 2023-04-10 22:58:08 -0400 (Mon, 10 Apr 2023) |
| EndedAt: 2023-04-10 22:58:53 -0400 (Mon, 10 Apr 2023) |
| EllapsedTime: 44.1 seconds |
| RetCode: 0 |
| Status: OK |
| CheckDir: Streamer.Rcheck |
| Warnings: 0 |
############################################################################## ############################################################################## ### ### Running command: ### ### /Library/Frameworks/R.framework/Resources/bin/R CMD check --install=check:Streamer.install-out.txt --library=/Library/Frameworks/R.framework/Resources/library --no-vignettes --timings Streamer_1.44.0.tar.gz ### ############################################################################## ############################################################################## * using log directory ‘/Users/biocbuild/bbs-3.16-bioc/meat/Streamer.Rcheck’ * using R version 4.2.3 (2023-03-15) * using platform: x86_64-apple-darwin17.0 (64-bit) * using session charset: UTF-8 * using option ‘--no-vignettes’ * checking for file ‘Streamer/DESCRIPTION’ ... OK * checking extension type ... Package * this is package ‘Streamer’ version ‘1.44.0’ * checking package namespace information ... OK * checking package dependencies ... OK * checking if this is a source package ... OK * checking if there is a namespace ... OK * checking for hidden files and directories ... OK * checking for portable file names ... OK * checking for sufficient/correct file permissions ... OK * checking whether package ‘Streamer’ can be installed ... OK * checking installed package size ... OK * checking package directory ... OK * checking ‘build’ directory ... OK * checking DESCRIPTION meta-information ... OK * checking top-level files ... OK * checking for left-over files ... OK * checking index information ... OK * checking package subdirectories ... OK * checking R files for non-ASCII characters ... OK * checking R files for syntax errors ... OK * checking whether the package can be loaded ... OK * checking whether the package can be loaded with stated dependencies ... OK * checking whether the package can be unloaded cleanly ... OK * checking whether the namespace can be loaded with stated dependencies ... OK * checking whether the namespace can be unloaded cleanly ... OK * checking dependencies in R code ... NOTE Unexported objects imported by ':::' calls: ‘parallel:::mckill’ ‘parallel:::sendMaster’ See the note in ?`:::` about the use of this operator. * checking S3 generic/method consistency ... OK * checking replacement functions ... OK * checking foreign function calls ... OK * checking R code for possible problems ... OK * checking Rd files ... OK * checking Rd metadata ... OK * checking Rd cross-references ... OK * checking for missing documentation entries ... OK * checking for code/documentation mismatches ... OK * checking Rd \usage sections ... OK * checking Rd contents ... OK * checking for unstated dependencies in examples ... OK * checking line endings in C/C++/Fortran sources/headers ... OK * checking compiled code ... NOTE Note: information on .o files is not available * checking sizes of PDF files under ‘inst/doc’ ... OK * checking files in ‘vignettes’ ... OK * checking examples ... OK * checking for unstated dependencies in ‘tests’ ... OK * checking tests ... Running ‘unit_tests.R’ OK * checking for unstated dependencies in vignettes ... OK * checking package vignettes in ‘inst/doc’ ... OK * checking running R code from vignettes ... SKIPPED * checking re-building of vignette outputs ... SKIPPED * checking PDF version of manual ... OK * DONE Status: 2 NOTEs See ‘/Users/biocbuild/bbs-3.16-bioc/meat/Streamer.Rcheck/00check.log’ for details.
Streamer.Rcheck/00install.out
############################################################################## ############################################################################## ### ### Running command: ### ### /Library/Frameworks/R.framework/Resources/bin/R CMD INSTALL Streamer ### ############################################################################## ############################################################################## * installing to library ‘/Library/Frameworks/R.framework/Versions/4.2/Resources/library’ * installing *source* package ‘Streamer’ ... ** using staged installation ** libs clang -mmacosx-version-min=10.13 -I"/Library/Frameworks/R.framework/Resources/include" -DNDEBUG -I/usr/local/include -fPIC -Wall -g -O2 -c R_init_Streamer.c -o R_init_Streamer.o clang -mmacosx-version-min=10.13 -I"/Library/Frameworks/R.framework/Resources/include" -DNDEBUG -I/usr/local/include -fPIC -Wall -g -O2 -c raw_input.c -o raw_input.o clang -mmacosx-version-min=10.13 -dynamiclib -Wl,-headerpad_max_install_names -undefined dynamic_lookup -single_module -multiply_defined suppress -L/Library/Frameworks/R.framework/Resources/lib -L/usr/local/lib -o Streamer.so R_init_Streamer.o raw_input.o -F/Library/Frameworks/R.framework/.. -framework R -Wl,-framework -Wl,CoreFoundation installing to /Library/Frameworks/R.framework/Versions/4.2/Resources/library/00LOCK-Streamer/00new/Streamer/libs ** R ** inst ** byte-compile and prepare package for lazy loading ** help *** installing help indices ** building package indices ** installing vignettes ** testing if installed package can be loaded from temporary location ** checking absolute paths in shared objects and dynamic libraries ** testing if installed package can be loaded from final location ** testing if installed package keeps a record of temporary installation path * DONE (Streamer)
Streamer.Rcheck/tests/unit_tests.Rout
R version 4.2.3 (2023-03-15) -- "Shortstop Beagle"
Copyright (C) 2023 The R Foundation for Statistical Computing
Platform: x86_64-apple-darwin17.0 (64-bit)
R is free software and comes with ABSOLUTELY NO WARRANTY.
You are welcome to redistribute it under certain conditions.
Type 'license()' or 'licence()' for distribution details.
R is a collaborative project with many contributors.
Type 'contributors()' for more information and
'citation()' on how to cite R or R packages in publications.
Type 'demo()' for some demos, 'help()' for on-line help, or
'help.start()' for an HTML browser interface to help.
Type 'q()' to quit R.
> BiocGenerics:::testPackage("Streamer")
Timing stopped at: 0.001 0 0
Error in DEACTIVATED("should error with only a consumer (?)") :
should error with only a consumer (?)
In addition: Warning messages:
1: In for (i in seq_len(n)) { :
closing unused connection 4 (/Library/Frameworks/R.framework/Versions/4.2/Resources/library/Streamer/extdata/s_1_sequence.txt)
2: In for (i in seq_len(n)) { :
closing unused connection 3 (/Library/Frameworks/R.framework/Versions/4.2/Resources/library/Streamer/extdata/s_1_sequence.txt)
RUNIT TEST PROTOCOL -- Mon Apr 10 22:58:43 2023
***********************************************
Number of test functions: 14
Number of deactivated test functions: 1
Number of errors: 0
Number of failures: 0
1 Test Suite :
Streamer RUnit Tests - 14 test functions, 0 errors, 0 failures
Number of test functions: 14
Number of deactivated test functions: 1
Number of errors: 0
Number of failures: 0
Warning message:
In for (i in seq_len(n)) { :
closing unused connection 3 (/Library/Frameworks/R.framework/Versions/4.2/Resources/library/Streamer/extdata/s_1_sequence.txt)
>
> proc.time()
user system elapsed
1.224 0.362 1.454
Streamer.Rcheck/Streamer-Ex.timings
| name | user | system | elapsed | |
| ConnectionProducer-classes | 0.231 | 0.009 | 0.241 | |
| Consumer-class | 0.002 | 0.000 | 0.002 | |
| DAGTeam-class | 0.250 | 0.011 | 0.263 | |
| Downsample-class | 0 | 0 | 0 | |
| FunctionProducerConsumer-classes | 0.346 | 0.003 | 0.351 | |
| ParallelParam-classes | 0.004 | 0.000 | 0.003 | |
| Producer-class | 0.021 | 0.001 | 0.023 | |
| RawInput-class | 0.006 | 0.001 | 0.009 | |
| Reducer-class | 1.217 | 0.179 | 1.322 | |
| Seq-class | 0.005 | 0.003 | 0.010 | |
| Stream-class | 0.042 | 0.005 | 0.048 | |
| Streamer-package | 0.050 | 0.003 | 0.054 | |
| Team-class | 2.257 | 0.295 | 2.481 | |
| Utility-classes | 0.001 | 0.000 | 0.001 | |
| reset | 0 | 0 | 0 | |
| status | 0 | 0 | 0 | |
| yield | 0.000 | 0.001 | 0.000 | |