| Back to Multiple platform build/check report for BioC 3.16: simplified long |
|
This page was generated on 2023-04-12 11:05:19 -0400 (Wed, 12 Apr 2023).
| Hostname | OS | Arch (*) | R version | Installed pkgs |
|---|---|---|---|---|
| nebbiolo2 | Linux (Ubuntu 20.04.5 LTS) | x86_64 | 4.2.3 (2023-03-15) -- "Shortstop Beagle" | 4502 |
| palomino4 | Windows Server 2022 Datacenter | x64 | 4.2.3 (2023-03-15 ucrt) -- "Shortstop Beagle" | 4282 |
| lconway | macOS 12.5.1 Monterey | x86_64 | 4.2.3 (2023-03-15) -- "Shortstop Beagle" | 4310 |
| Click on any hostname to see more info about the system (e.g. compilers) (*) as reported by 'uname -p', except on Windows and Mac OS X | ||||
|
To the developers/maintainers of the SharedObject package: - Please allow up to 24 hours (and sometimes 48 hours) for your latest push to git@git.bioconductor.org:packages/SharedObject.git to reflect on this report. See How and When does the builder pull? When will my changes propagate? for more information. - Make sure to use the following settings in order to reproduce any error or warning you see on this page. |
| Package 1858/2183 | Hostname | OS / Arch | INSTALL | BUILD | CHECK | BUILD BIN | ||||||||
| SharedObject 1.12.0 (landing page) Jiefei Wang
| nebbiolo2 | Linux (Ubuntu 20.04.5 LTS) / x86_64 | OK | OK | OK | |||||||||
| palomino4 | Windows Server 2022 Datacenter / x64 | OK | OK | OK | OK | |||||||||
| lconway | macOS 12.5.1 Monterey / x86_64 | OK | OK | OK | OK | |||||||||
| Package: SharedObject |
| Version: 1.12.0 |
| Command: /home/biocbuild/bbs-3.16-bioc/R/bin/R CMD INSTALL SharedObject |
| StartedAt: 2023-04-10 15:09:55 -0400 (Mon, 10 Apr 2023) |
| EndedAt: 2023-04-10 15:10:41 -0400 (Mon, 10 Apr 2023) |
| EllapsedTime: 45.3 seconds |
| RetCode: 0 |
| Status: OK |
##############################################################################
##############################################################################
###
### Running command:
###
### /home/biocbuild/bbs-3.16-bioc/R/bin/R CMD INSTALL SharedObject
###
##############################################################################
##############################################################################
* installing to library ‘/home/biocbuild/bbs-3.16-bioc/R/site-library’
* installing *source* package ‘SharedObject’ ...
** using staged installation
checking for gcc... gcc
checking whether the C compiler works... yes
checking for C compiler default output file name... a.out
checking for suffix of executables...
checking whether we are cross compiling... no
checking for suffix of object files... o
checking whether we are using the GNU C compiler... yes
checking whether gcc accepts -g... yes
checking for gcc option to accept ISO C89... none needed
checking for shm_open in -lrt... yes
configure: creating ./config.status
config.status: creating src/Makevars
** libs
mkdir -p ../inst/include&&\
mkdir -p ../inst/include/SharedObject&&\
mkdir -p ../inst/usrlib
g++ -std=gnu++11 -I"/home/biocbuild/bbs-3.16-bioc/R/include" -DNDEBUG -I'/home/biocbuild/bbs-3.16-bioc/R/site-library/BH/include' -I'/home/biocbuild/bbs-3.16-bioc/R/site-library/Rcpp/include' -I/usr/local/include -fpic -g -O2 -Wall -c C_interface.cpp -o C_interface.o
g++ -std=gnu++11 -I"/home/biocbuild/bbs-3.16-bioc/R/include" -DNDEBUG -I'/home/biocbuild/bbs-3.16-bioc/R/site-library/BH/include' -I'/home/biocbuild/bbs-3.16-bioc/R/site-library/Rcpp/include' -I/usr/local/include -fpic -g -O2 -Wall -c RcppExports.cpp -o RcppExports.o
g++ -std=gnu++11 -I"/home/biocbuild/bbs-3.16-bioc/R/include" -DNDEBUG -I'/home/biocbuild/bbs-3.16-bioc/R/site-library/BH/include' -I'/home/biocbuild/bbs-3.16-bioc/R/site-library/Rcpp/include' -I/usr/local/include -fpic -g -O2 -Wall -c altrep.cpp -o altrep.o
g++ -std=gnu++11 -I"/home/biocbuild/bbs-3.16-bioc/R/include" -DNDEBUG -I'/home/biocbuild/bbs-3.16-bioc/R/site-library/BH/include' -I'/home/biocbuild/bbs-3.16-bioc/R/site-library/Rcpp/include' -I/usr/local/include -fpic -g -O2 -Wall -c altrepRegistration.cpp -o altrepRegistration.o
g++ -std=gnu++11 -I"/home/biocbuild/bbs-3.16-bioc/R/include" -DNDEBUG -I'/home/biocbuild/bbs-3.16-bioc/R/site-library/BH/include' -I'/home/biocbuild/bbs-3.16-bioc/R/site-library/Rcpp/include' -I/usr/local/include -fpic -g -O2 -Wall -c numericAltrepOperations.cpp -o numericAltrepOperations.o
g++ -std=gnu++11 -I"/home/biocbuild/bbs-3.16-bioc/R/include" -DNDEBUG -I'/home/biocbuild/bbs-3.16-bioc/R/site-library/BH/include' -I'/home/biocbuild/bbs-3.16-bioc/R/site-library/Rcpp/include' -I/usr/local/include -fpic -g -O2 -Wall -c sharedMemory.cpp -o sharedMemory.o
g++ -std=gnu++11 -I"/home/biocbuild/bbs-3.16-bioc/R/include" -DNDEBUG -I'/home/biocbuild/bbs-3.16-bioc/R/site-library/BH/include' -I'/home/biocbuild/bbs-3.16-bioc/R/site-library/Rcpp/include' -I/usr/local/include -fpic -g -O2 -Wall -c sharedObjectClass.cpp -o sharedObjectClass.o
sharedObjectClass.cpp: In function ‘void validate_shared_memory(std::string, boost::interprocess::shared_memory_object*)’:
sharedObjectClass.cpp:73:14: warning: comparison of integer expressions of different signedness: ‘boost::interprocess::offset_t’ {aka ‘long int’} and ‘size_t’ {aka ‘long unsigned int’} [-Wsign-compare]
73 | if (size > free_size)
| ~~~~~^~~~~~~~~~~
sharedObjectClass.cpp: In member function ‘void SharedObjectClass::openSharedMemoryHandle()’:
sharedObjectClass.cpp:29:12: warning: ‘size’ may be used uninitialized in this function [-Wmaybe-uninitialized]
29 | return size;
| ^~~~
sharedObjectClass.cpp:27:14: note: ‘size’ was declared here
27 | offset_t size;
| ^~~~
sharedObjectClass.cpp: In member function ‘size_t SharedObjectClass::getSharedMemorySize()’:
sharedObjectClass.cpp:29:12: warning: ‘size’ may be used uninitialized in this function [-Wmaybe-uninitialized]
29 | return size;
| ^~~~
sharedObjectClass.cpp:27:14: note: ‘size’ was declared here
27 | offset_t size;
| ^~~~
sharedObjectClass.cpp:29:12: warning: ‘size’ may be used uninitialized in this function [-Wmaybe-uninitialized]
29 | return size;
| ^~~~
sharedObjectClass.cpp:27:14: note: ‘size’ was declared here
27 | offset_t size;
| ^~~~
sharedObjectClass.cpp: In member function ‘void SharedObjectClass::allocateSharedMemory()’:
sharedObjectClass.cpp:29:12: warning: ‘size’ may be used uninitialized in this function [-Wmaybe-uninitialized]
29 | return size;
| ^~~~
sharedObjectClass.cpp:27:14: note: ‘size’ was declared here
27 | offset_t size;
| ^~~~
g++ -std=gnu++11 -I"/home/biocbuild/bbs-3.16-bioc/R/include" -DNDEBUG -I'/home/biocbuild/bbs-3.16-bioc/R/site-library/BH/include' -I'/home/biocbuild/bbs-3.16-bioc/R/site-library/Rcpp/include' -I/usr/local/include -fpic -g -O2 -Wall -c stringAltrepOperations.cpp -o stringAltrepOperations.o
g++ -std=gnu++11 -I"/home/biocbuild/bbs-3.16-bioc/R/include" -DNDEBUG -I'/home/biocbuild/bbs-3.16-bioc/R/site-library/BH/include' -I'/home/biocbuild/bbs-3.16-bioc/R/site-library/Rcpp/include' -I/usr/local/include -fpic -g -O2 -Wall -c utils.cpp -o utils.o
g++ -std=gnu++11 -shared -L/home/biocbuild/bbs-3.16-bioc/R/lib -L/usr/local/lib -o SharedObject.so C_interface.o RcppExports.o altrep.o altrepRegistration.o numericAltrepOperations.o sharedMemory.o sharedObjectClass.o stringAltrepOperations.o utils.o -lrt -L/home/biocbuild/bbs-3.16-bioc/R/lib -lR
ar -crv SharedObject.a *.o
a - C_interface.o
a - RcppExports.o
a - altrep.o
a - altrepRegistration.o
a - numericAltrepOperations.o
a - sharedMemory.o
a - sharedObjectClass.o
a - stringAltrepOperations.o
a - utils.o
cp "sharedMemory.h" "../inst/include/SharedObject/"&&\
cp "SharedObject.a" "../inst/usrlib/"
installing to /home/biocbuild/bbs-3.16-bioc/R/site-library/00LOCK-SharedObject/00new/SharedObject/libs
** R
** inst
** byte-compile and prepare package for lazy loading
** help
*** installing help indices
** building package indices
** installing vignettes
** testing if installed package can be loaded from temporary location
** checking absolute paths in shared objects and dynamic libraries
** testing if installed package can be loaded from final location
** testing if installed package keeps a record of temporary installation path
* DONE (SharedObject)