| Back to Multiple platform build/check report for BioC 3.16: simplified long |
|
This page was generated on 2023-04-12 11:05:51 -0400 (Wed, 12 Apr 2023).
| Hostname | OS | Arch (*) | R version | Installed pkgs |
|---|---|---|---|---|
| nebbiolo2 | Linux (Ubuntu 20.04.5 LTS) | x86_64 | 4.2.3 (2023-03-15) -- "Shortstop Beagle" | 4502 |
| palomino4 | Windows Server 2022 Datacenter | x64 | 4.2.3 (2023-03-15 ucrt) -- "Shortstop Beagle" | 4282 |
| lconway | macOS 12.5.1 Monterey | x86_64 | 4.2.3 (2023-03-15) -- "Shortstop Beagle" | 4310 |
| Click on any hostname to see more info about the system (e.g. compilers) (*) as reported by 'uname -p', except on Windows and Mac OS X | ||||
|
To the developers/maintainers of the SeqArray package: - Please allow up to 24 hours (and sometimes 48 hours) for your latest push to git@git.bioconductor.org:packages/SeqArray.git to reflect on this report. See How and When does the builder pull? When will my changes propagate? for more information. - Make sure to use the following settings in order to reproduce any error or warning you see on this page. |
| Package 1840/2183 | Hostname | OS / Arch | INSTALL | BUILD | CHECK | BUILD BIN | ||||||||
| SeqArray 1.38.0 (landing page) Xiuwen Zheng
| nebbiolo2 | Linux (Ubuntu 20.04.5 LTS) / x86_64 | OK | OK | OK | |||||||||
| palomino4 | Windows Server 2022 Datacenter / x64 | OK | OK | OK | OK | |||||||||
| lconway | macOS 12.5.1 Monterey / x86_64 | OK | OK | OK | OK | |||||||||
| Package: SeqArray |
| Version: 1.38.0 |
| Command: F:\biocbuild\bbs-3.16-bioc\R\bin\R.exe CMD check --no-multiarch --install=check:SeqArray.install-out.txt --library=F:\biocbuild\bbs-3.16-bioc\R\library --no-vignettes --timings SeqArray_1.38.0.tar.gz |
| StartedAt: 2023-04-11 05:54:56 -0400 (Tue, 11 Apr 2023) |
| EndedAt: 2023-04-11 05:57:33 -0400 (Tue, 11 Apr 2023) |
| EllapsedTime: 156.4 seconds |
| RetCode: 0 |
| Status: OK |
| CheckDir: SeqArray.Rcheck |
| Warnings: 0 |
##############################################################################
##############################################################################
###
### Running command:
###
### F:\biocbuild\bbs-3.16-bioc\R\bin\R.exe CMD check --no-multiarch --install=check:SeqArray.install-out.txt --library=F:\biocbuild\bbs-3.16-bioc\R\library --no-vignettes --timings SeqArray_1.38.0.tar.gz
###
##############################################################################
##############################################################################
* using log directory 'F:/biocbuild/bbs-3.16-bioc/meat/SeqArray.Rcheck'
* using R version 4.2.3 (2023-03-15 ucrt)
* using platform: x86_64-w64-mingw32 (64-bit)
* using session charset: UTF-8
* using option '--no-vignettes'
* checking for file 'SeqArray/DESCRIPTION' ... OK
* checking extension type ... Package
* this is package 'SeqArray' version '1.38.0'
* checking package namespace information ... OK
* checking package dependencies ... OK
* checking if this is a source package ... OK
* checking if there is a namespace ... OK
* checking for hidden files and directories ... OK
* checking for portable file names ... OK
* checking whether package 'SeqArray' can be installed ... OK
* checking installed package size ... OK
* checking package directory ... OK
* checking 'build' directory ... OK
* checking DESCRIPTION meta-information ... OK
* checking top-level files ... OK
* checking for left-over files ... OK
* checking index information ... OK
* checking package subdirectories ... OK
* checking R files for non-ASCII characters ... OK
* checking R files for syntax errors ... OK
* checking whether the package can be loaded ... OK
* checking whether the package can be loaded with stated dependencies ... OK
* checking whether the package can be unloaded cleanly ... OK
* checking whether the namespace can be loaded with stated dependencies ... OK
* checking whether the namespace can be unloaded cleanly ... OK
* checking dependencies in R code ... OK
* checking S3 generic/method consistency ... OK
* checking replacement functions ... OK
* checking foreign function calls ... OK
* checking R code for possible problems ... OK
* checking Rd files ... OK
* checking Rd metadata ... OK
* checking Rd cross-references ... OK
* checking for missing documentation entries ... OK
* checking for code/documentation mismatches ... OK
* checking Rd \usage sections ... OK
* checking Rd contents ... OK
* checking for unstated dependencies in examples ... OK
* checking contents of 'data' directory ... OK
* checking data for non-ASCII characters ... OK
* checking LazyData ... OK
* checking data for ASCII and uncompressed saves ... OK
* checking line endings in C/C++/Fortran sources/headers ... OK
* checking line endings in Makefiles ... OK
* checking compilation flags in Makevars ... OK
* checking for GNU extensions in Makefiles ... OK
* checking for portable use of $(BLAS_LIBS) and $(LAPACK_LIBS) ... OK
* checking use of PKG_*FLAGS in Makefiles ... OK
* checking compiled code ... NOTE
Note: information on .o files for x64 is not available
File 'F:/biocbuild/bbs-3.16-bioc/R/library/SeqArray/libs/x64/SeqArray.dll':
Found 'abort', possibly from 'abort' (C), 'runtime' (Fortran)
Found 'exit', possibly from 'exit' (C), 'stop' (Fortran)
File 'SeqArray/libs/x64/SeqArray.dll':
Found non-API calls to R: 'R_GetConnection', 'R_ReadConnection',
'R_WriteConnection', 'R_new_custom_connection'
Compiled code should not call entry points which might terminate R nor
write to stdout/stderr instead of to the console, nor use Fortran I/O
nor system RNGs. The detected symbols are linked into the code but
might come from libraries and not actually be called.
Compiled code should not call non-API entry points in R.
See 'Writing portable packages' in the 'Writing R Extensions' manual.
* checking files in 'vignettes' ... OK
* checking examples ... OK
Examples with CPU (user + system) or elapsed time > 5s
user system elapsed
seqVCF2GDS 0.56 0.15 8.22
* checking for unstated dependencies in 'tests' ... OK
* checking tests ...
Running 'test.R'
OK
* checking for unstated dependencies in vignettes ... OK
* checking package vignettes in 'inst/doc' ... OK
* checking running R code from vignettes ... SKIPPED
* checking re-building of vignette outputs ... SKIPPED
* checking PDF version of manual ... OK
* DONE
Status: 1 NOTE
See
'F:/biocbuild/bbs-3.16-bioc/meat/SeqArray.Rcheck/00check.log'
for details.
SeqArray.Rcheck/00install.out
############################################################################## ############################################################################## ### ### Running command: ### ### F:\biocbuild\bbs-3.16-bioc\R\bin\R.exe CMD INSTALL SeqArray ### ############################################################################## ############################################################################## * installing to library 'F:/biocbuild/bbs-3.16-bioc/R/library' * installing *source* package 'SeqArray' ... ** using staged installation ** libs g++ -std=gnu++14 -I"F:/biocbuild/bbs-3.16-bioc/R/include" -DNDEBUG -DUSING_R -I'F:/biocbuild/bbs-3.16-bioc/R/library/gdsfmt/include' -I"C:/rtools42/x86_64-w64-mingw32.static.posix/include" -O2 -Wall -mfpmath=sse -msse2 -mstackrealign -c ConvGDS2VCF.cpp -o ConvGDS2VCF.o g++ -std=gnu++14 -I"F:/biocbuild/bbs-3.16-bioc/R/include" -DNDEBUG -DUSING_R -I'F:/biocbuild/bbs-3.16-bioc/R/library/gdsfmt/include' -I"C:/rtools42/x86_64-w64-mingw32.static.posix/include" -O2 -Wall -mfpmath=sse -msse2 -mstackrealign -c ConvToGDS.cpp -o ConvToGDS.o g++ -std=gnu++14 -I"F:/biocbuild/bbs-3.16-bioc/R/include" -DNDEBUG -DUSING_R -I'F:/biocbuild/bbs-3.16-bioc/R/library/gdsfmt/include' -I"C:/rtools42/x86_64-w64-mingw32.static.posix/include" -O2 -Wall -mfpmath=sse -msse2 -mstackrealign -c ConvVCF2GDS.cpp -o ConvVCF2GDS.o g++ -std=gnu++14 -I"F:/biocbuild/bbs-3.16-bioc/R/include" -DNDEBUG -DUSING_R -I'F:/biocbuild/bbs-3.16-bioc/R/library/gdsfmt/include' -I"C:/rtools42/x86_64-w64-mingw32.static.posix/include" -O2 -Wall -mfpmath=sse -msse2 -mstackrealign -c FileMerge.cpp -o FileMerge.o g++ -std=gnu++14 -I"F:/biocbuild/bbs-3.16-bioc/R/include" -DNDEBUG -DUSING_R -I'F:/biocbuild/bbs-3.16-bioc/R/library/gdsfmt/include' -I"C:/rtools42/x86_64-w64-mingw32.static.posix/include" -O2 -Wall -mfpmath=sse -msse2 -mstackrealign -c GetData.cpp -o GetData.o g++ -std=gnu++14 -I"F:/biocbuild/bbs-3.16-bioc/R/include" -DNDEBUG -DUSING_R -I'F:/biocbuild/bbs-3.16-bioc/R/library/gdsfmt/include' -I"C:/rtools42/x86_64-w64-mingw32.static.posix/include" -O2 -Wall -mfpmath=sse -msse2 -mstackrealign -c Index.cpp -o Index.o g++ -std=gnu++14 -I"F:/biocbuild/bbs-3.16-bioc/R/include" -DNDEBUG -DUSING_R -I'F:/biocbuild/bbs-3.16-bioc/R/library/gdsfmt/include' -I"C:/rtools42/x86_64-w64-mingw32.static.posix/include" -O2 -Wall -mfpmath=sse -msse2 -mstackrealign -c LinkSNPRelate.cpp -o LinkSNPRelate.o g++ -std=gnu++14 -I"F:/biocbuild/bbs-3.16-bioc/R/include" -DNDEBUG -DUSING_R -I'F:/biocbuild/bbs-3.16-bioc/R/library/gdsfmt/include' -I"C:/rtools42/x86_64-w64-mingw32.static.posix/include" -O2 -Wall -mfpmath=sse -msse2 -mstackrealign -c Methods.cpp -o Methods.o gcc -I"F:/biocbuild/bbs-3.16-bioc/R/include" -DNDEBUG -DUSING_R -I'F:/biocbuild/bbs-3.16-bioc/R/library/gdsfmt/include' -I"C:/rtools42/x86_64-w64-mingw32.static.posix/include" -O2 -Wall -std=gnu99 -mfpmath=sse -msse2 -mstackrealign -c R_SeqArray.c -o R_SeqArray.o g++ -std=gnu++14 -I"F:/biocbuild/bbs-3.16-bioc/R/include" -DNDEBUG -DUSING_R -I'F:/biocbuild/bbs-3.16-bioc/R/library/gdsfmt/include' -I"C:/rtools42/x86_64-w64-mingw32.static.posix/include" -O2 -Wall -mfpmath=sse -msse2 -mstackrealign -c ReadBySample.cpp -o ReadBySample.o g++ -std=gnu++14 -I"F:/biocbuild/bbs-3.16-bioc/R/include" -DNDEBUG -DUSING_R -I'F:/biocbuild/bbs-3.16-bioc/R/library/gdsfmt/include' -I"C:/rtools42/x86_64-w64-mingw32.static.posix/include" -O2 -Wall -mfpmath=sse -msse2 -mstackrealign -c ReadByUnit.cpp -o ReadByUnit.o g++ -std=gnu++14 -I"F:/biocbuild/bbs-3.16-bioc/R/include" -DNDEBUG -DUSING_R -I'F:/biocbuild/bbs-3.16-bioc/R/library/gdsfmt/include' -I"C:/rtools42/x86_64-w64-mingw32.static.posix/include" -O2 -Wall -mfpmath=sse -msse2 -mstackrealign -c ReadByVariant.cpp -o ReadByVariant.o g++ -std=gnu++14 -I"F:/biocbuild/bbs-3.16-bioc/R/include" -DNDEBUG -DUSING_R -I'F:/biocbuild/bbs-3.16-bioc/R/library/gdsfmt/include' -I"C:/rtools42/x86_64-w64-mingw32.static.posix/include" -O2 -Wall -mfpmath=sse -msse2 -mstackrealign -c SeqArray.cpp -o SeqArray.o g++ -std=gnu++14 -I"F:/biocbuild/bbs-3.16-bioc/R/include" -DNDEBUG -DUSING_R -I'F:/biocbuild/bbs-3.16-bioc/R/library/gdsfmt/include' -I"C:/rtools42/x86_64-w64-mingw32.static.posix/include" -O2 -Wall -mfpmath=sse -msse2 -mstackrealign -c pkg_test.cpp -o pkg_test.o gcc -I"F:/biocbuild/bbs-3.16-bioc/R/include" -DNDEBUG -DUSING_R -I'F:/biocbuild/bbs-3.16-bioc/R/library/gdsfmt/include' -I"C:/rtools42/x86_64-w64-mingw32.static.posix/include" -O2 -Wall -std=gnu99 -mfpmath=sse -msse2 -mstackrealign -c samtools_ext.c -o samtools_ext.o gcc -I"F:/biocbuild/bbs-3.16-bioc/R/include" -DNDEBUG -DUSING_R -I'F:/biocbuild/bbs-3.16-bioc/R/library/gdsfmt/include' -I"C:/rtools42/x86_64-w64-mingw32.static.posix/include" -O2 -Wall -std=gnu99 -mfpmath=sse -msse2 -mstackrealign -c vectorization.c -o vectorization.o g++ -std=gnu++14 -shared -s -static-libgcc -o SeqArray.dll tmp.def ConvGDS2VCF.o ConvToGDS.o ConvVCF2GDS.o FileMerge.o GetData.o Index.o LinkSNPRelate.o Methods.o R_SeqArray.o ReadBySample.o ReadByUnit.o ReadByVariant.o SeqArray.o pkg_test.o samtools_ext.o vectorization.o -LC:/rtools42/x86_64-w64-mingw32.static.posix/lib/x64 -LC:/rtools42/x86_64-w64-mingw32.static.posix/lib -LF:/biocbuild/bbs-3.16-bioc/R/bin/x64 -lR installing to F:/biocbuild/bbs-3.16-bioc/R/library/00LOCK-SeqArray/00new/SeqArray/libs/x64 ** R ** data *** moving datasets to lazyload DB ** inst ** byte-compile and prepare package for lazy loading ** help *** installing help indices ** building package indices ** installing vignettes ** testing if installed package can be loaded from temporary location ** testing if installed package can be loaded from final location ** testing if installed package keeps a record of temporary installation path * DONE (SeqArray)
SeqArray.Rcheck/tests/test.Rout
R version 4.2.3 (2023-03-15 ucrt) -- "Shortstop Beagle"
Copyright (C) 2023 The R Foundation for Statistical Computing
Platform: x86_64-w64-mingw32/x64 (64-bit)
R is free software and comes with ABSOLUTELY NO WARRANTY.
You are welcome to redistribute it under certain conditions.
Type 'license()' or 'licence()' for distribution details.
R is a collaborative project with many contributors.
Type 'contributors()' for more information and
'citation()' on how to cite R or R packages in publications.
Type 'demo()' for some demos, 'help()' for on-line help, or
'help.start()' for an HTML browser interface to help.
Type 'q()' to quit R.
> if (.Platform$OS.type != "windows")
+ BiocGenerics:::testPackage("SeqArray")
>
> proc.time()
user system elapsed
0.12 0.07 0.18
SeqArray.Rcheck/SeqArray-Ex.timings
| name | user | system | elapsed | |
| SeqArray-package | 0.58 | 0.03 | 0.68 | |
| SeqVarGDSClass-class | 0.22 | 0.00 | 0.22 | |
| seqAddValue | 0.15 | 0.03 | 0.22 | |
| seqAlleleFreq | 0.06 | 0.00 | 0.06 | |
| seqApply | 0.16 | 0.05 | 0.22 | |
| seqAsVCF | 0 | 0 | 0 | |
| seqBED2GDS | 0.28 | 0.09 | 0.51 | |
| seqBlockApply | 0.1 | 0.0 | 0.1 | |
| seqCheck | 0.01 | 0.00 | 0.01 | |
| seqDelete | 0.17 | 0.00 | 0.22 | |
| seqDigest | 0.02 | 0.00 | 0.02 | |
| seqEmptyFile | 0.02 | 0.00 | 0.03 | |
| seqExampleFileName | 0.02 | 0.00 | 0.02 | |
| seqExport | 0.43 | 0.11 | 0.66 | |
| seqGDS2SNP | 0.08 | 0.02 | 0.12 | |
| seqGDS2VCF | 0.31 | 0.01 | 0.33 | |
| seqGet2bGeno | 0 | 0 | 0 | |
| seqGetData | 1.58 | 0.02 | 1.59 | |
| seqGetFilter | 0.11 | 0.00 | 0.11 | |
| seqMerge | 1.11 | 0.21 | 1.52 | |
| seqMissing | 0.06 | 0.01 | 0.08 | |
| seqNewVarData | 0.01 | 0.00 | 0.01 | |
| seqNumAllele | 0 | 0 | 0 | |
| seqOpen | 0.08 | 0.00 | 0.08 | |
| seqOptimize | 0.24 | 0.08 | 0.38 | |
| seqParallel | 0.08 | 0.03 | 4.20 | |
| seqParallelSetup | 0.10 | 0.00 | 4.22 | |
| seqRecompress | 0.22 | 0.11 | 0.41 | |
| seqResetVariantID | 0.01 | 0.03 | 0.17 | |
| seqSNP2GDS | 1.29 | 0.03 | 1.44 | |
| seqSetFilter | 0.07 | 0.00 | 0.08 | |
| seqSetFilterCond | 0.05 | 0.00 | 0.05 | |
| seqStorageOption | 0.78 | 0.11 | 1.16 | |
| seqSummary | 0.11 | 0.02 | 0.12 | |
| seqSystem | 0 | 0 | 0 | |
| seqTranspose | 0.23 | 0.01 | 0.28 | |
| seqUnitApply | 0.22 | 0.02 | 4.55 | |
| seqUnitFilterCond | 0.05 | 0.00 | 0.05 | |
| seqUnitSlidingWindows | 0.03 | 0.02 | 0.04 | |
| seqUnitSubset | 0.05 | 0.00 | 0.05 | |
| seqVCF2GDS | 0.56 | 0.15 | 8.22 | |
| seqVCF_Header | 0.17 | 0.00 | 0.17 | |
| seqVCF_SampID | 0 | 0 | 0 | |