| Back to Multiple platform build/check report for BioC 3.16: simplified long |
|
This page was generated on 2023-04-12 11:06:25 -0400 (Wed, 12 Apr 2023).
| Hostname | OS | Arch (*) | R version | Installed pkgs |
|---|---|---|---|---|
| nebbiolo2 | Linux (Ubuntu 20.04.5 LTS) | x86_64 | 4.2.3 (2023-03-15) -- "Shortstop Beagle" | 4502 |
| palomino4 | Windows Server 2022 Datacenter | x64 | 4.2.3 (2023-03-15 ucrt) -- "Shortstop Beagle" | 4282 |
| lconway | macOS 12.5.1 Monterey | x86_64 | 4.2.3 (2023-03-15) -- "Shortstop Beagle" | 4310 |
| Click on any hostname to see more info about the system (e.g. compilers) (*) as reported by 'uname -p', except on Windows and Mac OS X | ||||
|
To the developers/maintainers of the ScreenR package: - Please allow up to 24 hours (and sometimes 48 hours) for your latest push to git@git.bioconductor.org:packages/ScreenR.git to reflect on this report. See How and When does the builder pull? When will my changes propagate? for more information. - Make sure to use the following settings in order to reproduce any error or warning you see on this page. |
| Package 1819/2183 | Hostname | OS / Arch | INSTALL | BUILD | CHECK | BUILD BIN | ||||||||
| ScreenR 1.0.0 (landing page) Emanuel Michele Soda
| nebbiolo2 | Linux (Ubuntu 20.04.5 LTS) / x86_64 | OK | OK | OK | |||||||||
| palomino4 | Windows Server 2022 Datacenter / x64 | OK | OK | OK | OK | |||||||||
| lconway | macOS 12.5.1 Monterey / x86_64 | OK | OK | OK | OK | |||||||||
| Package: ScreenR |
| Version: 1.0.0 |
| Command: /Library/Frameworks/R.framework/Resources/bin/R CMD check --install=check:ScreenR.install-out.txt --library=/Library/Frameworks/R.framework/Resources/library --no-vignettes --timings ScreenR_1.0.0.tar.gz |
| StartedAt: 2023-04-10 22:34:12 -0400 (Mon, 10 Apr 2023) |
| EndedAt: 2023-04-10 22:37:58 -0400 (Mon, 10 Apr 2023) |
| EllapsedTime: 226.2 seconds |
| RetCode: 0 |
| Status: OK |
| CheckDir: ScreenR.Rcheck |
| Warnings: 0 |
##############################################################################
##############################################################################
###
### Running command:
###
### /Library/Frameworks/R.framework/Resources/bin/R CMD check --install=check:ScreenR.install-out.txt --library=/Library/Frameworks/R.framework/Resources/library --no-vignettes --timings ScreenR_1.0.0.tar.gz
###
##############################################################################
##############################################################################
* using log directory ‘/Users/biocbuild/bbs-3.16-bioc/meat/ScreenR.Rcheck’
* using R version 4.2.3 (2023-03-15)
* using platform: x86_64-apple-darwin17.0 (64-bit)
* using session charset: UTF-8
* using option ‘--no-vignettes’
* checking for file ‘ScreenR/DESCRIPTION’ ... OK
* checking extension type ... Package
* this is package ‘ScreenR’ version ‘1.0.0’
* package encoding: UTF-8
* checking package namespace information ... OK
* checking package dependencies ... OK
* checking if this is a source package ... OK
* checking if there is a namespace ... OK
* checking for hidden files and directories ... OK
* checking for portable file names ... OK
* checking for sufficient/correct file permissions ... OK
* checking whether package ‘ScreenR’ can be installed ... OK
* checking installed package size ... OK
* checking package directory ... OK
* checking ‘build’ directory ... OK
* checking DESCRIPTION meta-information ... OK
* checking top-level files ... OK
* checking for left-over files ... OK
* checking index information ... OK
* checking package subdirectories ... OK
* checking R files for non-ASCII characters ... OK
* checking R files for syntax errors ... OK
* checking whether the package can be loaded ... OK
* checking whether the package can be loaded with stated dependencies ... OK
* checking whether the package can be unloaded cleanly ... OK
* checking whether the namespace can be loaded with stated dependencies ... OK
* checking whether the namespace can be unloaded cleanly ... OK
* checking dependencies in R code ... OK
* checking S3 generic/method consistency ... OK
* checking replacement functions ... OK
* checking foreign function calls ... OK
* checking R code for possible problems ... OK
* checking Rd files ... OK
* checking Rd metadata ... OK
* checking Rd cross-references ... OK
* checking for missing documentation entries ... OK
* checking for code/documentation mismatches ... OK
* checking Rd \usage sections ... OK
* checking Rd contents ... OK
* checking for unstated dependencies in examples ... OK
* checking contents of ‘data’ directory ... OK
* checking data for non-ASCII characters ... OK
* checking data for ASCII and uncompressed saves ... OK
* checking R/sysdata.rda ... OK
* checking files in ‘vignettes’ ... OK
* checking examples ... OK
Examples with CPU (user + system) or elapsed time > 5s
user system elapsed
plot_barcode_trend 34.130 5.035 39.354
plot_zscore_distribution 32.081 4.841 37.047
compute_metrics 19.254 1.527 20.891
find_zscore_hit 15.150 2.399 17.597
find_robust_zscore_hit 14.870 1.881 16.819
plot_mapped_reads_distribution 2.154 2.924 5.286
* checking for unstated dependencies in ‘tests’ ... OK
* checking tests ...
Running ‘testthat.R’
OK
* checking for unstated dependencies in vignettes ... OK
* checking package vignettes in ‘inst/doc’ ... OK
* checking running R code from vignettes ... SKIPPED
* checking re-building of vignette outputs ... SKIPPED
* checking PDF version of manual ... OK
* DONE
Status: OK
ScreenR.Rcheck/00install.out
############################################################################## ############################################################################## ### ### Running command: ### ### /Library/Frameworks/R.framework/Resources/bin/R CMD INSTALL ScreenR ### ############################################################################## ############################################################################## * installing to library ‘/Library/Frameworks/R.framework/Versions/4.2/Resources/library’ * installing *source* package ‘ScreenR’ ... ** using staged installation ** R ** data ** inst ** byte-compile and prepare package for lazy loading ** help *** installing help indices *** copying figures ** building package indices ** installing vignettes ** testing if installed package can be loaded from temporary location ** testing if installed package can be loaded from final location ** testing if installed package keeps a record of temporary installation path * DONE (ScreenR)
ScreenR.Rcheck/tests/testthat.Rout
R version 4.2.3 (2023-03-15) -- "Shortstop Beagle"
Copyright (C) 2023 The R Foundation for Statistical Computing
Platform: x86_64-apple-darwin17.0 (64-bit)
R is free software and comes with ABSOLUTELY NO WARRANTY.
You are welcome to redistribute it under certain conditions.
Type 'license()' or 'licence()' for distribution details.
R is a collaborative project with many contributors.
Type 'contributors()' for more information and
'citation()' on how to cite R or R packages in publications.
Type 'demo()' for some demos, 'help()' for on-line help, or
'help.start()' for an HTML browser interface to help.
Type 'q()' to quit R.
> library(testthat)
> library(ScreenR)
Welcome to ScreenR
--------------------------
See ?ScreenR for a list of
available functions.
Enjoy!
>
> test_check("ScreenR")
ScreenR count table containing:
5320 rows
15 columns
ScreenR annotation table containing:
5320 rows
5 columns
ScreenR normalized count table containing:
5320 rows
15 columns
ScreenR normalized data table containing:
74480 rows
9 columns
ScreenR annotation table containing:
5320 rows
5 columns
ScreenR annotation table containing:
5320 rows
5 columns
ScreenR count table containing:
5320 rows
15 columns
ScreenR count table containing:
5320 rows
15 columns
ScreenR normalized count table containing:
5320 rows
15 columns
ScreenR normalized count table containing:
5320 rows
15 columns
ScreenR normalized data table containing:
74480 rows
9 columns
ScreenR normalized data table containing:
74480 rows
9 columns
Using classic mode.
[ FAIL 0 | WARN 253 | SKIP 0 | PASS 64 ]
[ FAIL 0 | WARN 253 | SKIP 0 | PASS 64 ]
>
> proc.time()
user system elapsed
22.856 0.974 23.869
ScreenR.Rcheck/ScreenR-Ex.timings
| name | user | system | elapsed | |
| barcode_lost | 0.210 | 0.043 | 0.253 | |
| compute_data_table | 0.279 | 0.011 | 0.291 | |
| compute_explained_variance | 0.020 | 0.003 | 0.023 | |
| compute_metrics | 19.254 | 1.527 | 20.891 | |
| compute_slope | 0.055 | 0.002 | 0.059 | |
| count_mapped_reads | 0.084 | 0.023 | 0.107 | |
| create_edger_obj | 0.028 | 0.001 | 0.029 | |
| create_screenr_object | 0.035 | 0.001 | 0.036 | |
| filter_by_slope | 0.119 | 0.004 | 0.123 | |
| filter_by_variance | 0.917 | 0.026 | 0.945 | |
| find_camera_hit | 0.970 | 0.044 | 1.013 | |
| find_common_hit | 0.040 | 0.028 | 0.068 | |
| find_roast_hit | 1.484 | 0.051 | 1.537 | |
| find_robust_zscore_hit | 14.870 | 1.881 | 16.819 | |
| find_zscore_hit | 15.150 | 2.399 | 17.597 | |
| get_annotation_table | 0.019 | 0.001 | 0.020 | |
| get_count_table | 0.090 | 0.005 | 0.105 | |
| get_data_table | 0.026 | 0.000 | 0.026 | |
| get_groups | 0 | 0 | 0 | |
| get_normalized_count_table | 0.033 | 0.001 | 0.035 | |
| get_replicates | 0 | 0 | 0 | |
| mapped_reads | 0.107 | 0.023 | 0.131 | |
| normalize_data | 0.039 | 0.000 | 0.040 | |
| plot_barcode_hit | 1.035 | 0.038 | 1.080 | |
| plot_barcode_lost | 0.329 | 0.039 | 0.368 | |
| plot_barcode_lost_for_gene | 1.152 | 0.018 | 1.172 | |
| plot_barcode_trend | 34.130 | 5.035 | 39.354 | |
| plot_boxplot | 0.394 | 0.072 | 0.466 | |
| plot_common_hit | 0.193 | 0.004 | 0.198 | |
| plot_explained_variance | 0.355 | 0.006 | 0.361 | |
| plot_mapped_reads | 0.223 | 0.021 | 0.245 | |
| plot_mapped_reads_distribution | 2.154 | 2.924 | 5.286 | |
| plot_mds | 0.383 | 0.032 | 0.419 | |
| plot_trend | 1.335 | 0.099 | 1.439 | |
| plot_zscore_distribution | 32.081 | 4.841 | 37.047 | |
| remove_all_zero_row | 0.010 | 0.001 | 0.011 | |
| set_annotation_table | 0.107 | 0.001 | 0.107 | |
| set_count_table | 0.093 | 0.001 | 0.094 | |
| set_data_table | 0.117 | 0.002 | 0.119 | |
| set_groups | 0.106 | 0.001 | 0.106 | |
| set_normalized_count_table | 0.156 | 0.001 | 0.157 | |
| set_replicates | 0.137 | 0.001 | 0.139 | |