| Back to Multiple platform build/check report for BioC 3.16: simplified long |
|
This page was generated on 2023-04-12 11:06:25 -0400 (Wed, 12 Apr 2023).
| Hostname | OS | Arch (*) | R version | Installed pkgs |
|---|---|---|---|---|
| nebbiolo2 | Linux (Ubuntu 20.04.5 LTS) | x86_64 | 4.2.3 (2023-03-15) -- "Shortstop Beagle" | 4502 |
| palomino4 | Windows Server 2022 Datacenter | x64 | 4.2.3 (2023-03-15 ucrt) -- "Shortstop Beagle" | 4282 |
| lconway | macOS 12.5.1 Monterey | x86_64 | 4.2.3 (2023-03-15) -- "Shortstop Beagle" | 4310 |
| Click on any hostname to see more info about the system (e.g. compilers) (*) as reported by 'uname -p', except on Windows and Mac OS X | ||||
|
To the developers/maintainers of the Sconify package: - Please allow up to 24 hours (and sometimes 48 hours) for your latest push to git@git.bioconductor.org:packages/Sconify.git to reflect on this report. See How and When does the builder pull? When will my changes propagate? for more information. - Make sure to use the following settings in order to reproduce any error or warning you see on this page. |
| Package 1810/2183 | Hostname | OS / Arch | INSTALL | BUILD | CHECK | BUILD BIN | ||||||||
| Sconify 1.18.0 (landing page) Tyler J Burns
| nebbiolo2 | Linux (Ubuntu 20.04.5 LTS) / x86_64 | OK | OK | OK | |||||||||
| palomino4 | Windows Server 2022 Datacenter / x64 | OK | OK | OK | OK | |||||||||
| lconway | macOS 12.5.1 Monterey / x86_64 | OK | OK | OK | OK | |||||||||
| Package: Sconify |
| Version: 1.18.0 |
| Command: /Library/Frameworks/R.framework/Resources/bin/R CMD check --install=check:Sconify.install-out.txt --library=/Library/Frameworks/R.framework/Resources/library --no-vignettes --timings Sconify_1.18.0.tar.gz |
| StartedAt: 2023-04-10 22:32:40 -0400 (Mon, 10 Apr 2023) |
| EndedAt: 2023-04-10 22:34:22 -0400 (Mon, 10 Apr 2023) |
| EllapsedTime: 102.3 seconds |
| RetCode: 0 |
| Status: OK |
| CheckDir: Sconify.Rcheck |
| Warnings: 0 |
##############################################################################
##############################################################################
###
### Running command:
###
### /Library/Frameworks/R.framework/Resources/bin/R CMD check --install=check:Sconify.install-out.txt --library=/Library/Frameworks/R.framework/Resources/library --no-vignettes --timings Sconify_1.18.0.tar.gz
###
##############################################################################
##############################################################################
* using log directory ‘/Users/biocbuild/bbs-3.16-bioc/meat/Sconify.Rcheck’
* using R version 4.2.3 (2023-03-15)
* using platform: x86_64-apple-darwin17.0 (64-bit)
* using session charset: UTF-8
* using option ‘--no-vignettes’
* checking for file ‘Sconify/DESCRIPTION’ ... OK
* checking extension type ... Package
* this is package ‘Sconify’ version ‘1.18.0’
* package encoding: UTF-8
* checking package namespace information ... OK
* checking package dependencies ... OK
* checking if this is a source package ... OK
* checking if there is a namespace ... OK
* checking for hidden files and directories ... OK
* checking for portable file names ... OK
* checking for sufficient/correct file permissions ... OK
* checking whether package ‘Sconify’ can be installed ... OK
* checking installed package size ... OK
* checking package directory ... OK
* checking ‘build’ directory ... OK
* checking DESCRIPTION meta-information ... OK
* checking top-level files ... OK
* checking for left-over files ... OK
* checking index information ... OK
* checking package subdirectories ... OK
* checking R files for non-ASCII characters ... OK
* checking R files for syntax errors ... OK
* checking whether the package can be loaded ... OK
* checking whether the package can be loaded with stated dependencies ... OK
* checking whether the package can be unloaded cleanly ... OK
* checking whether the namespace can be loaded with stated dependencies ... OK
* checking whether the namespace can be unloaded cleanly ... OK
* checking dependencies in R code ... OK
* checking S3 generic/method consistency ... OK
* checking replacement functions ... OK
* checking foreign function calls ... OK
* checking R code for possible problems ... OK
* checking Rd files ... OK
* checking Rd metadata ... OK
* checking Rd cross-references ... OK
* checking for missing documentation entries ... OK
* checking for code/documentation mismatches ... OK
* checking Rd \usage sections ... OK
* checking Rd contents ... OK
* checking for unstated dependencies in examples ... OK
* checking contents of ‘data’ directory ... OK
* checking data for non-ASCII characters ... OK
* checking LazyData ... OK
* checking data for ASCII and uncompressed saves ... OK
* checking files in ‘vignettes’ ... OK
* checking examples ... OK
Examples with CPU (user + system) or elapsed time > 5s
user system elapsed
SconeValues 10.024 0.24 10.3
* checking for unstated dependencies in ‘tests’ ... OK
* checking tests ...
Running ‘testthat.R’
OK
* checking for unstated dependencies in vignettes ... OK
* checking package vignettes in ‘inst/doc’ ... OK
* checking running R code from vignettes ... SKIPPED
* checking re-building of vignette outputs ... SKIPPED
* checking PDF version of manual ... OK
* DONE
Status: OK
Sconify.Rcheck/00install.out
############################################################################## ############################################################################## ### ### Running command: ### ### /Library/Frameworks/R.framework/Resources/bin/R CMD INSTALL Sconify ### ############################################################################## ############################################################################## * installing to library ‘/Library/Frameworks/R.framework/Versions/4.2/Resources/library’ * installing *source* package ‘Sconify’ ... ** using staged installation ** R ** data *** moving datasets to lazyload DB ** inst ** byte-compile and prepare package for lazy loading Note: wrong number of arguments to '/' Note: wrong number of arguments to 'asinh' ** help *** installing help indices ** building package indices ** installing vignettes ** testing if installed package can be loaded from temporary location ** testing if installed package can be loaded from final location ** testing if installed package keeps a record of temporary installation path * DONE (Sconify)
Sconify.Rcheck/tests/testthat.Rout
R version 4.2.3 (2023-03-15) -- "Shortstop Beagle"
Copyright (C) 2023 The R Foundation for Statistical Computing
Platform: x86_64-apple-darwin17.0 (64-bit)
R is free software and comes with ABSOLUTELY NO WARRANTY.
You are welcome to redistribute it under certain conditions.
Type 'license()' or 'licence()' for distribution details.
R is a collaborative project with many contributors.
Type 'contributors()' for more information and
'citation()' on how to cite R or R packages in publications.
Type 'demo()' for some demos, 'help()' for on-line help, or
'help.start()' for an HTML browser interface to help.
Type 'q()' to quit R.
> library(testthat)
> library(Sconify)
>
> test_check("Sconify")
Read the 100 x 27 data matrix successfully!
Using no_dims = 2, perplexity = 30.000000, and theta = 0.500000
Computing input similarities...
Building tree...
Done in 0.01 seconds (sparsity = 0.967400)!
Learning embedding...
Iteration 50: error is 51.374165 (50 iterations in 0.01 seconds)
Iteration 100: error is 54.205378 (50 iterations in 0.01 seconds)
Iteration 150: error is 54.879385 (50 iterations in 0.01 seconds)
Iteration 200: error is 53.385081 (50 iterations in 0.01 seconds)
Iteration 250: error is 51.331757 (50 iterations in 0.01 seconds)
Iteration 300: error is 1.443904 (50 iterations in 0.01 seconds)
Iteration 350: error is 0.537084 (50 iterations in 0.01 seconds)
Iteration 400: error is 0.194005 (50 iterations in 0.01 seconds)
Iteration 450: error is 0.174182 (50 iterations in 0.01 seconds)
Iteration 500: error is 0.166976 (50 iterations in 0.01 seconds)
Iteration 550: error is 0.164566 (50 iterations in 0.01 seconds)
Iteration 600: error is 0.163935 (50 iterations in 0.01 seconds)
Iteration 650: error is 0.161159 (50 iterations in 0.01 seconds)
Iteration 700: error is 0.159849 (50 iterations in 0.01 seconds)
Iteration 750: error is 0.160773 (50 iterations in 0.01 seconds)
Iteration 800: error is 0.160146 (50 iterations in 0.01 seconds)
Iteration 850: error is 0.160604 (50 iterations in 0.01 seconds)
Iteration 900: error is 0.159874 (50 iterations in 0.01 seconds)
Iteration 950: error is 0.159834 (50 iterations in 0.01 seconds)
Iteration 1000: error is 0.161482 (50 iterations in 0.01 seconds)
Fitting performed in 0.14 seconds.
Read the 1000 x 27 data matrix successfully!
Using no_dims = 2, perplexity = 30.000000, and theta = 0.500000
Computing input similarities...
Building tree...
Done in 0.10 seconds (sparsity = 0.129120)!
Learning embedding...
Iteration 50: error is 64.019939 (50 iterations in 0.23 seconds)
Iteration 100: error is 60.683163 (50 iterations in 0.12 seconds)
Iteration 150: error is 60.331922 (50 iterations in 0.13 seconds)
Iteration 200: error is 60.219518 (50 iterations in 0.15 seconds)
Iteration 250: error is 60.156763 (50 iterations in 0.16 seconds)
Iteration 300: error is 1.339248 (50 iterations in 0.11 seconds)
Iteration 350: error is 1.227806 (50 iterations in 0.10 seconds)
Iteration 400: error is 1.193748 (50 iterations in 0.10 seconds)
Iteration 450: error is 1.181638 (50 iterations in 0.11 seconds)
Iteration 500: error is 1.174011 (50 iterations in 0.11 seconds)
Iteration 550: error is 1.169386 (50 iterations in 0.10 seconds)
Iteration 600: error is 1.165967 (50 iterations in 0.12 seconds)
Iteration 650: error is 1.161909 (50 iterations in 0.11 seconds)
Iteration 700: error is 1.157960 (50 iterations in 0.11 seconds)
Iteration 750: error is 1.155199 (50 iterations in 0.09 seconds)
Iteration 800: error is 1.152910 (50 iterations in 0.11 seconds)
Iteration 850: error is 1.150414 (50 iterations in 0.12 seconds)
Iteration 900: error is 1.150509 (50 iterations in 0.13 seconds)
Iteration 950: error is 1.149267 (50 iterations in 0.13 seconds)
Iteration 1000: error is 1.146851 (50 iterations in 0.10 seconds)
Fitting performed in 2.44 seconds.
[ FAIL 0 | WARN 4 | SKIP 0 | PASS 72 ]
[ FAIL 0 | WARN 4 | SKIP 0 | PASS 72 ]
>
> proc.time()
user system elapsed
16.233 0.571 16.885
Sconify.Rcheck/Sconify-Ex.timings
| name | user | system | elapsed | |
| FcsToTibble | 0.108 | 0.005 | 0.114 | |
| Fnn | 0.268 | 0.729 | 1.000 | |
| GetKnnDe | 0.054 | 0.005 | 0.058 | |
| GetMarkerNames | 0.024 | 0.002 | 0.026 | |
| ImputeTesting | 2.702 | 0.020 | 2.737 | |
| MakeHist | 0.262 | 0.008 | 0.271 | |
| MakeKnnList | 0.242 | 0.006 | 0.247 | |
| MeaningOfLife | 0.001 | 0.000 | 0.000 | |
| ParseMarkers | 0.224 | 0.019 | 0.253 | |
| PostProcessing | 0.126 | 0.006 | 0.133 | |
| ProcessMultipleFiles | 0.103 | 0.004 | 0.111 | |
| QuantNormalizeElements | 0.185 | 0.002 | 0.188 | |
| SconeValues | 10.024 | 0.240 | 10.300 | |
| SplitFile | 0.075 | 0.003 | 0.079 | |
| StringToNumbers | 0 | 0 | 0 | |
| SubsampleAndTsne | 1.302 | 0.044 | 1.355 | |
| TsneVis | 0.163 | 0.003 | 0.166 | |