| Back to Multiple platform build/check report for BioC 3.16: simplified long |
|
This page was generated on 2023-04-12 11:05:20 -0400 (Wed, 12 Apr 2023).
| Hostname | OS | Arch (*) | R version | Installed pkgs |
|---|---|---|---|---|
| nebbiolo2 | Linux (Ubuntu 20.04.5 LTS) | x86_64 | 4.2.3 (2023-03-15) -- "Shortstop Beagle" | 4502 |
| palomino4 | Windows Server 2022 Datacenter | x64 | 4.2.3 (2023-03-15 ucrt) -- "Shortstop Beagle" | 4282 |
| lconway | macOS 12.5.1 Monterey | x86_64 | 4.2.3 (2023-03-15) -- "Shortstop Beagle" | 4310 |
| Click on any hostname to see more info about the system (e.g. compilers) (*) as reported by 'uname -p', except on Windows and Mac OS X | ||||
|
To the developers/maintainers of the SPIAT package: - Please allow up to 24 hours (and sometimes 48 hours) for your latest push to git@git.bioconductor.org:packages/SPIAT.git to reflect on this report. See How and When does the builder pull? When will my changes propagate? for more information. - Make sure to use the following settings in order to reproduce any error or warning you see on this page. |
| Package 1938/2183 | Hostname | OS / Arch | INSTALL | BUILD | CHECK | BUILD BIN | ||||||||
| SPIAT 1.0.4 (landing page) Yuzhou Feng
| nebbiolo2 | Linux (Ubuntu 20.04.5 LTS) / x86_64 | OK | OK | OK | |||||||||
| palomino4 | Windows Server 2022 Datacenter / x64 | OK | OK | OK | OK | |||||||||
| lconway | macOS 12.5.1 Monterey / x86_64 | OK | OK | OK | OK | |||||||||
| Package: SPIAT |
| Version: 1.0.4 |
| Command: /home/biocbuild/bbs-3.16-bioc/R/bin/R CMD check --install=check:SPIAT.install-out.txt --library=/home/biocbuild/bbs-3.16-bioc/R/site-library --timings SPIAT_1.0.4.tar.gz |
| StartedAt: 2023-04-11 00:14:36 -0400 (Tue, 11 Apr 2023) |
| EndedAt: 2023-04-11 00:24:22 -0400 (Tue, 11 Apr 2023) |
| EllapsedTime: 586.8 seconds |
| RetCode: 0 |
| Status: OK |
| CheckDir: SPIAT.Rcheck |
| Warnings: 0 |
##############################################################################
##############################################################################
###
### Running command:
###
### /home/biocbuild/bbs-3.16-bioc/R/bin/R CMD check --install=check:SPIAT.install-out.txt --library=/home/biocbuild/bbs-3.16-bioc/R/site-library --timings SPIAT_1.0.4.tar.gz
###
##############################################################################
##############################################################################
* using log directory ‘/home/biocbuild/bbs-3.16-bioc/meat/SPIAT.Rcheck’
* using R version 4.2.3 (2023-03-15)
* using platform: x86_64-pc-linux-gnu (64-bit)
* using session charset: UTF-8
* checking for file ‘SPIAT/DESCRIPTION’ ... OK
* checking extension type ... Package
* this is package ‘SPIAT’ version ‘1.0.4’
* package encoding: UTF-8
* checking package namespace information ... OK
* checking package dependencies ... OK
* checking if this is a source package ... OK
* checking if there is a namespace ... OK
* checking for hidden files and directories ... OK
* checking for portable file names ... OK
* checking for sufficient/correct file permissions ... OK
* checking whether package ‘SPIAT’ can be installed ... OK
* checking installed package size ... OK
* checking package directory ... OK
* checking ‘build’ directory ... OK
* checking DESCRIPTION meta-information ... OK
* checking top-level files ... OK
* checking for left-over files ... OK
* checking index information ... OK
* checking package subdirectories ... OK
* checking R files for non-ASCII characters ... OK
* checking R files for syntax errors ... OK
* checking whether the package can be loaded ... OK
* checking whether the package can be loaded with stated dependencies ... OK
* checking whether the package can be unloaded cleanly ... OK
* checking whether the namespace can be loaded with stated dependencies ... OK
* checking whether the namespace can be unloaded cleanly ... OK
* checking loading without being on the library search path ... OK
* checking dependencies in R code ... OK
* checking S3 generic/method consistency ... OK
* checking replacement functions ... OK
* checking foreign function calls ... OK
* checking R code for possible problems ... OK
* checking Rd files ... OK
* checking Rd metadata ... OK
* checking Rd cross-references ... OK
* checking for missing documentation entries ... OK
* checking for code/documentation mismatches ... OK
* checking Rd \usage sections ... OK
* checking Rd contents ... OK
* checking for unstated dependencies in examples ... OK
* checking contents of ‘data’ directory ... OK
* checking data for non-ASCII characters ... OK
* checking LazyData ... OK
* checking data for ASCII and uncompressed saves ... OK
* checking files in ‘vignettes’ ... OK
* checking examples ... OK
Examples with CPU (user + system) or elapsed time > 5s
user system elapsed
dimensionality_reduction_plot 20.128 0.128 20.256
calculate_percentage_of_grids 8.714 0.148 8.866
calculate_pairwise_distances_between_celltypes 4.737 0.463 5.201
* checking for unstated dependencies in ‘tests’ ... OK
* checking tests ...
Running ‘testthat.R’
OK
* checking for unstated dependencies in vignettes ... OK
* checking package vignettes in ‘inst/doc’ ... OK
* checking running R code from vignettes ...
‘SPIAT.Rmd’ using ‘UTF-8’... OK
‘basic_analysis.Rmd’ using ‘UTF-8’... OK
‘cell-colocalisation.Rmd’ using ‘UTF-8’... OK
‘data_reading-formatting.Rmd’ using ‘UTF-8’... OK
‘neighborhood.Rmd’ using ‘UTF-8’... OK
‘quality-control_visualisation.Rmd’ using ‘UTF-8’... OK
‘spatial-heterogeneity.Rmd’ using ‘UTF-8’... OK
‘tissue-structure.Rmd’ using ‘UTF-8’... OK
NONE
* checking re-building of vignette outputs ... OK
* checking PDF version of manual ... OK
* DONE
Status: OK
SPIAT.Rcheck/00install.out
############################################################################## ############################################################################## ### ### Running command: ### ### /home/biocbuild/bbs-3.16-bioc/R/bin/R CMD INSTALL SPIAT ### ############################################################################## ############################################################################## * installing to library ‘/home/biocbuild/bbs-3.16-bioc/R/site-library’ * installing *source* package ‘SPIAT’ ... ** using staged installation ** R ** data *** moving datasets to lazyload DB ** inst ** byte-compile and prepare package for lazy loading ** help *** installing help indices ** building package indices ** installing vignettes ** testing if installed package can be loaded from temporary location ** testing if installed package can be loaded from final location ** testing if installed package keeps a record of temporary installation path * DONE (SPIAT)
SPIAT.Rcheck/tests/testthat.Rout
R version 4.2.3 (2023-03-15) -- "Shortstop Beagle"
Copyright (C) 2023 The R Foundation for Statistical Computing
Platform: x86_64-pc-linux-gnu (64-bit)
R is free software and comes with ABSOLUTELY NO WARRANTY.
You are welcome to redistribute it under certain conditions.
Type 'license()' or 'licence()' for distribution details.
R is a collaborative project with many contributors.
Type 'contributors()' for more information and
'citation()' on how to cite R or R packages in publications.
Type 'demo()' for some demos, 'help()' for on-line help, or
'help.start()' for an HTML browser interface to help.
Type 'q()' to quit R.
> library(testthat)
> library(SPIAT)
Loading required package: SpatialExperiment
Loading required package: SingleCellExperiment
Loading required package: SummarizedExperiment
Loading required package: MatrixGenerics
Loading required package: matrixStats
Attaching package: 'MatrixGenerics'
The following objects are masked from 'package:matrixStats':
colAlls, colAnyNAs, colAnys, colAvgsPerRowSet, colCollapse,
colCounts, colCummaxs, colCummins, colCumprods, colCumsums,
colDiffs, colIQRDiffs, colIQRs, colLogSumExps, colMadDiffs,
colMads, colMaxs, colMeans2, colMedians, colMins, colOrderStats,
colProds, colQuantiles, colRanges, colRanks, colSdDiffs, colSds,
colSums2, colTabulates, colVarDiffs, colVars, colWeightedMads,
colWeightedMeans, colWeightedMedians, colWeightedSds,
colWeightedVars, rowAlls, rowAnyNAs, rowAnys, rowAvgsPerColSet,
rowCollapse, rowCounts, rowCummaxs, rowCummins, rowCumprods,
rowCumsums, rowDiffs, rowIQRDiffs, rowIQRs, rowLogSumExps,
rowMadDiffs, rowMads, rowMaxs, rowMeans2, rowMedians, rowMins,
rowOrderStats, rowProds, rowQuantiles, rowRanges, rowRanks,
rowSdDiffs, rowSds, rowSums2, rowTabulates, rowVarDiffs, rowVars,
rowWeightedMads, rowWeightedMeans, rowWeightedMedians,
rowWeightedSds, rowWeightedVars
Loading required package: GenomicRanges
Loading required package: stats4
Loading required package: BiocGenerics
Attaching package: 'BiocGenerics'
The following objects are masked from 'package:stats':
IQR, mad, sd, var, xtabs
The following objects are masked from 'package:base':
Filter, Find, Map, Position, Reduce, anyDuplicated, aperm, append,
as.data.frame, basename, cbind, colnames, dirname, do.call,
duplicated, eval, evalq, get, grep, grepl, intersect, is.unsorted,
lapply, mapply, match, mget, order, paste, pmax, pmax.int, pmin,
pmin.int, rank, rbind, rownames, sapply, setdiff, sort, table,
tapply, union, unique, unsplit, which.max, which.min
Loading required package: S4Vectors
Attaching package: 'S4Vectors'
The following objects are masked from 'package:base':
I, expand.grid, unname
Loading required package: IRanges
Loading required package: GenomeInfoDb
Loading required package: Biobase
Welcome to Bioconductor
Vignettes contain introductory material; view with
'browseVignettes()'. To cite Bioconductor, see
'citation("Biobase")', and for packages 'citation("pkgname")'.
Attaching package: 'Biobase'
The following object is masked from 'package:MatrixGenerics':
rowMedians
The following objects are masked from 'package:matrixStats':
anyMissing, rowMedians
>
> test_check("SPIAT")
[1] "Markers had been selected in minimum distance calculation: "
[1] "Immune1" "Tumour"
[1] "Crossing of cross K function is detected for this image, indicating a potential immune ring."
[1] "The crossing happens at the 50% of the specified distance."
[1] "The alpha of Polygon is: 63.24375"
[1] "Markers had been selected in minimum distance calculation: "
[1] "Non-border" "Border"
[1] "Tumour_marker"
[1] "Immune_marker1"
[1] "Immune_marker2"
[1] "Immune_marker3"
[1] "Immune_marker4"
[1] "Tumour_marker"
[1] "Immune_marker1"
[1] "Immune_marker2"
[1] "Immune_marker3"
[1] "Immune_marker4"
[1] "Tumour_marker threshold intensity: 0.445450443784465"
[1] "Immune_marker1 threshold intensity: 0.116980867970434"
[1] "Immune_marker2 threshold intensity: 0.124283809517202"
[1] "Immune_marker3 threshold intensity: 0.0166413130263845"
[1] "Immune_marker4 threshold intensity: 0.00989731350898589"
[ FAIL 0 | WARN 1 | SKIP 0 | PASS 80 ]
[ FAIL 0 | WARN 1 | SKIP 0 | PASS 80 ]
>
> proc.time()
user system elapsed
66.833 2.127 68.849
SPIAT.Rcheck/SPIAT-Ex.timings
| name | user | system | elapsed | |
| AUC_of_cross_function | 0.215 | 0.004 | 0.219 | |
| R_BC | 1.798 | 0.144 | 1.944 | |
| average_marker_intensity_within_radius | 0.041 | 0.008 | 0.050 | |
| average_minimum_distance | 0.017 | 0.003 | 0.021 | |
| average_nearest_neighbor_index | 0.286 | 0.001 | 0.286 | |
| average_percentage_of_cells_within_radius | 1.216 | 0.036 | 1.251 | |
| calculate_cell_proportions | 0.013 | 0.000 | 0.012 | |
| calculate_cross_functions | 0.158 | 0.000 | 0.157 | |
| calculate_distance_to_margin | 1.228 | 0.044 | 1.272 | |
| calculate_entropy | 0.010 | 0.000 | 0.009 | |
| calculate_minimum_distances_between_celltypes | 0.015 | 0.000 | 0.015 | |
| calculate_pairwise_distances_between_celltypes | 4.737 | 0.463 | 5.201 | |
| calculate_percentage_of_grids | 8.714 | 0.148 | 8.866 | |
| calculate_proportions_of_cells_in_structure | 1.329 | 0.027 | 1.356 | |
| calculate_spatial_autocorrelation | 4.724 | 0.020 | 4.744 | |
| calculate_summary_distances_between_celltypes | 2.734 | 0.277 | 3.010 | |
| calculate_summary_distances_of_cells_to_borders | 1.204 | 0.051 | 1.257 | |
| composition_of_neighborhoods | 1.810 | 0.216 | 2.027 | |
| compute_gradient | 0.056 | 0.000 | 0.056 | |
| crossing_of_crossK | 0.114 | 0.005 | 0.118 | |
| define_celltypes | 0.837 | 0.015 | 0.853 | |
| define_structure | 1.571 | 0.020 | 1.591 | |
| dimensionality_reduction_plot | 20.128 | 0.128 | 20.256 | |
| entropy_gradient_aggregated | 0.491 | 0.024 | 0.516 | |
| format_cellprofiler_to_spe | 0.192 | 0.012 | 0.205 | |
| format_codex_to_spe | 0.184 | 0.012 | 0.197 | |
| format_colData_to_spe | 0.233 | 0.024 | 0.257 | |
| format_halo_to_spe | 0.491 | 0.153 | 0.597 | |
| format_image_to_spe | 0.187 | 0.000 | 0.187 | |
| format_inform_to_spe | 0.272 | 0.052 | 0.296 | |
| format_spe_to_ppp | 0.016 | 0.000 | 0.016 | |
| grid_metrics | 4.714 | 0.027 | 4.741 | |
| identify_bordering_cells | 0.627 | 0.008 | 0.635 | |
| identify_neighborhoods | 0.961 | 0.128 | 1.089 | |
| image_splitter | 1.652 | 0.048 | 1.701 | |
| marker_intensity_boxplot | 0.293 | 0.000 | 0.294 | |
| marker_prediction_plot | 1.240 | 0.008 | 1.248 | |
| marker_surface_plot | 0.243 | 0.008 | 0.251 | |
| marker_surface_plot_stack | 0.185 | 0.016 | 0.200 | |
| measure_association_to_cell_properties | 0.412 | 0.004 | 0.417 | |
| mixing_score_summary | 0.018 | 0.000 | 0.017 | |
| number_of_cells_within_radius | 0.012 | 0.000 | 0.012 | |
| plot_average_intensity | 0.304 | 0.000 | 0.304 | |
| plot_cell_categories | 0.309 | 0.012 | 0.322 | |
| plot_cell_distances_violin | 1.103 | 0.028 | 1.130 | |
| plot_cell_marker_levels | 0.17 | 0.00 | 0.17 | |
| plot_cell_percentages | 0.656 | 0.000 | 0.657 | |
| plot_composition_heatmap | 4.210 | 0.096 | 4.306 | |
| plot_distance_heatmap | 2.164 | 0.076 | 2.240 | |
| plot_marker_level_heatmap | 1.361 | 0.024 | 1.385 | |
| predict_phenotypes | 1.499 | 0.008 | 1.507 | |
| select_celltypes | 0.05 | 0.00 | 0.05 | |