| Back to Multiple platform build/check report for BioC 3.16: simplified long |
|
This page was generated on 2023-04-12 11:05:20 -0400 (Wed, 12 Apr 2023).
| Hostname | OS | Arch (*) | R version | Installed pkgs |
|---|---|---|---|---|
| nebbiolo2 | Linux (Ubuntu 20.04.5 LTS) | x86_64 | 4.2.3 (2023-03-15) -- "Shortstop Beagle" | 4502 |
| palomino4 | Windows Server 2022 Datacenter | x64 | 4.2.3 (2023-03-15 ucrt) -- "Shortstop Beagle" | 4282 |
| lconway | macOS 12.5.1 Monterey | x86_64 | 4.2.3 (2023-03-15) -- "Shortstop Beagle" | 4310 |
| Click on any hostname to see more info about the system (e.g. compilers) (*) as reported by 'uname -p', except on Windows and Mac OS X | ||||
|
To the developers/maintainers of the SNPhood package: - Please allow up to 24 hours (and sometimes 48 hours) for your latest push to git@git.bioconductor.org:packages/SNPhood.git to reflect on this report. See How and When does the builder pull? When will my changes propagate? for more information. - Make sure to use the following settings in order to reproduce any error or warning you see on this page. |
| Package 1910/2183 | Hostname | OS / Arch | INSTALL | BUILD | CHECK | BUILD BIN | ||||||||
| SNPhood 1.28.0 (landing page) Christian Arnold
| nebbiolo2 | Linux (Ubuntu 20.04.5 LTS) / x86_64 | OK | OK | OK | |||||||||
| palomino4 | Windows Server 2022 Datacenter / x64 | OK | OK | OK | OK | |||||||||
| lconway | macOS 12.5.1 Monterey / x86_64 | OK | OK | OK | OK | |||||||||
| Package: SNPhood |
| Version: 1.28.0 |
| Command: /home/biocbuild/bbs-3.16-bioc/R/bin/R CMD check --install=check:SNPhood.install-out.txt --library=/home/biocbuild/bbs-3.16-bioc/R/site-library --timings SNPhood_1.28.0.tar.gz |
| StartedAt: 2023-04-11 00:09:32 -0400 (Tue, 11 Apr 2023) |
| EndedAt: 2023-04-11 00:23:13 -0400 (Tue, 11 Apr 2023) |
| EllapsedTime: 821.5 seconds |
| RetCode: 0 |
| Status: OK |
| CheckDir: SNPhood.Rcheck |
| Warnings: 0 |
##############################################################################
##############################################################################
###
### Running command:
###
### /home/biocbuild/bbs-3.16-bioc/R/bin/R CMD check --install=check:SNPhood.install-out.txt --library=/home/biocbuild/bbs-3.16-bioc/R/site-library --timings SNPhood_1.28.0.tar.gz
###
##############################################################################
##############################################################################
* using log directory ‘/home/biocbuild/bbs-3.16-bioc/meat/SNPhood.Rcheck’
* using R version 4.2.3 (2023-03-15)
* using platform: x86_64-pc-linux-gnu (64-bit)
* using session charset: UTF-8
* checking for file ‘SNPhood/DESCRIPTION’ ... OK
* this is package ‘SNPhood’ version ‘1.28.0’
* checking package namespace information ... OK
* checking package dependencies ... OK
* checking if this is a source package ... OK
* checking if there is a namespace ... OK
* checking for hidden files and directories ... OK
* checking for portable file names ... OK
* checking for sufficient/correct file permissions ... OK
* checking whether package ‘SNPhood’ can be installed ... OK
* checking installed package size ... OK
* checking package directory ... OK
* checking ‘build’ directory ... OK
* checking DESCRIPTION meta-information ... NOTE
BugReports field is not a suitable URL but appears to contain an email address
not specified by mailto: nor contained in < >
use the Contact field instead
* checking top-level files ... OK
* checking for left-over files ... OK
* checking index information ... OK
* checking package subdirectories ... OK
* checking R files for non-ASCII characters ... OK
* checking R files for syntax errors ... OK
* checking whether the package can be loaded ... OK
* checking whether the package can be loaded with stated dependencies ... OK
* checking whether the package can be unloaded cleanly ... OK
* checking whether the namespace can be loaded with stated dependencies ... OK
* checking whether the namespace can be unloaded cleanly ... OK
* checking loading without being on the library search path ... OK
* checking dependencies in R code ... OK
* checking S3 generic/method consistency ... OK
* checking replacement functions ... OK
* checking foreign function calls ... OK
* checking R code for possible problems ... NOTE
.calcBinomTestVector: no visible binding for global variable ‘pp’
Undefined global functions or variables:
pp
* checking Rd files ... OK
* checking Rd metadata ... OK
* checking Rd cross-references ... OK
* checking for missing documentation entries ... OK
* checking for code/documentation mismatches ... OK
* checking Rd \usage sections ... OK
* checking Rd contents ... OK
* checking for unstated dependencies in examples ... OK
* checking contents of ‘data’ directory ... OK
* checking data for non-ASCII characters ... OK
* checking LazyData ... OK
* checking data for ASCII and uncompressed saves ... OK
* checking files in ‘vignettes’ ... OK
* checking examples ... OK
Examples with CPU (user + system) or elapsed time > 5s
user system elapsed
analyzeSNPhood 107.640 7.410 115.354
plotAllelicBiasResults 29.133 0.216 27.198
plotFDRResults 27.918 0.108 26.054
plotAndSummarizeAllelicBiasTest 27.207 0.169 25.657
testForAllelicBiases 26.992 0.155 25.465
annotationBins2 10.791 0.056 10.847
* checking for unstated dependencies in vignettes ... OK
* checking package vignettes in ‘inst/doc’ ... OK
* checking running R code from vignettes ...
‘IntroductionToSNPhood.Rmd’ using ‘UTF-8’... OK
‘workflow.Rmd’ using ‘UTF-8’... OK
NONE
* checking re-building of vignette outputs ... OK
* checking PDF version of manual ... OK
* DONE
Status: 2 NOTEs
See
‘/home/biocbuild/bbs-3.16-bioc/meat/SNPhood.Rcheck/00check.log’
for details.
SNPhood.Rcheck/00install.out
############################################################################## ############################################################################## ### ### Running command: ### ### /home/biocbuild/bbs-3.16-bioc/R/bin/R CMD INSTALL SNPhood ### ############################################################################## ############################################################################## * installing to library ‘/home/biocbuild/bbs-3.16-bioc/R/site-library’ * installing *source* package ‘SNPhood’ ... ** using staged installation ** R ** data *** moving datasets to lazyload DB ** byte-compile and prepare package for lazy loading ** help *** installing help indices ** building package indices ** installing vignettes ** testing if installed package can be loaded from temporary location ** testing if installed package can be loaded from final location ** testing if installed package keeps a record of temporary installation path * DONE (SNPhood)
SNPhood.Rcheck/SNPhood-Ex.timings
| name | user | system | elapsed | |
| analyzeSNPhood | 107.640 | 7.410 | 115.354 | |
| annotation-methods | 0.278 | 0.040 | 0.318 | |
| annotationBins | 0.190 | 0.032 | 0.222 | |
| annotationBins2 | 10.791 | 0.056 | 10.847 | |
| annotationDatasets | 0.151 | 0.032 | 0.183 | |
| annotationReadGroups | 0.155 | 0.008 | 0.163 | |
| annotationRegions | 1.102 | 0.008 | 1.109 | |
| associateGenotypes | 4.374 | 0.084 | 4.458 | |
| bins-methods | 0.163 | 0.023 | 0.187 | |
| changeObjectIntegrityChecking | 0.200 | 0.015 | 0.216 | |
| collectFiles | 0.029 | 0.001 | 0.029 | |
| convertToAllelicFractions | 0.253 | 0.015 | 0.269 | |
| counts-method | 0.255 | 0.016 | 0.271 | |
| datasets-methods | 0.177 | 0.024 | 0.201 | |
| deleteDatasets | 1.159 | 0.052 | 1.210 | |
| deleteReadGroups | 0.177 | 0.016 | 0.193 | |
| deleteRegions | 0.206 | 0.003 | 0.211 | |
| enrichment-methods | 0.177 | 0.008 | 0.185 | |
| getDefaultParameterList | 0 | 0 | 0 | |
| mergeReadGroups | 1.151 | 0.024 | 1.174 | |
| parameters-methods | 0.173 | 0.012 | 0.185 | |
| plotAllelicBiasResults | 29.133 | 0.216 | 27.198 | |
| plotAllelicBiasResultsOverview | 0.968 | 0.028 | 0.995 | |
| plotAndCalculateCorrelationDatasets | 1.340 | 0.024 | 1.364 | |
| plotAndCalculateWeakAndStrongGenotype | 0.657 | 0.028 | 0.685 | |
| plotAndClusterMatrix | 1.567 | 0.032 | 1.599 | |
| plotAndSummarizeAllelicBiasTest | 27.207 | 0.169 | 25.657 | |
| plotBinCounts | 1.374 | 0.044 | 1.419 | |
| plotClusterAverage | 1.694 | 0.024 | 1.718 | |
| plotFDRResults | 27.918 | 0.108 | 26.054 | |
| plotGenotypesPerCluster | 0.460 | 0.044 | 0.505 | |
| plotGenotypesPerSNP | 0.396 | 0.008 | 0.404 | |
| plotRegionCounts | 1.867 | 0.012 | 1.878 | |
| readGroups-methods | 1.213 | 0.044 | 1.256 | |
| regions-methods | 0.156 | 0.024 | 0.180 | |
| renameBins | 0.167 | 0.020 | 0.188 | |
| renameDatasets | 0.176 | 0.000 | 0.177 | |
| renameReadGroups | 1.180 | 0.056 | 1.236 | |
| renameRegions | 2.611 | 0.016 | 2.627 | |
| results | 2.072 | 1.808 | 3.880 | |
| testForAllelicBiases | 26.992 | 0.155 | 25.465 | |