| Back to Multiple platform build/check report for BioC 3.16: simplified long |
|
This page was generated on 2023-04-12 11:05:19 -0400 (Wed, 12 Apr 2023).
| Hostname | OS | Arch (*) | R version | Installed pkgs |
|---|---|---|---|---|
| nebbiolo2 | Linux (Ubuntu 20.04.5 LTS) | x86_64 | 4.2.3 (2023-03-15) -- "Shortstop Beagle" | 4502 |
| palomino4 | Windows Server 2022 Datacenter | x64 | 4.2.3 (2023-03-15 ucrt) -- "Shortstop Beagle" | 4282 |
| lconway | macOS 12.5.1 Monterey | x86_64 | 4.2.3 (2023-03-15) -- "Shortstop Beagle" | 4310 |
| Click on any hostname to see more info about the system (e.g. compilers) (*) as reported by 'uname -p', except on Windows and Mac OS X | ||||
|
To the developers/maintainers of the SIAMCAT package: - Please allow up to 24 hours (and sometimes 48 hours) for your latest push to git@git.bioconductor.org:packages/SIAMCAT.git to reflect on this report. See How and When does the builder pull? When will my changes propagate? for more information. - Make sure to use the following settings in order to reproduce any error or warning you see on this page. |
| Package 1862/2183 | Hostname | OS / Arch | INSTALL | BUILD | CHECK | BUILD BIN | ||||||||
| SIAMCAT 2.2.0 (landing page) Jakob Wirbel
| nebbiolo2 | Linux (Ubuntu 20.04.5 LTS) / x86_64 | OK | OK | WARNINGS | |||||||||
| palomino4 | Windows Server 2022 Datacenter / x64 | OK | OK | WARNINGS | OK | |||||||||
| lconway | macOS 12.5.1 Monterey / x86_64 | OK | OK | WARNINGS | OK | |||||||||
| Package: SIAMCAT |
| Version: 2.2.0 |
| Command: /home/biocbuild/bbs-3.16-bioc/R/bin/R CMD check --install=check:SIAMCAT.install-out.txt --library=/home/biocbuild/bbs-3.16-bioc/R/site-library --timings SIAMCAT_2.2.0.tar.gz |
| StartedAt: 2023-04-11 00:00:46 -0400 (Tue, 11 Apr 2023) |
| EndedAt: 2023-04-11 00:10:36 -0400 (Tue, 11 Apr 2023) |
| EllapsedTime: 590.1 seconds |
| RetCode: 0 |
| Status: WARNINGS |
| CheckDir: SIAMCAT.Rcheck |
| Warnings: 1 |
##############################################################################
##############################################################################
###
### Running command:
###
### /home/biocbuild/bbs-3.16-bioc/R/bin/R CMD check --install=check:SIAMCAT.install-out.txt --library=/home/biocbuild/bbs-3.16-bioc/R/site-library --timings SIAMCAT_2.2.0.tar.gz
###
##############################################################################
##############################################################################
* using log directory ‘/home/biocbuild/bbs-3.16-bioc/meat/SIAMCAT.Rcheck’
* using R version 4.2.3 (2023-03-15)
* using platform: x86_64-pc-linux-gnu (64-bit)
* using session charset: UTF-8
* checking for file ‘SIAMCAT/DESCRIPTION’ ... OK
* checking extension type ... Package
* this is package ‘SIAMCAT’ version ‘2.2.0’
* checking package namespace information ... OK
* checking package dependencies ... OK
* checking if this is a source package ... OK
* checking if there is a namespace ... OK
* checking for hidden files and directories ... NOTE
Found the following hidden files and directories:
.travis.yml
These were most likely included in error. See section ‘Package
structure’ in the ‘Writing R Extensions’ manual.
* checking for portable file names ... OK
* checking for sufficient/correct file permissions ... OK
* checking whether package ‘SIAMCAT’ can be installed ... WARNING
Found the following significant warnings:
Note: possible error in 'tune(method = "grid_search", ': unused argument (resolution = grid.size)
See ‘/home/biocbuild/bbs-3.16-bioc/meat/SIAMCAT.Rcheck/00install.out’ for details.
Information on the location(s) of code generating the ‘Note’s can be
obtained by re-running with environment variable R_KEEP_PKG_SOURCE set
to ‘yes’.
* checking installed package size ... NOTE
installed size is 5.1Mb
sub-directories of 1Mb or more:
extdata 2.1Mb
help 1.9Mb
* checking package directory ... OK
* checking ‘build’ directory ... OK
* checking DESCRIPTION meta-information ... OK
* checking top-level files ... OK
* checking for left-over files ... OK
* checking index information ... OK
* checking package subdirectories ... OK
* checking R files for non-ASCII characters ... OK
* checking R files for syntax errors ... OK
* checking whether the package can be loaded ... OK
* checking whether the package can be loaded with stated dependencies ... OK
* checking whether the package can be unloaded cleanly ... OK
* checking whether the namespace can be loaded with stated dependencies ... OK
* checking whether the namespace can be unloaded cleanly ... OK
* checking loading without being on the library search path ... OK
* checking dependencies in R code ... OK
* checking S3 generic/method consistency ... OK
* checking replacement functions ... OK
* checking foreign function calls ... OK
* checking R code for possible problems ... NOTE
train.model: possible error in tune(method = "grid_search", task =
task, learner = lrn.fold, resampling = rsmp("cv", folds = 5),
measures = msr(measure), resolution = grid.size): unused argument
(resolution = grid.size)
* checking Rd files ... OK
* checking Rd metadata ... OK
* checking Rd cross-references ... OK
* checking for missing documentation entries ... OK
* checking for code/documentation mismatches ... OK
* checking Rd \usage sections ... OK
* checking Rd contents ... OK
* checking for unstated dependencies in examples ... OK
* checking contents of ‘data’ directory ... OK
* checking data for non-ASCII characters ... OK
* checking LazyData ... OK
* checking data for ASCII and uncompressed saves ... OK
* checking files in ‘vignettes’ ... OK
* checking examples ... OK
Examples with CPU (user + system) or elapsed time > 5s
user system elapsed
make.predictions 25.351 0.360 25.711
assign-model_list 25.065 0.508 25.575
train.model 23.838 0.272 24.110
model.interpretation.plot 23.678 0.224 23.903
* checking for unstated dependencies in vignettes ... OK
* checking package vignettes in ‘inst/doc’ ... OK
* checking running R code from vignettes ...
‘SIAMCAT_confounder.Rmd’ using ‘ASCII’... OK
‘SIAMCAT_holdout.Rmd’ using ‘ASCII’... OK
‘SIAMCAT_meta.Rmd’ using ‘ASCII’... OK
‘SIAMCAT_ml_pitfalls.Rmd’ using ‘ASCII’... OK
‘SIAMCAT_read-in.Rmd’ using ‘ASCII’... OK
‘SIAMCAT_vignette.Rmd’ using ‘ASCII’... OK
NONE
* checking re-building of vignette outputs ... OK
* checking PDF version of manual ... OK
* DONE
Status: 1 WARNING, 3 NOTEs
See
‘/home/biocbuild/bbs-3.16-bioc/meat/SIAMCAT.Rcheck/00check.log’
for details.
SIAMCAT.Rcheck/00install.out
############################################################################## ############################################################################## ### ### Running command: ### ### /home/biocbuild/bbs-3.16-bioc/R/bin/R CMD INSTALL SIAMCAT ### ############################################################################## ############################################################################## * installing to library ‘/home/biocbuild/bbs-3.16-bioc/R/site-library’ * installing *source* package ‘SIAMCAT’ ... ** using staged installation ** R ** data *** moving datasets to lazyload DB ** inst ** byte-compile and prepare package for lazy loading Note: possible error in 'tune(method = "grid_search", ': unused argument (resolution = grid.size) ** help *** installing help indices *** copying figures ** building package indices ** installing vignettes ** testing if installed package can be loaded from temporary location ** testing if installed package can be loaded from final location ** testing if installed package keeps a record of temporary installation path * DONE (SIAMCAT)
SIAMCAT.Rcheck/SIAMCAT-Ex.timings
| name | user | system | elapsed | |
| accessSlot | 0.008 | 0.000 | 0.008 | |
| add.meta.pred | 0.053 | 0.000 | 0.054 | |
| assign-associations | 0.008 | 0.000 | 0.008 | |
| assign-data_split | 0.008 | 0.000 | 0.008 | |
| assign-eval_data | 0.008 | 0.000 | 0.008 | |
| assign-filt_feat | 0.005 | 0.003 | 0.008 | |
| assign-label | 0.004 | 0.004 | 0.008 | |
| assign-meta | 0.03 | 0.00 | 0.03 | |
| assign-model_list | 25.065 | 0.508 | 25.575 | |
| assign-norm_feat | 0.004 | 0.003 | 0.007 | |
| assign-orig_feat | 0.014 | 0.000 | 0.013 | |
| assign-physeq | 0.008 | 0.000 | 0.008 | |
| assign-pred_matrix | 0.008 | 0.000 | 0.008 | |
| assoc_param-methods | 0.006 | 0.000 | 0.006 | |
| association.plot | 0.246 | 0.008 | 0.254 | |
| associations-methods | 0.010 | 0.000 | 0.009 | |
| check.associations | 2.038 | 0.008 | 2.047 | |
| check.confounders | 0.413 | 0.020 | 0.433 | |
| create.data.split | 0.021 | 0.000 | 0.021 | |
| create.label | 0.002 | 0.000 | 0.002 | |
| data_split-methods | 0.005 | 0.000 | 0.005 | |
| eval_data-methods | 0.006 | 0.000 | 0.005 | |
| evaluate.predictions | 0.02 | 0.00 | 0.02 | |
| feature_type-methods | 0.005 | 0.000 | 0.005 | |
| feature_weights-methods | 0.006 | 0.000 | 0.005 | |
| filt_feat-methods | 0.006 | 0.000 | 0.006 | |
| filt_params-methods | 0.026 | 0.000 | 0.027 | |
| filter.features | 0.018 | 0.000 | 0.018 | |
| filter.label | 0.007 | 0.000 | 0.008 | |
| get.filt_feat.matrix | 0.006 | 0.000 | 0.005 | |
| get.norm_feat.matrix | 0.007 | 0.000 | 0.006 | |
| get.orig_feat.matrix | 0.006 | 0.000 | 0.006 | |
| label-methods | 0.006 | 0.000 | 0.005 | |
| make.predictions | 25.351 | 0.360 | 25.711 | |
| meta-methods | 0.023 | 0.000 | 0.023 | |
| model.evaluation.plot | 0.024 | 0.004 | 0.028 | |
| model.interpretation.plot | 23.678 | 0.224 | 23.903 | |
| model_list-methods | 0.007 | 0.000 | 0.006 | |
| model_type-methods | 0.006 | 0.000 | 0.006 | |
| models-methods | 0.006 | 0.000 | 0.007 | |
| norm_feat-methods | 0.006 | 0.000 | 0.006 | |
| norm_params-methods | 0.007 | 0.000 | 0.006 | |
| normalize.features | 0.018 | 0.000 | 0.017 | |
| orig_feat-methods | 0.003 | 0.004 | 0.007 | |
| physeq-methods | 0.010 | 0.000 | 0.011 | |
| pred_matrix-methods | 0.007 | 0.000 | 0.006 | |
| read.label | 0.008 | 0.000 | 0.008 | |
| read.lefse | 0.539 | 0.008 | 0.547 | |
| select.samples | 0.054 | 0.000 | 0.054 | |
| siamcat | 0.288 | 0.012 | 0.300 | |
| siamcat.to.lefse | 0.023 | 0.000 | 0.023 | |
| siamcat.to.maaslin | 0.024 | 0.000 | 0.024 | |
| summarize.features | 2.264 | 0.092 | 2.355 | |
| train.model | 23.838 | 0.272 | 24.110 | |
| validate.data | 0.020 | 0.000 | 0.021 | |
| volcano.plot | 0.013 | 0.000 | 0.013 | |
| weight_matrix-methods | 0.006 | 0.000 | 0.006 | |