| Back to Multiple platform build/check report for BioC 3.16: simplified long |
|
This page was generated on 2023-04-12 11:05:48 -0400 (Wed, 12 Apr 2023).
| Hostname | OS | Arch (*) | R version | Installed pkgs |
|---|---|---|---|---|
| nebbiolo2 | Linux (Ubuntu 20.04.5 LTS) | x86_64 | 4.2.3 (2023-03-15) -- "Shortstop Beagle" | 4502 |
| palomino4 | Windows Server 2022 Datacenter | x64 | 4.2.3 (2023-03-15 ucrt) -- "Shortstop Beagle" | 4282 |
| lconway | macOS 12.5.1 Monterey | x86_64 | 4.2.3 (2023-03-15) -- "Shortstop Beagle" | 4310 |
| Click on any hostname to see more info about the system (e.g. compilers) (*) as reported by 'uname -p', except on Windows and Mac OS X | ||||
|
To the developers/maintainers of the RedeR package: - Please allow up to 24 hours (and sometimes 48 hours) for your latest push to git@git.bioconductor.org:packages/RedeR.git to reflect on this report. See How and When does the builder pull? When will my changes propagate? for more information. - Make sure to use the following settings in order to reproduce any error or warning you see on this page. |
| Package 1638/2183 | Hostname | OS / Arch | INSTALL | BUILD | CHECK | BUILD BIN | ||||||||
| RedeR 2.2.1 (landing page) Mauro Castro
| nebbiolo2 | Linux (Ubuntu 20.04.5 LTS) / x86_64 | OK | OK | OK | |||||||||
| palomino4 | Windows Server 2022 Datacenter / x64 | OK | OK | OK | OK | |||||||||
| lconway | macOS 12.5.1 Monterey / x86_64 | OK | OK | OK | OK | |||||||||
| Package: RedeR |
| Version: 2.2.1 |
| Command: F:\biocbuild\bbs-3.16-bioc\R\bin\R.exe CMD check --no-multiarch --install=check:RedeR.install-out.txt --library=F:\biocbuild\bbs-3.16-bioc\R\library --no-vignettes --timings RedeR_2.2.1.tar.gz |
| StartedAt: 2023-04-11 05:03:52 -0400 (Tue, 11 Apr 2023) |
| EndedAt: 2023-04-11 05:04:40 -0400 (Tue, 11 Apr 2023) |
| EllapsedTime: 48.4 seconds |
| RetCode: 0 |
| Status: OK |
| CheckDir: RedeR.Rcheck |
| Warnings: 0 |
##############################################################################
##############################################################################
###
### Running command:
###
### F:\biocbuild\bbs-3.16-bioc\R\bin\R.exe CMD check --no-multiarch --install=check:RedeR.install-out.txt --library=F:\biocbuild\bbs-3.16-bioc\R\library --no-vignettes --timings RedeR_2.2.1.tar.gz
###
##############################################################################
##############################################################################
* using log directory 'F:/biocbuild/bbs-3.16-bioc/meat/RedeR.Rcheck'
* using R version 4.2.3 (2023-03-15 ucrt)
* using platform: x86_64-w64-mingw32 (64-bit)
* using session charset: UTF-8
* using option '--no-vignettes'
* checking for file 'RedeR/DESCRIPTION' ... OK
* checking extension type ... Package
* this is package 'RedeR' version '2.2.1'
* checking package namespace information ... OK
* checking package dependencies ... OK
* checking if this is a source package ... OK
* checking if there is a namespace ... OK
* checking for hidden files and directories ... OK
* checking for portable file names ... OK
* checking whether package 'RedeR' can be installed ... OK
* checking installed package size ... NOTE
installed size is 5.6Mb
sub-directories of 1Mb or more:
data 3.3Mb
java 1.8Mb
* checking package directory ... OK
* checking 'build' directory ... OK
* checking DESCRIPTION meta-information ... OK
* checking top-level files ... OK
* checking for left-over files ... OK
* checking index information ... OK
* checking package subdirectories ... OK
* checking R files for non-ASCII characters ... OK
* checking R files for syntax errors ... OK
* checking whether the package can be loaded ... OK
* checking whether the package can be loaded with stated dependencies ... OK
* checking whether the package can be unloaded cleanly ... OK
* checking whether the namespace can be loaded with stated dependencies ... OK
* checking whether the namespace can be unloaded cleanly ... OK
* checking dependencies in R code ... OK
* checking S3 generic/method consistency ... OK
* checking replacement functions ... OK
* checking foreign function calls ... OK
* checking R code for possible problems ... OK
* checking Rd files ... OK
* checking Rd metadata ... OK
* checking Rd cross-references ... OK
* checking for missing documentation entries ... OK
* checking for code/documentation mismatches ... OK
* checking Rd \usage sections ... OK
* checking Rd contents ... OK
* checking for unstated dependencies in examples ... OK
* checking contents of 'data' directory ... OK
* checking data for non-ASCII characters ... OK
* checking data for ASCII and uncompressed saves ... OK
* checking files in 'vignettes' ... OK
* checking examples ... OK
* checking for unstated dependencies in vignettes ... OK
* checking package vignettes in 'inst/doc' ... OK
* checking running R code from vignettes ... SKIPPED
* checking re-building of vignette outputs ... SKIPPED
* checking PDF version of manual ... OK
* DONE
Status: 1 NOTE
See
'F:/biocbuild/bbs-3.16-bioc/meat/RedeR.Rcheck/00check.log'
for details.
RedeR.Rcheck/00install.out
############################################################################## ############################################################################## ### ### Running command: ### ### F:\biocbuild\bbs-3.16-bioc\R\bin\R.exe CMD INSTALL RedeR ### ############################################################################## ############################################################################## * installing to library 'F:/biocbuild/bbs-3.16-bioc/R/library' * installing *source* package 'RedeR' ... ** using staged installation ** R ** data ** inst ** byte-compile and prepare package for lazy loading ** help *** installing help indices ** building package indices ** installing vignettes ** testing if installed package can be loaded from temporary location ** testing if installed package can be loaded from final location ** testing if installed package keeps a record of temporary installation path * DONE (RedeR)
RedeR.Rcheck/RedeR-Ex.timings
| name | user | system | elapsed | |
| RedPort-class | 0 | 0 | 0 | |
| RedPort | 0.10 | 0.00 | 0.09 | |
| RedeR.data | 0.32 | 0.02 | 0.33 | |
| addEdgeBetweenContainers | 0 | 0 | 0 | |
| addEdges | 0 | 0 | 0 | |
| addGraph | 0.01 | 0.00 | 0.01 | |
| addLegend | 0.00 | 0.02 | 0.02 | |
| addNodes | 0.02 | 0.00 | 0.02 | |
| addSeries | 0 | 0 | 0 | |
| addSubgraph | 0 | 0 | 0 | |
| addSubgraph.list | 0 | 0 | 0 | |
| att | 0.05 | 0.00 | 0.04 | |
| calld | 0 | 0 | 0 | |
| cea | 0.01 | 0.00 | 0.02 | |
| deSelectEdges | 0.02 | 0.00 | 0.01 | |
| deSelectGraph | 0.01 | 0.00 | 0.02 | |
| deSelectNodes | 0.02 | 0.00 | 0.01 | |
| deleteEdges | 0 | 0 | 0 | |
| deleteNodes | 0.01 | 0.00 | 0.02 | |
| deleteSelectedEdges | 0.02 | 0.00 | 0.02 | |
| deleteSelectedNodes | 0.01 | 0.00 | 0.01 | |
| duplicateGraph | 0 | 0 | 0 | |
| exitd | 0 | 0 | 0 | |
| getContainerComponets | 0.02 | 0.00 | 0.02 | |
| getEdgeIDs | 0.02 | 0.00 | 0.01 | |
| getEdges | 0.00 | 0.01 | 0.02 | |
| getGraph | 0 | 0 | 0 | |
| getNodeIDs | 0 | 0 | 0 | |
| getNodes | 0 | 0 | 0 | |
| getSourceEdgeIDs | 0.01 | 0.00 | 0.02 | |
| getTargetEdgeIDs | 0.02 | 0.00 | 0.01 | |
| gtoy.rm | 0 | 0 | 0 | |
| isRelaxActive | 0 | 0 | 0 | |
| mergeNodes | 0.02 | 0.00 | 0.01 | |
| mergeOutEdges | 0 | 0 | 0 | |
| nestNodes | 0.01 | 0.00 | 0.02 | |
| nesthc | 1.02 | 0.02 | 1.03 | |
| ping | 0 | 0 | 0 | |
| relax | 0.02 | 0.00 | 0.01 | |
| resetd | 0 | 0 | 0 | |
| selectAllEdges | 0.02 | 0.00 | 0.02 | |
| selectAllNodes | 0.01 | 0.00 | 0.01 | |
| selectEdges | 0.02 | 0.00 | 0.02 | |
| selectGraph | 0.01 | 0.00 | 0.01 | |
| selectNodes | 0.02 | 0.00 | 0.02 | |
| setArrowDirection | 0.01 | 0.00 | 0.01 | |
| subg | 0.05 | 0.02 | 0.07 | |
| updateContainerSize | 0.02 | 0.00 | 0.01 | |
| updateCoordXY | 0.01 | 0.00 | 0.02 | |
| updateGraph | 0.02 | 0.00 | 0.01 | |
| version | 0.01 | 0.00 | 0.02 | |