| Back to Multiple platform build/check report for BioC 3.16: simplified long |
|
This page was generated on 2023-04-12 11:05:15 -0400 (Wed, 12 Apr 2023).
| Hostname | OS | Arch (*) | R version | Installed pkgs |
|---|---|---|---|---|
| nebbiolo2 | Linux (Ubuntu 20.04.5 LTS) | x86_64 | 4.2.3 (2023-03-15) -- "Shortstop Beagle" | 4502 |
| palomino4 | Windows Server 2022 Datacenter | x64 | 4.2.3 (2023-03-15 ucrt) -- "Shortstop Beagle" | 4282 |
| lconway | macOS 12.5.1 Monterey | x86_64 | 4.2.3 (2023-03-15) -- "Shortstop Beagle" | 4310 |
| Click on any hostname to see more info about the system (e.g. compilers) (*) as reported by 'uname -p', except on Windows and Mac OS X | ||||
|
To the developers/maintainers of the Rcpi package: - Please allow up to 24 hours (and sometimes 48 hours) for your latest push to git@git.bioconductor.org:packages/Rcpi.git to reflect on this report. See How and When does the builder pull? When will my changes propagate? for more information. - Make sure to use the following settings in order to reproduce any error or warning you see on this page. |
| Package 1615/2183 | Hostname | OS / Arch | INSTALL | BUILD | CHECK | BUILD BIN | ||||||||
| Rcpi 1.34.0 (landing page) Nan Xiao
| nebbiolo2 | Linux (Ubuntu 20.04.5 LTS) / x86_64 | OK | OK | OK | |||||||||
| palomino4 | Windows Server 2022 Datacenter / x64 | OK | OK | OK | OK | |||||||||
| lconway | macOS 12.5.1 Monterey / x86_64 | OK | OK | OK | OK | |||||||||
| Package: Rcpi |
| Version: 1.34.0 |
| Command: /home/biocbuild/bbs-3.16-bioc/R/bin/R CMD check --install=check:Rcpi.install-out.txt --library=/home/biocbuild/bbs-3.16-bioc/R/site-library --timings Rcpi_1.34.0.tar.gz |
| StartedAt: 2023-04-10 23:18:17 -0400 (Mon, 10 Apr 2023) |
| EndedAt: 2023-04-10 23:20:21 -0400 (Mon, 10 Apr 2023) |
| EllapsedTime: 124.2 seconds |
| RetCode: 0 |
| Status: OK |
| CheckDir: Rcpi.Rcheck |
| Warnings: 0 |
############################################################################## ############################################################################## ### ### Running command: ### ### /home/biocbuild/bbs-3.16-bioc/R/bin/R CMD check --install=check:Rcpi.install-out.txt --library=/home/biocbuild/bbs-3.16-bioc/R/site-library --timings Rcpi_1.34.0.tar.gz ### ############################################################################## ############################################################################## * using log directory ‘/home/biocbuild/bbs-3.16-bioc/meat/Rcpi.Rcheck’ * using R version 4.2.3 (2023-03-15) * using platform: x86_64-pc-linux-gnu (64-bit) * using session charset: UTF-8 * checking for file ‘Rcpi/DESCRIPTION’ ... OK * checking extension type ... Package * this is package ‘Rcpi’ version ‘1.34.0’ * package encoding: UTF-8 * checking package namespace information ... OK * checking package dependencies ... OK * checking if this is a source package ... OK * checking if there is a namespace ... OK * checking for hidden files and directories ... NOTE Found the following hidden files and directories: .travis.yml These were most likely included in error. See section ‘Package structure’ in the ‘Writing R Extensions’ manual. * checking for portable file names ... OK * checking for sufficient/correct file permissions ... OK * checking whether package ‘Rcpi’ can be installed ... OK * checking installed package size ... OK * checking package directory ... OK * checking ‘build’ directory ... OK * checking DESCRIPTION meta-information ... OK * checking top-level files ... OK * checking for left-over files ... OK * checking index information ... OK * checking package subdirectories ... OK * checking R files for non-ASCII characters ... OK * checking R files for syntax errors ... OK * checking whether the package can be loaded ... OK * checking whether the package can be loaded with stated dependencies ... OK * checking whether the package can be unloaded cleanly ... OK * checking whether the namespace can be loaded with stated dependencies ... OK * checking whether the namespace can be unloaded cleanly ... OK * checking loading without being on the library search path ... OK * checking dependencies in R code ... OK * checking S3 generic/method consistency ... OK * checking replacement functions ... OK * checking foreign function calls ... OK * checking R code for possible problems ... OK * checking Rd files ... OK * checking Rd metadata ... OK * checking Rd cross-references ... OK * checking for missing documentation entries ... OK * checking for code/documentation mismatches ... OK * checking Rd \usage sections ... OK * checking Rd contents ... OK * checking for unstated dependencies in examples ... OK * checking contents of ‘data’ directory ... OK * checking data for non-ASCII characters ... OK * checking LazyData ... OK * checking data for ASCII and uncompressed saves ... OK * checking files in ‘vignettes’ ... OK * checking examples ... OK * checking for unstated dependencies in ‘tests’ ... OK * checking tests ... Running ‘runTests.R’ OK * checking for unstated dependencies in vignettes ... OK * checking package vignettes in ‘inst/doc’ ... OK * checking running R code from vignettes ... ‘Rcpi-quickref.Rmd’ using ‘UTF-8’... OK ‘Rcpi.Rmd’ using ‘UTF-8’... OK NONE * checking re-building of vignette outputs ... OK * checking PDF version of manual ... OK * DONE Status: 1 NOTE See ‘/home/biocbuild/bbs-3.16-bioc/meat/Rcpi.Rcheck/00check.log’ for details.
Rcpi.Rcheck/00install.out
############################################################################## ############################################################################## ### ### Running command: ### ### /home/biocbuild/bbs-3.16-bioc/R/bin/R CMD INSTALL Rcpi ### ############################################################################## ############################################################################## * installing to library ‘/home/biocbuild/bbs-3.16-bioc/R/site-library’ * installing *source* package ‘Rcpi’ ... ** using staged installation ** R ** data *** moving datasets to lazyload DB ** inst ** byte-compile and prepare package for lazy loading ** help *** installing help indices *** copying figures ** building package indices ** installing vignettes ** testing if installed package can be loaded from temporary location ** testing if installed package can be loaded from final location ** testing if installed package keeps a record of temporary installation path * DONE (Rcpi)
Rcpi.Rcheck/tests/runTests.Rout
R version 4.2.3 (2023-03-15) -- "Shortstop Beagle"
Copyright (C) 2023 The R Foundation for Statistical Computing
Platform: x86_64-pc-linux-gnu (64-bit)
R is free software and comes with ABSOLUTELY NO WARRANTY.
You are welcome to redistribute it under certain conditions.
Type 'license()' or 'licence()' for distribution details.
R is a collaborative project with many contributors.
Type 'contributors()' for more information and
'citation()' on how to cite R or R packages in publications.
Type 'demo()' for some demos, 'help()' for on-line help, or
'help.start()' for an HTML browser interface to help.
Type 'q()' to quit R.
> BiocGenerics:::testPackage('Rcpi')
RUNIT TEST PROTOCOL -- Mon Apr 10 23:20:10 2023
***********************************************
Number of test functions: 11
Number of errors: 0
Number of failures: 0
1 Test Suite :
Rcpi RUnit Tests - 11 test functions, 0 errors, 0 failures
Number of test functions: 11
Number of errors: 0
Number of failures: 0
>
> proc.time()
user system elapsed
6.373 0.339 5.196
Rcpi.Rcheck/Rcpi-Ex.timings
| name | user | system | elapsed | |
| AA2DACOR | 0.000 | 0.002 | 0.002 | |
| AA3DMoRSE | 0.001 | 0.000 | 0.001 | |
| AAACF | 0.001 | 0.000 | 0.001 | |
| AABLOSUM100 | 0.001 | 0.000 | 0.001 | |
| AABLOSUM45 | 0.001 | 0.000 | 0.000 | |
| AABLOSUM50 | 0.001 | 0.000 | 0.000 | |
| AABLOSUM62 | 0 | 0 | 0 | |
| AABLOSUM80 | 0 | 0 | 0 | |
| AABurden | 0 | 0 | 0 | |
| AACPSA | 0.000 | 0.000 | 0.001 | |
| AAConn | 0.000 | 0.000 | 0.001 | |
| AAConst | 0.001 | 0.000 | 0.001 | |
| AADescAll | 0.001 | 0.000 | 0.001 | |
| AAEdgeAdj | 0.001 | 0.000 | 0.001 | |
| AAEigIdx | 0.001 | 0.000 | 0.001 | |
| AAFGC | 0.001 | 0.000 | 0.001 | |
| AAGETAWAY | 0.000 | 0.001 | 0.001 | |
| AAGeom | 0.000 | 0.001 | 0.001 | |
| AAInfo | 0.000 | 0.001 | 0.001 | |
| AAMOE2D | 0.000 | 0.001 | 0.001 | |
| AAMOE3D | 0.001 | 0.000 | 0.001 | |
| AAMetaInfo | 0.001 | 0.000 | 0.000 | |
| AAMolProp | 0 | 0 | 0 | |
| AAPAM120 | 0 | 0 | 0 | |
| AAPAM250 | 0 | 0 | 0 | |
| AAPAM30 | 0 | 0 | 0 | |
| AAPAM40 | 0 | 0 | 0 | |
| AAPAM70 | 0 | 0 | 0 | |
| AARDF | 0.001 | 0.000 | 0.001 | |
| AARandic | 0.001 | 0.000 | 0.001 | |
| AATopo | 0.001 | 0.000 | 0.001 | |
| AATopoChg | 0.001 | 0.000 | 0.001 | |
| AAWHIM | 0.001 | 0.000 | 0.001 | |
| AAWalk | 0.001 | 0.000 | 0.001 | |
| AAindex | 0.001 | 0.000 | 0.001 | |
| OptAA3d | 0 | 0 | 0 | |
| acc | 0.008 | 0.000 | 0.008 | |
| calcDrugFPSim | 2.707 | 0.130 | 0.585 | |
| calcDrugMCSSim | 0.008 | 0.007 | 0.009 | |
| calcParProtGOSim | 0.000 | 0.003 | 0.001 | |
| calcParProtSeqSim | 0.008 | 0.000 | 0.005 | |
| calcTwoProtGOSim | 0.000 | 0.000 | 0.001 | |
| calcTwoProtSeqSim | 0.001 | 0.000 | 0.001 | |
| checkProt | 0.001 | 0.000 | 0.001 | |
| convMolFormat | 0.001 | 0.000 | 0.001 | |
| extractDrugAIO | 0 | 0 | 0 | |
| extractDrugALOGP | 0 | 0 | 0 | |
| extractDrugAminoAcidCount | 0 | 0 | 0 | |
| extractDrugApol | 0 | 0 | 0 | |
| extractDrugAromaticAtomsCount | 0.001 | 0.000 | 0.001 | |
| extractDrugAromaticBondsCount | 0.001 | 0.000 | 0.001 | |
| extractDrugAtomCount | 0.001 | 0.000 | 0.000 | |
| extractDrugAutocorrelationCharge | 0.001 | 0.000 | 0.001 | |
| extractDrugAutocorrelationMass | 0.001 | 0.000 | 0.001 | |
| extractDrugAutocorrelationPolarizability | 0 | 0 | 0 | |
| extractDrugBCUT | 0 | 0 | 0 | |
| extractDrugBPol | 0 | 0 | 0 | |
| extractDrugBondCount | 0.001 | 0.000 | 0.001 | |
| extractDrugCPSA | 0.001 | 0.000 | 0.001 | |
| extractDrugCarbonTypes | 0.001 | 0.000 | 0.001 | |
| extractDrugChiChain | 0.001 | 0.000 | 0.000 | |
| extractDrugChiCluster | 0 | 0 | 0 | |
| extractDrugChiPath | 0 | 0 | 0 | |
| extractDrugChiPathCluster | 0 | 0 | 0 | |
| extractDrugDescOB | 0.011 | 0.008 | 0.009 | |
| extractDrugECI | 0.000 | 0.000 | 0.001 | |
| extractDrugEstate | 0.000 | 0.000 | 0.001 | |
| extractDrugEstateComplete | 0.000 | 0.001 | 0.000 | |
| extractDrugExtended | 0.001 | 0.000 | 0.000 | |
| extractDrugExtendedComplete | 0.001 | 0.000 | 0.000 | |
| extractDrugFMF | 0.001 | 0.000 | 0.000 | |
| extractDrugFragmentComplexity | 0 | 0 | 0 | |
| extractDrugGraph | 0.000 | 0.000 | 0.001 | |
| extractDrugGraphComplete | 0.000 | 0.000 | 0.001 | |
| extractDrugGravitationalIndex | 0.001 | 0.000 | 0.000 | |
| extractDrugHBondAcceptorCount | 0.001 | 0.000 | 0.001 | |
| extractDrugHBondDonorCount | 0.000 | 0.000 | 0.001 | |
| extractDrugHybridization | 0.001 | 0.000 | 0.000 | |
| extractDrugHybridizationComplete | 0.001 | 0.000 | 0.000 | |
| extractDrugHybridizationRatio | 0.001 | 0.000 | 0.000 | |
| extractDrugIPMolecularLearning | 0.001 | 0.000 | 0.000 | |
| extractDrugKR | 0.000 | 0.000 | 0.001 | |
| extractDrugKRComplete | 0.000 | 0.000 | 0.001 | |
| extractDrugKappaShapeIndices | 0.000 | 0.000 | 0.001 | |
| extractDrugKierHallSmarts | 0.001 | 0.000 | 0.000 | |
| extractDrugLargestChain | 0.001 | 0.000 | 0.000 | |
| extractDrugLargestPiSystem | 0.001 | 0.000 | 0.000 | |
| extractDrugLengthOverBreadth | 0 | 0 | 0 | |
| extractDrugLongestAliphaticChain | 0 | 0 | 0 | |
| extractDrugMACCS | 0.000 | 0.000 | 0.001 | |
| extractDrugMACCSComplete | 0.000 | 0.001 | 0.001 | |
| extractDrugMDE | 0.000 | 0.000 | 0.001 | |
| extractDrugMannholdLogP | 0 | 0 | 0 | |
| extractDrugMomentOfInertia | 0.001 | 0.000 | 0.000 | |
| extractDrugOBFP2 | 0.019 | 0.005 | 0.023 | |
| extractDrugOBFP3 | 0.001 | 0.007 | 0.009 | |
| extractDrugOBFP4 | 0.007 | 0.008 | 0.014 | |
| extractDrugOBMACCS | 0.005 | 0.004 | 0.009 | |
| extractDrugPetitjeanNumber | 0.001 | 0.000 | 0.000 | |
| extractDrugPetitjeanShapeIndex | 0.001 | 0.000 | 0.001 | |
| extractDrugPubChem | 0.000 | 0.000 | 0.001 | |
| extractDrugPubChemComplete | 0.000 | 0.000 | 0.001 | |
| extractDrugRotatableBondsCount | 0 | 0 | 0 | |
| extractDrugRuleOfFive | 0.001 | 0.000 | 0.000 | |
| extractDrugShortestPath | 0.001 | 0.000 | 0.000 | |
| extractDrugShortestPathComplete | 0.001 | 0.000 | 0.000 | |
| extractDrugStandard | 0.000 | 0.000 | 0.001 | |
| extractDrugStandardComplete | 0.000 | 0.000 | 0.001 | |
| extractDrugTPSA | 0.000 | 0.000 | 0.001 | |
| extractDrugVABC | 0.001 | 0.000 | 0.000 | |
| extractDrugVAdjMa | 0.001 | 0.000 | 0.000 | |
| extractDrugWHIM | 0.001 | 0.000 | 0.000 | |
| extractDrugWeight | 0.000 | 0.000 | 0.001 | |
| extractDrugWeightedPath | 0.000 | 0.000 | 0.001 | |
| extractDrugWienerNumbers | 0 | 0 | 0 | |
| extractDrugXLogP | 0.001 | 0.000 | 0.000 | |
| extractDrugZagrebIndex | 0.001 | 0.000 | 0.000 | |
| extractPCMBLOSUM | 0.001 | 0.007 | 0.008 | |
| extractPCMDescScales | 0.009 | 0.000 | 0.010 | |
| extractPCMFAScales | 0.011 | 0.004 | 0.015 | |
| extractPCMMDSScales | 0.005 | 0.004 | 0.009 | |
| extractPCMPropScales | 0.025 | 0.000 | 0.024 | |
| extractPCMScales | 0.014 | 0.000 | 0.014 | |
| extractProtAAC | 0.002 | 0.000 | 0.002 | |
| extractProtAPAAC | 0.626 | 0.052 | 0.677 | |
| extractProtCTDC | 0.002 | 0.000 | 0.002 | |
| extractProtCTDD | 0.003 | 0.000 | 0.003 | |
| extractProtCTDT | 0.004 | 0.000 | 0.004 | |
| extractProtCTriad | 0.067 | 0.012 | 0.078 | |
| extractProtDC | 0.003 | 0.000 | 0.004 | |
| extractProtGeary | 0.093 | 0.000 | 0.093 | |
| extractProtMoran | 0.083 | 0.004 | 0.086 | |
| extractProtMoreauBroto | 0.088 | 0.000 | 0.088 | |
| extractProtPAAC | 0.320 | 0.000 | 0.318 | |
| extractProtPSSM | 0.001 | 0.000 | 0.001 | |
| extractProtPSSMAcc | 0.001 | 0.000 | 0.001 | |
| extractProtPSSMFeature | 0.001 | 0.000 | 0.001 | |
| extractProtQSO | 0.504 | 0.039 | 0.544 | |
| extractProtSOCN | 0.517 | 0.001 | 0.517 | |
| extractProtTC | 0.025 | 0.016 | 0.040 | |
| getCPI | 0.002 | 0.000 | 0.002 | |
| getDrug | 0 | 0 | 0 | |
| getFASTAFromKEGG | 0 | 0 | 0 | |
| getFASTAFromUniProt | 0 | 0 | 0 | |
| getMolFromCAS | 0.001 | 0.000 | 0.000 | |
| getMolFromChEMBL | 0 | 0 | 0 | |
| getMolFromDrugBank | 0 | 0 | 0 | |
| getMolFromKEGG | 0 | 0 | 0 | |
| getMolFromPubChem | 0 | 0 | 0 | |
| getPDBFromRCSBPDB | 0.001 | 0.000 | 0.000 | |
| getPPI | 0.002 | 0.000 | 0.002 | |
| getProt | 0 | 0 | 0 | |
| getSeqFromKEGG | 0 | 0 | 0 | |
| getSeqFromRCSBPDB | 0 | 0 | 0 | |
| getSeqFromUniProt | 0.000 | 0.000 | 0.001 | |
| getSmiFromChEMBL | 0 | 0 | 0 | |
| getSmiFromDrugBank | 0 | 0 | 0 | |
| getSmiFromKEGG | 0 | 0 | 0 | |
| getSmiFromPubChem | 0 | 0 | 0 | |
| readFASTA | 0.001 | 0.000 | 0.001 | |
| readMolFromSDF | 0.001 | 0.000 | 0.001 | |
| readMolFromSmi | 0 | 0 | 0 | |
| readPDB | 0.778 | 0.008 | 0.785 | |
| searchDrug | 0.002 | 0.000 | 0.001 | |
| segProt | 0.002 | 0.000 | 0.002 | |